Workbook

Sheet 00_Introduzione
A1: V Rapporto Annuale 2025 - OsservaBiella
A2: Dati socio-demografici | B2: Il Rapporto è introdotto da un capitolo che contiene i più significativi indicatori socio-demografici relativi alla Provincia di Biella, alla Regione Piemonte e all’Italia. Il capitolo è pensato per descrivere lo scenario locale nel suo complesso e provare a posizionarlo rispetto al contesto regionale e nazionale; si propone, inoltre, come chiave di lettura utile all'interpretazione degli indicatori contenuti negli altri capitoli. In questa prima sezione trovano spazio dati relativi alla popolazione residente e alla sua struttura demografica. Sono inoltre presenti i principali indicatori e indici statistici demografici relativi alla mortalità, alla fecondità, alla presenza di persone anziane e straniere.
A3: Elaborazione a cura del Laboratorio Percorsi di secondo welfare | B3: Celestina Valeria De Tommaso, valeria.detommaso@secondowelfare.it Franca Maino, franca.maino@secondowelfare.it Alice Fanelli, alice.fanelli@secondowelfare.it
A4: Responsabile OsservaBiella - Osservatorio territoriale del Biellese per la Fondazione Cassa di Risparmio di Biella) | B4: Sara Diritti, sara.diritti@fondazionecrbiella.it
A5: Come citare | B5: OsservaBiella – Osservatorio territoriale del Biellese (2025), V Rapporto annuale 2025, Fondazione Cassa di Risparmio di Biella.
A7: Riepilogo degli indicatori del Capitolo Socio-Demo
A8: Numero indicatore | B8: Gruppo/categoria | C8: Indicatore | D8: Annualità di riferimento | E8: Fonte
A9: 1 | B9: Struttura della popolazione | C9: Popolazione residente | D9: 2019-2025 | E9: Istat
A10: 2 | C10: Densità della popolazione | D10: 2018-2025 | E10: Istat
A11: 3 | C11: Struttura demografica della popolazione | D11: 2019-2025 | E11: Istat
A12: 4 | C12: Cittadini stranieri residenti | D12: 2019-2025 | E12: Istat
A13: 5 | C13: Minori stranieri residenti | D13: 2019-2025 | E13: Istat
A14: 6 | C14: Stranieri residenti ogni 100 residenti | D14: 2019-2025 | E14: Istat
A15: 7 | B15: Indicatori demografici | C15: Tasso di mortalità | D15: 2002-2024 | E15: Istat
A16: 8 | C16: Tasso di natalità | D16: 2002-2024 | E16: Istat
A17: 9 | C17: Saldo migratorio | D17: 2002-2024 | E17: Istat
A18: 10 | C18: Età media delle donne al primo parto | D18: 2002-2024 | E18: Istat
A19: 11 | C19: Numero medio di figli per donna | D19: 2002-2024 | E19: Istat
A20: 12 | C20: Età media | D20: 2002-2025 | E20: Istat
A21: 13 | C21: Indice di vecchiaia | D21: 2002-2025 | E21: Istat
A22: 14 | C22: Indice di dipendenza strutturale | D22: 2002-2025 | E22: Istat
A23: 15 | C23: Indice di dipendenza degli anziani | D23: 2002-2025 | E23: Istat

Sheet Indicatore 1_Popolazione reside
A1: Popolazione residente (2019-2025)
B3: 2019 | D3: 2020 | F3: 2021 | H3: 2022 | J3: 2023 | L3: 2024 | N3: 2025
B4: v.a. | C4: inc. % sul totale della popolazione italiana | D4: v.a. | E4: inc. % sul totale della popolazione italiana | F4: v.a. | G4: inc. % sul totale della popolazione italiana | H4: v.a. | I4: inc. % sul totale della popolazione italiana | J4: v.a. | K4: inc. % sul totale della popolazione italiana | L4: v.a. | M4: inc. % sul totale della popolazione italiana | N4: v.a. | O4: inc. % sul totale della popolazione italiana
A5: Italia | B5: 59816673 | C5: 1 | D5: 59641488 | E5: 1 | F5: 59236213 | G5: 1 | H5: 58983122 | I5: 1 | J5: 58997201 | K5: 1 | L5: 58971230 | M5: 1 | N5: 58934177 | O5: =N5/N5 -> 1
A6: Piemonte | B6: 4328565 | C6: =B6/$B$5 -> 0.072363854 | D6: 4311217 | E6: =D6/$D$5 -> 0.072285537 | F6: 4274945 | G6: =F6/$F$5 -> 0.072167763 | H6: 4252279 | I6: =H6/H5 -> 0.072093149 | J6: 4251351 | K6: =J6/J5 -> 0.072060215 | L6: 4251623 | M6: =L6/L5 -> 0.072096563 | N6: 4255702 | O6: =N6/N5 -> 0.072211104
A7: Biella | B7: 175341 | C7: =B7/$B$5 -> 0.0029313065 | D7: 174170 | E7: =D7/$D$5 -> 0.0029202826 | F7: 170724 | G7: =F7/$F$5 -> 0.0028820884 | H7: 169560 | I7: =H7/H5 -> 0.0028747207 | J7: 169106 | K7: =J7/J5 -> 0.0028663394 | L7: 168583 | M7: =L7/L5 -> 0.002858733 | N7: 168257 | O7: =N7/N5 -> 0.0028549987
A8: Fonte: elaborazione su dati Istat.
A9: Note: Popolazione residente al 1° gennaio dell'anno di riferimento. Le incidenze percentuali della popolazione residente a livello provinciale e regionale sono calcolate sul totale della popolazione residente in Italia. I dati 2025 sono previsionali.
A11: Popolazione residente su scala nazionale, regionale e provinciale, per genere (2019-2025)
B13: 2019 | F13: 2020 | J13: 2021 | N13: 2022 | R13: 2023 | V13: 2024 | Z13: 2025
B14: Uomini | D14: Donne | F14: Uomini | H14: Donne | J14: Uomini | L14: Donne | N14: Uomini | P14: Donne | R14: Uomini | T14: Donne | V14: Uomini | X14: Donne | Z14: Uomini | AB14: Donne
B15: v.a. | C15: inc. % | D15: v.a. | E15: inc. % | F15: v.a. | G15: inc. % | H15: v.a. | I15: inc. % | J15: v.a. | K15: inc. % | L15: v.a. | M15: inc. % | N15: v.a. | O15: inc. % | P15: v.a. | Q15: inc. % | R15: v.a. | S15: inc. % | T15: v.a. | U15: inc. % | V15: v.a. | W15: inc. % | X15: v.a. | Y15: inc. % | Z15: v.a. | AA15: inc. % | AB15: v.a. | AC15: inc. %
A16: Italia | B16: 29131195 | C16: =B16/B5 -> 0.48700795 | D16: 30685478 | E16: =D16/B5 -> 0.51299205 | F16: 29050096 | G16: =F16/D5 -> 0.48707866 | H16: 30591392 | I16: =H16/D5 -> 0.51292134 | J16: 28866226 | K16: =J16/F5 -> 0.48730708 | L16: 30369987 | M16: =L16/F5 -> 0.51269292 | N16: 28747417 | O16: =N16/H5 -> 0.48738378 | P16: 30235705 | Q16: =P16/H5 -> 0.51261622 | R16: 28814832 | S16: =R16/J5 -> 0.48841015 | T16: 30182369 | U16: =T16/J5 -> 0.51158985 | V16: 28846728 | W16: =V16/L5 -> 0.48916612 | X16: 30124502 | Y16: =X16/L5 -> 0.51083388 | Z16: 28876799 | AA16: =Z16/N5 -> 0.48998392 | AB16: 30057378 | AC16: =AB16/N5 -> 0.51001608
A17: Piemonte | B17: 2103024 | C17: =B17/B6 -> 0.48584785 | D17: 2225541 | E17: =D17/B6 -> 0.51415215 | F17: 2095058 | G17: =F17/D6 -> 0.48595513 | H17: 2216159 | I17: =H17/D6 -> 0.51404487 | J17: 2079401 | K17: =J17/F6 -> 0.48641585 | L17: 2195544 | M17: =L17/F6 -> 0.51358415 | N17: 2068986 | O17: =N17/H6 -> 0.48655932 | P17: 2183293 | Q17: =P17/H6 -> 0.51344068 | R17: 2072771 | S17: =R17/J6 -> 0.48755584 | T17: 2178580 | U17: =T17/J6 -> 0.51244416 | V17: 2077302 | W17: =V17/L6 -> 0.48859036 | X17: 2174321 | Y17: =X17/L6 -> 0.51140964 | Z17: 2083188 | AA17: =Z17/N6 -> 0.48950514 | AB17: 2172514 | AC17: =AB17/N6 -> 0.51049486
A18: Biella | B18: 84295 | C18: =B18/B7 -> 0.48074894 | D18: 91046 | E18: =D18/B7 -> 0.51925106 | F18: 83781 | G18: =F18/D7 -> 0.48103003 | H18: 90389 | I18: =H18/D7 -> 0.51896997 | J18: 82112 | K18: =J18/F7 -> 0.48096343 | L18: 88612 | M18: =L18/F7 -> 0.51903657 | N18: 81730 | O18: =N18/H7 -> 0.48201227 | P18: 87830 | Q18: =P18/H7 -> 0.51798773 | R18: 81705 | S18: =R18/J7 -> 0.48315849 | T18: 87401 | U18: =T18/J7 -> 0.51684151 | V18: 81578 | W18: =V18/L7 -> 0.48390407 | X18: 87005 | Y18: =X18/L7 -> 0.51609593 | Z18: 81676 | AA18: =Z18/N7 -> 0.48542408 | AB18: 86581 | AC18: =AB18/N7 -> 0.51457592
A19: Fonte: elaborazione su dati Istat
A20: Note: Popolazione residente al 1° gennaio dell'anno di riferimento. Le incidenze percentuali della popolazione residente a livello provinciale e regionale sono calcolate sul totale della popolazione residente in Italia. I dati 2025 sono previsionali.

Sheet Indicatore 2_Densità popolazion
A1: Popolazione residente e densità della popolazione (2018-2025)
B3: 2018 | E3: 2019 | H3: 2020 | K3: 2021 | N3: 2022 | Q3: 2023 | T3: 2024 | W3: 2025
B4: Popolazione residente | C4: Superficie territoriale (Kmq) | D4: Densità popolazione/kmq | E4: Popolazione residente | F4: Superficie territoriale (Kmq) | G4: Densità popolazione/kmq | H4: Popolazione residente | I4: Superficie territoriale (Kmq) | J4: Densità popolazione/kmq | K4: Popolazione residente | L4: Superficie territoriale (Kmq) | M4: Densità popolazione/kmq | N4: Popolazione residente | O4: Superficie territoriale (Kmq) | P4: Densità popolazione/kmq | Q4: Popolazione residente | R4: Superficie territoriale (Kmq) | S4: Densità popolazione/kmq | T4: Popolazione residente | U4: Superficie territoriale (Kmq) | V4: Densità popolazione/kmq | W4: Popolazione residente | X4: Superficie territoriale (Kmq) | Y4: Densità popolazione/kmq
A6: Alessandria | B6: 423296 | C6: 3558.8268 | D6: =B6/C6 -> 118.94257 | E6: 420300 | F6: 3558.8268 | G6: =E6/F6 -> 118.10072 | H6: 417288 | I6: 3558.8268 | J6: =H6/I6 -> 117.25437 | K6: 405701 | L6: 3558.78 | M6: =K6/L6 -> 114.00002 | N6: 407264 | O6: 3558.78 | P6: =N6/O6 -> 114.43922 | Q6: 406494 | R6: 3558.78 | S6: =Q6/R6 -> 114.22285 | T6: 406385 | U6: 3558.7881 | V6: =T6/U6 -> 114.19196 | W6: 407029 | X6: 3558.7881 | Y6: =W6/X6 -> 114.37292
A7: Asti | B7: 214897 | C7: 1510.1925 | D7: =B7/C7 -> 142.29775 | E7: 213504 | F7: 1510.1925 | G7: =E7/F7 -> 141.37535 | H7: 212010 | I7: 1510.1925 | J7: =H7/I7 -> 140.38608 | K7: 207446 | L7: 1510.17 | M7: =K7/L7 -> 137.36599 | N7: 208286 | O7: 1510.17 | P7: =N7/O7 -> 137.92222 | Q7: 207951 | R7: 1510.17 | S7: =Q7/R7 -> 137.70039 | T7: 207239 | U7: 1510.1731 | V7: =T7/U7 -> 137.22864 | W7: 207310 | X7: 1510.1731 | Y7: =W7/X7 -> 137.27565
A8: Biella | B8: 176737 | C8: 913.2839 | D8: =B8/C8 -> 193.51814 | E8: 175341 | F8: 913.2839 | G8: =E8/F8 -> 191.98959 | H8: 174170 | I8: 913.2839 | J8: =H8/I8 -> 190.7074 | K8: 168823 | L8: 913.27 | M8: =K8/L8 -> 184.85552 | N8: 170027 | O8: 913.27 | P8: =N8/O8 -> 186.17386 | Q8: 169106 | R8: 913.27 | S8: =Q8/R8 -> 185.16539 | T8: 168583 | U8: 913.2699 | V8: =T8/U8 -> 184.59275 | W8: 168257 | X8: 913.2699 | Y8: =W8/X8 -> 184.23579
A9: Cuneo | B9: 588639 | C9: 6905 | D9: =B9/C9 -> 85.248226 | E9: 587213 | F9: 6905 | G9: =E9/F9 -> 85.041709 | H9: 586113 | I9: 6905 | J9: =H9/I9 -> 84.882404 | K9: 579948 | L9: 6894 | M9: =K9/L9 -> 84.123586 | N9: 580155 | O9: 6894 | P9: =N9/O9 -> 84.153612 | Q9: 580736 | R9: 6894 | S9: =Q9/R9 -> 84.237888 | T9: 581631 | U9: 6894.8232 | V9: =T9/U9 -> 84.357638 | W9: 581676 | X9: 6894.8232 | Y9: =W9/X9 -> 84.364165
A10: Novara | B10: 366691 | C10: 1340.2835 | D10: =B10/C10 -> 273.59212 | E10: 365773 | F10: 1340.2835 | G10: =E10/F10 -> 272.90719 | H10: 364980 | I10: 1340.2835 | J10: =H10/I10 -> 272.31552 | K10: 361394 | L10: 1340.25 | M10: =K10/L10 -> 269.64671 | N10: 361916 | O10: 1340.25 | P10: =N10/O10 -> 270.03619 | Q10: 362502 | R10: 1340.25 | S10: =Q10/R10 -> 270.47342 | T10: 363482 | U10: 1340.2472 | V10: =T10/U10 -> 271.20519 | W10: 364478 | X10: 1340.2472 | Y10: =W10/X10 -> 271.94834
A11: Torino | B11: 2249616 | C11: 6821 | D11: =B11/C11 -> 329.80736 | E11: 2238663 | F11: 6821 | G11: =E11/F11 -> 328.20158 | H11: 2230946 | I11: 6821 | J11: =H11/I11 -> 327.07022 | K11: 2198237 | L11: 6826.91 | M11: =K11/L11 -> 321.9959 | N11: 2208370 | O11: 6826.91 | P11: =N11/O11 -> 323.48017 | Q11: 2204632 | R11: 6826.91 | S11: =Q11/R11 -> 322.93263 | T11: 2204837 | U11: 6826.9298 | V11: =T11/U11 -> 322.96172 | W11: 2207873 | X11: 6826.9298 | Y11: =W11/X11 -> 323.40643
A12: Verbano C.O. | B12: 158131 | C12: 2260.909 | D12: =B12/C12 -> 69.941338 | E12: 157278 | F12: 2260.909 | G12: =E12/F12 -> 69.564056 | H12: 156320 | I12: 2260.909 | J12: =H12/I12 -> 69.140332 | K12: 153682 | L12: 2260.89 | M12: =K12/L12 -> 67.974116 | N12: 154249 | O12: 2260.89 | P12: =N12/O12 -> 68.224903 | Q12: 154038 | R12: 2260.89 | S12: =Q12/R12 -> 68.131576 | T12: 153762 | U12: 2260.8919 | V12: =T12/U12 -> 68.009444 | W12: 153201 | X12: 2260.8919 | Y12: =W12/X12 -> 67.761311
A13: Vercelli | B13: 171904 | C13: 2081.6357 | D13: =B13/C13 -> 82.581212 | E13: 170493 | F13: 2081.6357 | G13: =E13/F13 -> 81.90338 | H13: 169390 | I13: 2081.6357 | J13: =H13/I13 -> 81.373508 | K13: 165505 | L13: 2081.6 | M13: =K13/L13 -> 79.508551 | N13: 166083 | O13: 2081.6 | P13: =N13/O13 -> 79.786222 | Q13: 165892 | R13: 2081.6 | S13: =Q13/R13 -> 79.694466 | T13: 165704 | U13: 2081.6048 | V13: =T13/U13 -> 79.603967 | W13: 165878 | X13: 2081.6048 | Y13: =W13/X13 -> 79.687556
A14: Piemonte | B14: 4349911 | C14: 25387.069 | D14: =B14/C14 -> 171.34357 | E14: 4328565 | F14: 25387.069 | G14: =E14/F14 -> 170.50275 | H14: 4311217 | I14: 25387.069 | J14: =H14/I14 -> 169.81941 | K14: 4240736 | L14: 25386.7 | M14: =K14/L14 -> 167.04558 | N14: 4256350 | O14: 25386.7 | P14: =N14/O14 -> 167.66063 | Q14: 4251351 | R14: 25386.7 | S14: =Q14/R14 -> 167.46371 | T14: 4251623 | U14: 25386.728 | V14: =T14/U14 -> 167.47424 | W14: 4255702 | X14: 25386.728 | Y14: =W14/X14 -> 167.63492
A15: Italia | B15: 59937769 | C15: 301340 | D15: =B15/C15 -> 198.90412 | E15: 59816673 | F15: 301340 | G15: =E15/F15 -> 198.50227 | H15: 59641488 | I15: 301340 | J15: =H15/I15 -> 197.92091 | K15: 58850717 | L15: 302068.26 | M15: =K15/L15 -> 194.82589 | N15: 59030133 | O15: 302068.26 | P15: =N15/O15 -> 195.41985 | Q15: 58997201 | R15: 302068.26 | S15: =Q15/R15 -> 195.31082 | T15: 58971230 | U15: 302109.57 | V15: =T15/U15 -> 195.19815 | W15: 58934177 | X15: 302109.57 | Y15: =W15/X15 -> 195.07551
A16: Fonte: elaborazione su dati Istat

Sheet Indicatore 3_Struttura demograf
A1: Struttura demografica della popolazione in Italia, Piemonte e Provincia di Biella per fascia di età (2019-2025)
C2: 2019 | I2: 2020 | O2: 2021 | U2: 2022 | AA2: 2023 | AG2: 2024 | AM2: 2025
C3: Uomini | E3: Donne | G3: Totale | I3: Uomini | K3: Donne | M3: Totale | O3: Uomini | Q3: Donne | S3: Totale | U3: Uomini | W3: Donne | Y3: Totale | AA3: Uomini | AC3: Donne | AE3: Totale | AG3: Uomini | AI3: Donne | AK3: Totale | AM3: Uomini | AO3: Donne | AQ3: Totale
C4: v.a. | D4: % | E4: v.a. | F4: % | G4: v.a. | H4: % | I4: v.a. | J4: % | K4: v.a. | L4: % | M4: v.a. | N4: % | O4: v.a. | P4: % | Q4: v.a. | R4: % | S4: v.a. | T4: % | U4: v.a. | V4: % | W4: v.a. | X4: % | Y4: v.a. | Z4: % | AA4: v.a. | AB4: % | AC4: v.a. | AD4: % | AE4: v.a. | AF4: % | AG4: v.a. | AH4: % | AI4: v.a. | AJ4: % | AK4: v.a. | AL4: % | AM4: v.a. | AN4: % | AO4: v.a. | AP4: % | AQ4: v.a. | AR4: %
A5: Italia | B5: 0-4 | C5: 1202154 | D5: =C5/$C$26 -> 0.041266896 | E5: 1136598 | F5: =E5/$E$26 -> 0.037040257 | G5: =SUM(C5,E5) -> 2338752 | H5: =G5/$G$26 -> 0.039098664 | I5: 1163198 | J5: =I5/$I$26 -> 0.040041107 | K5: 1101340 | L5: =K5/$K$26 -> 0.036001631 | M5: =SUM(I5,K5) -> 2264538 | N5: =M5/$M$26 -> 0.037969173 | O5: 1138845 | P5: =O5/$O$26 -> 0.039452508 | Q5: 1077665 | R5: =Q5/$Q$26 -> 0.035484539 | S5: =SUM(O5,Q5) -> 2216510 | T5: =S5/$S$26 -> 0.037418158 | U5: 1100738 | V5: =U5/$U$26 -> 0.038289979 | W5: 1040948 | X5: =W5/$W$26 -> 0.034427773 | Y5: =SUM(U5,W5) -> 2141686 | Z5: =Y5/$Y$26 -> 0.03631015 | AA5: 1070488 | AB5: =AA5/$AA$26 -> 0.037235195 | AC5: 1010980 | AD5: =AC5/$AC$26 -> 0.03358586 | AE5: 2081468 | AF5: =AE5/$AE$26 -> 0.035368609 | AG5: 1044103 | AH5: =AG5/$AG$26 -> 0.03619485 | AI5: 987373 | AJ5: =AI5/$AI$26 -> 0.032776409 | AK5: 2031476 | AL5: =AK5/$AK$26 -> 0.034448595 | AM5: 1021486 | AN5: =AM5/$AM$26 -> 0.035373935 | AO5: 961242 | AP5: =AO5/$AO$26 -> 0.031980235 | AQ5: 1982728 | AR5: =AQ5/$AQ$26 -> 0.033643093
B6: 44444 | C6: 1384656 | D6: =C6/$C$26 -> 0.047531727 | E6: 1306617 | F6: =E6/$E$26 -> 0.042580956 | G6: =SUM(C6,E6) -> 2691273 | H6: =G6/$G$26 -> 0.044992021 | I6: 1352240 | J6: =I6/$I$26 -> 0.046548555 | K6: 1275716 | L6: =K6/$K$26 -> 0.041701796 | M6: =SUM(I6,K6) -> 2627956 | N6: =M6/$M$26 -> 0.044062549 | O6: 1326061 | P6: =O6/$O$26 -> 0.045938149 | Q6: 1252279 | R6: =Q6/$Q$26 -> 0.041234097 | S6: =SUM(O6,Q6) -> 2578340 | T6: =S6/$S$26 -> 0.043526415 | U6: 1296442 | V6: =U6/$O$26 -> 0.044912071 | W6: 1224714 | X6: =W6/$Q$26 -> 0.040326458 | Y6: =SUM(U6,W6) -> 2521156 | Z6: =Y6/$S$26 -> 0.04256106 | AA6: 1265463 | AB6: =AA6/$AA$26 -> 0.044017086 | AC6: 1195355 | AD6: =AC6/$AC$26 -> 0.039710999 | AE6: =SUM(AA6,AC6) -> 2460818 | AF6: =AE6/$AE$26 -> 0.04181458 | AG6: 1239204 | AH6: =AG6/$AG$26 -> 0.042958217 | AI6: 1170468 | AJ6: =AI6/$AI$26 -> 0.038854352 | AK6: 2409672 | AL6: =AK6/$AK$26 -> 0.040861824 | AM6: 1206391 | AN6: =AM6/$AM$26 -> 0.041777172 | AO6: 1136485 | AP6: =AO6/$AO$26 -> 0.037810517 | AQ6: 2342876 | AR6: =AQ6/$AQ$26 -> 0.039754114
B7: 10-14 | C7: 1463509 | D7: =C7/$C$26 -> 0.05023855 | E7: 1378353 | F7: =E7/$E$26 -> 0.04491874 | G7: =SUM(C7,E7) -> 2841862 | H7: =G7/$G$26 -> 0.04750953 | I7: 1460449 | J7: =I7/$I$26 -> 0.050273466 | K7: 1374611 | L7: =K7/$K$26 -> 0.044934569 | M7: =SUM(I7,K7) -> 2835060 | N7: =M7/$M$26 -> 0.047535031 | O7: 1463873 | P7: =O7/$O$26 -> 0.05071231 | Q7: 1377822 | R7: =Q7/$Q$26 -> 0.045367882 | S7: =SUM(O7,Q7) -> 2841695 | T7: =S7/$S$26 -> 0.04797226 | U7: 1449329 | V7: =U7/$O$26 -> 0.050208469 | W7: 1364496 | X7: =W7/$Q$26 -> 0.044929094 | Y7: =SUM(U7,W7) -> 2813825 | Z7: =Y7/$S$26 -> 0.047501771 | AA7: 1437379 | AB7: =AA7/$AA$26 -> 0.049996906 | AC7: 1354509 | AD7: =AC7/$AC$26 -> 0.044998269 | AE7: =SUM(AA7,AC7) -> 2791888 | AF7: =AE7/$AE$26 -> 0.04744017 | AG7: 1413544 | AH7: =AG7/$AG$26 -> 0.049001883 | AI7: 1331575 | AJ7: =AI7/$AI$26 -> 0.04420239 | AK7: 2745119 | AL7: =AK7/$AK$26 -> 0.04655014 | AM7: 1388787 | AN7: =AM7/$AM$26 -> 0.048093523 | AO7: 1304774 | AP7: =AO7/$AO$26 -> 0.043409442 | AQ7: 2693561 | AR7: =AQ7/$AQ$26 -> 0.045704566
B8: 15-19 | C8: 1491241 | D8: =C8/$C$26 -> 0.051190519 | E8: 1382435 | F8: =E8/$E$26 -> 0.045051767 | G8: =SUM(C8,E8) -> 2873676 | H8: =G8/$G$26 -> 0.048041388 | I8: 1485465 | J8: =I8/$I$26 -> 0.051134599 | K8: 1385591 | L8: =K8/$K$26 -> 0.045293493 | M8: =SUM(I8,K8) -> 2871056 | N8: =M8/$M$26 -> 0.048138571 | O8: 1476815 | P8: =O8/$O$26 -> 0.051160654 | Q8: 1380198 | R8: =Q8/$Q$26 -> 0.045446118 | S8: =SUM(O8,Q8) -> 2857013 | T8: =S8/$S$26 -> 0.048230852 | U8: 1478733 | V8: =U8/$O$26 -> 0.051227098 | W8: 1384852 | X8: =W8/$Q$26 -> 0.045599361 | Y8: =SUM(U8,W8) -> 2863585 | Z8: =Y8/$S$26 -> 0.048341797 | AA8: 1492248 | AB8: =AA8/$AA$26 -> 0.051905436 | AC8: 1395967 | AD8: =AC8/$AC$26 -> 0.046375549 | AE8: =SUM(AA8,AC8) -> 2888215 | AF8: =AE8/$AE$26 -> 0.049076972 | AG8: 1515176 | AH8: =AG8/$AG$26 -> 0.052525056 | AI8: 1406085 | AJ8: =AI8/$AI$26 -> 0.046675792 | AK8: 2921261 | AL8: =AK8/$AK$26 -> 0.049537054 | AM8: 1515055 | AN8: =AM8/$AM$26 -> 0.052466168 | AO8: 1407414 | AP8: =AO8/$AO$26 -> 0.046824244 | AQ8: 2922469 | AR8: =AQ8/$AQ$26 -> 0.049588696
B9: 20-24 | C9: 1552308 | D9: =C9/$C$26 -> 0.053286794 | E9: 1409999 | F9: =E9/$E$26 -> 0.045950042 | G9: =SUM(C9,E9) -> 2962307 | H9: =G9/$G$26 -> 0.049523099 | I9: 1549020 | J9: =I9/$I$26 -> 0.053322371 | K9: 1406868 | L9: =K9/$K$26 -> 0.045989015 | M9: =SUM(I9,K9) -> 2955888 | N9: =M9/$M$26 -> 0.049560937 | O9: 1549500 | P9: =O9/$O$26 -> 0.053678649 | Q9: 1407840 | R9: =Q9/$Q$26 -> 0.046356292 | S9: =SUM(O9,Q9) -> 2957340 | T9: =S9/$S$26 -> 0.049924528 | U9: 1547114 | V9: =U9/$O$26 -> 0.053595991 | W9: 1412395 | X9: =W9/$Q$26 -> 0.046506276 | Y9: =SUM(U9,W9) -> 2959509 | Z9: =Y9/$S$26 -> 0.049961145 | AA9: 1531045 | AB9: =AA9/$AA$26 -> 0.053254926 | AC9: 1400512 | AD9: =AC9/$AC$26 -> 0.046526539 | AE9: =SUM(AA9,AC9) -> 2931557 | AF9: =AE9/$AE$26 -> 0.049813446 | AG9: 1544804 | AH9: =AG9/$AG$26 -> 0.053552139 | AI9: 1405555 | AJ9: =AI9/$AI$26 -> 0.046658199 | AK9: 2950359 | AL9: =AK9/$AK$26 -> 0.050030481 | AM9: 1564420 | AN9: =AM9/$AM$26 -> 0.054175672 | AO9: 1424340 | AP9: =AO9/$AO$26 -> 0.047387367 | AQ9: 2988760 | AR9: =AQ9/$AQ$26 -> 0.050713527
B10: 25-29 | C10: 1627406 | D10: =C10/$C$26 -> 0.055864718 | E10: 1548193 | F10: =E10/$E$26 -> 0.050453605 | G10: =SUM(C10,E10) -> 3175599 | H10: =G10/$G$26 -> 0.05308886 | I10: 1605444 | J10: =I10/$I$26 -> 0.055264671 | K10: 1523050 | L10: =K10/$K$26 -> 0.049786881 | M10: =SUM(I10,K10) -> 3128494 | N10: =M10/$M$26 -> 0.052454996 | O10: 1566265 | P10: =O10/$O$26 -> 0.054259431 | Q10: 1479314 | R10: =Q10/$Q$26 -> 0.048709734 | S10: =SUM(O10,Q10) -> 3045579 | T10: =S10/$S$26 -> 0.051414141 | U10: 1563016 | V10: =U10/$O$26 -> 0.054146877 | W10: 1465143 | X10: =W10/$Q$26 -> 0.048243122 | Y10: =SUM(U10,W10) -> 3028159 | Z10: =Y10/$S$26 -> 0.051120064 | AA10: 1549405 | AB10: =AA10/$AA$26 -> 0.053893549 | AC10: 1438852 | AD10: =AC10/$AC$26 -> 0.047800235 | AE10: =SUM(AA10,AC10) -> 2988257 | AF10: =AE10/$AE$26 -> 0.0507769 | AG10: 1575454 | AH10: =AG10/$AG$26 -> 0.054614652 | AI10: 1436757 | AJ10: =AI10/$AI$26 -> 0.047693967 | AK10: 3012211 | AL10: =AK10/$AK$26 -> 0.051079331 | AM10: 1607509 | AN10: =AM10/$AM$26 -> 0.055667839 | AO10: 1444289 | AP10: =AO10/$AO$26 -> 0.048051064 | AQ10: 3051798 | AR10: =AQ10/$AQ$26 -> 0.051783161
B11: 30-34 | C11: 1677573 | D11: =C11/$C$26 -> 0.057586824 | E11: 1642927 | F11: =E11/$E$26 -> 0.053540864 | G11: =SUM(C11,E11) -> 3320500 | H11: =G11/$G$26 -> 0.055511279 | I11: 1658749 | J11: =I11/$I$26 -> 0.057099605 | K11: 1623692 | L11: =K11/$K$26 -> 0.053076761 | M11: =SUM(I11,K11) -> 3282441 | N11: =M11/$M$26 -> 0.055036202 | O11: 1633887 | P11: =O11/$O$26 -> 0.05660203 | Q11: 1592259 | R11: =Q11/$Q$26 -> 0.052428702 | S11: =SUM(O11,Q11) -> 3226146 | T11: =S11/$S$26 -> 0.054462394 | U11: 1632947 | V11: =U11/$O$26 -> 0.056569466 | W11: 1583521 | X11: =W11/$Q$26 -> 0.052140984 | Y11: =SUM(U11,W11) -> 3216468 | Z11: =Y11/$S$26 -> 0.054299015 | AA11: 1638682 | AB11: =AA11/$AA$26 -> 0.056998906 | AC11: 1577298 | AD11: =AC11/$AC$26 -> 0.052399563 | AE11: =SUM(AA11,AC11) -> 3215980 | AF11: =AE11/$AE$26 -> 0.054646403 | AG11: 1643289 | AH11: =AG11/$AG$26 -> 0.056966218 | AI11: 1570048 | AJ11: =AI11/$AI$26 -> 0.052118638 | AK11: 3213337 | AL11: =AK11/$AK$26 -> 0.05448991 | AM11: 1651619 | AN11: =AM11/$AM$26 -> 0.057195363 | AO11: 1552073 | AP11: =AO11/$AO$26 -> 0.051637006 | AQ11: 3203692 | AR11: =AQ11/$AQ$26 -> 0.054360511
B12: 35-39 | C12: 1833356 | D12: =C12/$C$26 -> 0.062934459 | E12: 1821377 | F12: =E12/$E$26 -> 0.059356318 | G12: =SUM(C12,E12) -> 3654733 | H12: =G12/$G$26 -> 0.061098901 | I12: 1792981 | J12: =I12/$I$26 -> 0.061720312 | K12: 1779210 | L12: =K12/$K$26 -> 0.058160479 | M12: =SUM(I12,K12) -> 3572191 | N12: =M12/$M$26 -> 0.059894398 | O12: 1747529 | P12: =O12/$O$26 -> 0.06053888 | Q12: 1735723 | R12: =Q12/$Q$26 -> 0.057152576 | S12: =SUM(O12,Q12) -> 3483252 | T12: =S12/$S$26 -> 0.058802746 | U12: 1712455 | V12: =U12/$O$26 -> 0.059323827 | W12: 1697451 | X12: =W12/$Q$26 -> 0.055892385 | Y12: =SUM(U12,W12) -> 3409906 | Z12: =Y12/$S$26 -> 0.057564551 | AA12: 1686199 | AB12: =AA12/$AA$26 -> 0.058651708 | AC12: 1661407 | AD12: =AC12/$AC$26 -> 0.055193756 | AE12: =SUM(AA12,AC12) -> 3347606 | AF12: =AE12/$AE$26 -> 0.056883011 | AG12: 1694951 | AH12: =AG12/$AG$26 -> 0.058757132 | AI12: 1662150 | AJ12: =AI12/$AI$26 -> 0.055176016 | AK12: 3357101 | AL12: =AK12/$AK$26 -> 0.056927776 | AM12: 1694853 | AN12: =AM12/$AM$26 -> 0.058692551 | AO12: 1647902 | AP12: =AO12/$AO$26 -> 0.054825208 | AQ12: 3342755 | AR12: =AQ12/$AQ$26 -> 0.056720144
B13: 40-44 | C13: 2181460 | D13: =C13/$C$26 -> 0.074883986 | E13: 2190571 | F13: =E13/$E$26 -> 0.071387873 | G13: =SUM(C13,E13) -> 4372031 | H13: =G13/$G$26 -> 0.073090508 | I13: 2089198 | J13: =I13/$I$26 -> 0.071917077 | K13: 2098266 | L13: =K13/$K$26 -> 0.068590079 | M13: =SUM(I13,K13) -> 4187464 | N13: =M13/$M$26 -> 0.070210589 | O13: 2001502 | P13: =O13/$O$26 -> 0.069337155 | Q13: 2007068 | R13: =Q13/$Q$26 -> 0.06608722 | S13: =SUM(O13,Q13) -> 4008570 | T13: =S13/$S$26 -> 0.067670936 | U13: 1927924 | V13: =U13/$O$26 -> 0.066788225 | W13: 1934375 | X13: =W13/$Q$26 -> 0.063693639 | Y13: =SUM(U13,W13) -> 3862299 | Z13: =Y13/$S$26 -> 0.065201653 | AA13: 1880664 | AB13: =AA13/$AA$26 -> 0.065415858 | AC13: 1876439 | AD13: =AC13/$AC$26 -> 0.062337354 | AE13: =SUM(AA13,AC13) -> 3757103 | AF13: =AE13/$AE$26 -> 0.063841244 | AG13: 1844218 | AH13: =AG13/$AG$26 -> 0.063931618 | AI13: 1836635 | AJ13: =AI13/$AI$26 -> 0.060968145 | AK13: 3680853 | AL13: =AK13/$AK$26 -> 0.062417776 | AM13: 1815458 | AN13: =AM13/$AM$26 -> 0.062869087 | AO13: 1800474 | AP13: =AO13/$AO$26 -> 0.059901233 | AQ13: 3615932 | AR13: =AQ13/$AQ$26 -> 0.061355434
B14: 45-49 | C14: 2372986 | D14: =C14/$C$26 -> 0.081458588 | E14: 2412294 | F14: =E14/$E$26 -> 0.078613538 | G14: =SUM(C14,E14) -> 4785280 | H14: =G14/$G$26 -> 0.0799991 | I14: 2356800 | J14: =I14/$I$26 -> 0.08112882 | K14: 2392965 | L14: =K14/$K$26 -> 0.078223475 | M14: =SUM(I14,K14) -> 4749765 | N14: =M14/$M$26 -> 0.079638607 | O14: 2329457 | P14: =O14/$O$26 -> 0.080698357 | Q14: 2363044 | R14: =Q14/$Q$26 -> 0.077808529 | S14: =SUM(O14,Q14) -> 4692501 | T14: =S14/$S$26 -> 0.079216762 | U14: 2280611 | V14: =U14/$O$26 -> 0.079006206 | W14: 2313721 | X14: =W14/$Q$26 -> 0.076184458 | Y14: =SUM(U14,W14) -> 4594332 | Z14: =Y14/$S$26 -> 0.077559516 | AA14: 2232491 | AB14: =AA14/$AA$26 -> 0.077653592 | AC14: 2256376 | AD14: =AC14/$AC$26 -> 0.074959276 | AE14: =SUM(AA14,AC14) -> 4488867 | AF14: =AE14/$AE$26 -> 0.076275485 | AG14: 2179772 | AH14: =AG14/$AG$26 -> 0.075563925 | AI14: 2201072 | AJ14: =AI14/$AI$26 -> 0.073065839 | AK14: 4380844 | AL14: =AK14/$AK$26 -> 0.074287818 | AM14: 2093852 | AN14: =AM14/$AM$26 -> 0.072509837 | AO14: 2113437 | AP14: =AO14/$AO$26 -> 0.070313419 | AQ14: 4207289 | AR14: =AQ14/$AQ$26 -> 0.071389628
B15: 50-54 | C15: 2416404 | D15: =C15/$C$26 -> 0.082949017 | E15: 2484570 | F15: =E15/$E$26 -> 0.08096892 | G15: =SUM(C15,E15) -> 4900974 | H15: =G15/$G$26 -> 0.081933243 | I15: 2404144 | J15: =I15/$I$26 -> 0.082758556 | K15: 2472560 | L15: =K15/$K$26 -> 0.080825351 | M15: =SUM(I15,K15) -> 4876704 | N15: =M15/$M$26 -> 0.081766974 | O15: 2377041 | P15: =O15/$O$26 -> 0.082346788 | Q15: 2440634 | R15: =Q15/$Q$26 -> 0.080363353 | S15: =SUM(O15,Q15) -> 4817675 | T15: =S15/$S$26 -> 0.081329895 | U15: 2358358 | V15: =U15/$O$26 -> 0.081699561 | W15: 2425567 | X15: =W15/$Q$26 -> 0.079867239 | Y15: =SUM(U15,W15) -> 4783925 | Z15: =Y15/$S$26 -> 0.080760142 | AA15: 2362175 | AB15: =AA15/$AA$26 -> 0.082164441 | AC15: 2414762 | AD15: =AC15/$AC$26 -> 0.080221032 | AE15: =SUM(AA15,AC15) -> 4776937 | AF15: =AE15/$AE$26 -> 0.081170413 | AG15: 2358247 | AH15: =AG15/$AG$26 -> 0.081750935 | AI15: 2412280 | AJ15: =AI15/$AI$26 -> 0.080077008 | AK15: 4770527 | AL15: =AK15/$AK$26 -> 0.080895837 | AM15: 2344120 | AN15: =AM15/$AM$26 -> 0.081176587 | AO15: 2396679 | AP15: =AO15/$AO$26 -> 0.079736795 | AQ15: 4740799 | AR15: =AQ15/$AQ$26 -> 0.08044227
B16: 55-59 | C16: 2135805 | D16: =C16/$C$26 -> 0.073316766 | E16: 2251612 | F16: =E16/$E$26 -> 0.07337712 | G16: =SUM(C16,E16) -> 4387417 | H16: =G16/$G$26 -> 0.073347727 | I16: 2213008 | J16: =I16/$I$26 -> 0.076179025 | K16: 2324483 | L16: =K16/$K$26 -> 0.075984872 | M16: =SUM(I16,K16) -> 4537491 | N16: =M16/$M$26 -> 0.07607944 | O16: 2261108 | P16: =O16/$O$26 -> 0.078330572 | Q16: 2362857 | R16: =Q16/$Q$26 -> 0.077802371 | S16: =SUM(O16,Q16) -> 4623965 | T16: =S16/$S$26 -> 0.078059767 | U16: 2305184 | V16: =U16/$O$26 -> 0.079857478 | W16: 2401972 | X16: =W16/$Q$26 -> 0.07909032 | Y16: =SUM(U16,W16) -> 4707156 | Z16: =Y16/$S$26 -> 0.079464162 | AA16: 2355923 | AB16: =AA16/$AA$26 -> 0.081946975 | AC16: 2439739 | AD16: =AC16/$AC$26 -> 0.081050795 | AE16: =SUM(AA16,AC16) -> 4795662 | AF16: =AE16/$AE$26 -> 0.081488591 | AG16: 2382140 | AH16: =AG16/$AG$26 -> 0.08257921 | AI16: 2466848 | AJ16: =AI16/$AI$26 -> 0.081888424 | AK16: 4848988 | AL16: =AK16/$AK$26 -> 0.082226333 | AM16: 2369918 | AN16: =AM16/$AM$26 -> 0.082069969 | AO16: 2456863 | AP16: =AO16/$AO$26 -> 0.081739099 | AQ16: 4826781 | AR16: =AQ16/$AQ$26 -> 0.08190122
B17: 60-64 | C17: 1837266 | D17: =C17/$C$26 -> 0.063068679 | E17: 1981788 | F17: =E17/$E$26 -> 0.064583905 | G17: =SUM(C17,E17) -> 3819054 | H17: =G17/$G$26 -> 0.063845978 | I17: 1874922 | J17: =I17/$I$26 -> 0.064540992 | K17: 2018428 | L17: =K17/$K$26 -> 0.06598026 | M17: =SUM(I17,K17) -> 3893350 | N17: =M17/$M$26 -> 0.065279223 | O17: 1901209 | P17: =O17/$O$26 -> 0.065862749 | Q17: 2044887 | R17: =Q17/$Q$26 -> 0.067332495 | S17: =SUM(O17,Q17) -> 3946096 | T17: =S17/$S$26 -> 0.066616277 | U17: 1944715 | V17: =U17/$O$26 -> 0.067369908 | W17: 2090042 | X17: =W17/$Q$26 -> 0.068819325 | Y17: =SUM(U17,W17) -> 4034757 | Z17: =Y17/$S$26 -> 0.068113014 | AA17: 2009181 | AB17: =AA17/$AA$26 -> 0.069886115 | AC17: 2139733 | AD17: =AC17/$AC$26 -> 0.071084268 | AE17: =SUM(AA17,AC17) -> 4148914 | AF17: =AE17/$AE$26 -> 0.070498954 | AG17: 2079202 | AH17: =AG17/$AG$26 -> 0.072077568 | AI17: 2213544 | AJ17: =AI17/$AI$26 -> 0.073479854 | AK17: 4292746 | AL17: =AK17/$AK$26 -> 0.072793903 | AM17: 2154975 | AN17: =AM17/$AM$26 -> 0.074626519 | AO17: 2286589 | AP17: =AO17/$AO$26 -> 0.076074134 | AQ17: 4441564 | AR17: =AQ17/$AQ$26 -> 0.075364826
B18: 65-69 | C18: 1652883 | D18: =C18/$C$26 -> 0.056739279 | E18: 1815826 | F18: =E18/$E$26 -> 0.059175418 | G18: =SUM(C18,E18) -> 3468709 | H18: =G18/$G$26 -> 0.057988999 | I18: 1652740 | J18: =I18/$I$26 -> 0.056892755 | K18: 1818274 | L18: =K18/$K$26 -> 0.059437439 | M18: =SUM(I18,K18) -> 3471014 | N18: =M18/$M$26 -> 0.058197978 | O18: 1652948 | P18: =O18/$O$26 -> 0.057262352 | Q18: 1821385 | R18: =Q18/$Q$26 -> 0.05997319 | S18: =SUM(O18,Q18) -> 3474333 | T18: =S18/$S$26 -> 0.05865218 | U18: 1672443 | V18: =U18/$O$26 -> 0.057937709 | W18: 1845564 | X18: =W18/$Q$26 -> 0.060769338 | Y18: =SUM(U18,W18) -> 3518007 | Z18: =Y18/$S$26 -> 0.059389465 | AA18: 1713300 | AB18: =AA18/$AA$26 -> 0.059594372 | AC18: 1875973 | AD18: =AC18/$AC$26 -> 0.062321873 | AE18: =SUM(AA18,AC18) -> 3589273 | AF18: =AE18/$AE$26 -> 0.060989452 | AG18: 1751451 | AH18: =AG18/$AG$26 -> 0.06071576 | AI18: 1920620 | AJ18: =AI18/$AI$26 -> 0.063756075 | AK18: 3672071 | AL18: =AK18/$AK$26 -> 0.062268856 | AM18: 1787108 | AN18: =AM18/$AM$26 -> 0.06188733 | AO18: 1954612 | AP18: =AO18/$AO$26 -> 0.065029358 | AQ18: 3741720 | AR18: =AQ18/$AQ$26 -> 0.063489815
... B25: 100 e più | C25: 2175 | D25: =C25/$C$26 -> 7.4662231e-05 | E25: 11957 | F25: =E25/$E$26 -> 0.00038966315 | G25: =SUM(C25,E25) -> 14132 | H25: =G25/$G$26 -> 0.0002362552 | I25: 2332 | J25: =I25/$I$26 -> 8.0275122e-05 | K25: 12472 | L25: =K25/$K$26 -> 0.00040769639 | M25: =SUM(I25,K25) -> 14804 | N25: =M25/$M$26 -> 0.00024821648 | O25: 2847 | P25: =O25/$O$26 -> 9.8627372e-05 | Q25: 14330 | R25: =Q25/$Q$26 -> 0.00047184742 | S25: =SUM(O25,Q25) -> 17177 | T25: =S25/$S$26 -> 0.00028997465 | U25: 3390 | V25: =U25/$O$26 -> 0.00011743828 | W25: 16769 | X25: =W25/$Q$26 -> 0.00055215697 | Y25: =SUM(U25,W25) -> 20159 | Z25: =Y25/$S$26 -> 0.00034031548 | AA25: 3730 | AB25: =AA25/$AA$26 -> 0.00012974202 | AC25: 18142 | AD25: =AC25/$AC$26 -> 0.00060269706 | AE25: =SUM(AA25,AC25) -> 21872 | AF25: =AE25/$AE$26 -> 0.00037165223 | AG25: 3600 | AH25: =AG25/$AG$26 -> 0.00012479752 | AI25: 17611 | AJ25: =AI25/$AI$26 -> 0.00058460717 | AK25: 21211 | AL25: =AK25/$AK$26 -> 0.00035968387 | AM25: 4104 | AN25: =AM25/$AM$26 -> 0.00014212102 | AO25: 19444 | AP25: =AO25/$AO$26 -> 0.00064689608 | AQ25: 23548 | AR25: =AQ25/$AQ$26 -> 0.00039956442
B26: Totale | C26: =SUM(C5:C25) -> 29131195 | D26: =C26/$C$26 -> 1 | E26: =SUM(E5:E25) -> 30685478 | F26: =E26/$E$26 -> 1 | G26: =SUM(C26,E26) -> 59816673 | H26: =G26/$G$26 -> 1 | I26: =SUM(I5:I25) -> 29050096 | J26: =I26/$I$26 -> 1 | K26: =SUM(K5:K25) -> 30591392 | L26: =K26/$K$26 -> 1 | M26: =SUM(I26,K26) -> 59641488 | N26: =M26/$M$26 -> 1 | O26: =SUM(O5:O25) -> 28866226 | P26: =O26/$O$26 -> 1 | Q26: =SUM(Q5:Q25) -> 30369987 | R26: =Q26/$Q$26 -> 1 | S26: =SUM(O26,Q26) -> 59236213 | T26: =S26/$S$26 -> 1 | U26: =SUM(U5:U25) -> 28747417 | V26: =U26/$U$26 -> 1 | W26: =SUM(W5:W25) -> 30235705 | X26: =W26/$W$26 -> 1 | Y26: =SUM(U26,W26) -> 58983122 | Z26: =Y26/$Y$26 -> 1 | AA26: =SUM(AA5:AA25) -> 28749359 | AB26: =AA26/$AA$26 -> 1 | AC26: =SUM(AC5:AC25) -> 30101358 | AD26: =AC26/$AC$26 -> 1 | AE26: =SUM(AA26,AC26) -> 58850717 | AF26: =AE26/$AE$26 -> 1 | AG26: 28846728 | AH26: =AG26/$AG$26 -> 1 | AI26: 30124502 | AJ26: =AI26/$AI$26 -> 1 | AK26: 58971230 | AL26: =AK26/$AK$26 -> 1 | AM26: =SUM(AM5:AM25) -> 28876799 | AN26: =AM26/$AM$26 -> 1 | AO26: =SUM(AO5:AO25) -> 30057378 | AP26: =AO26/$AO$26 -> 1 | AQ26: =SUM(AQ5:AQ25) -> 58934177 | AR26: =AQ26/$AQ$26 -> 1
A27: Piemonte | B27: 0-4 | C27: 80986 | D27: =C27/$C$48 -> 0.038509308 | E27: 77265 | F27: =E27/$E$48 -> 0.034717401 | G27: =SUM(C27,E27) -> 158251 | H27: =G27/$G$48 -> 0.036559691 | I27: 78002 | J27: =I27/$I$48 -> 0.037231427 | K27: 74498 | L27: =K27/$K$48 -> 0.033615819 | M27: =SUM(I27,K27) -> 152500 | N27: =M27/$M$48 -> 0.035372843 | O27: 75858 | P27: =O27/$O$48 -> 0.036480698 | Q27: 72643 | R27: =Q27/$Q$48 -> 0.033086561 | S27: =SUM(O27,Q27) -> 148501 | T27: =S27/$S$48 -> 0.034737523 | U27: 73206 | V27: =U27/$U$48 -> 0.03538255 | W27: 70014 | X27: =W27/$W$48 -> 0.032068073 | Y27: =SUM(U27,W27) -> 143220 | Z27: =Y27/$Y$48 -> 0.033680763 | AA27: 71210 | AB27: =AA27/$AA$48 -> 0.034431872 | AC27: 67805 | AD27: =AC27/$AC$48 -> 0.031209237 | AE27: 139015 | AF27: =AE27/$AE$48 -> 0.032780866 | AG27: 69574 | AH27: =AG27/$AG$48 -> 0.033492482 | AI27: 66036 | AJ27: =AI27/$AI$48 -> 0.030370861 | AK27: 135610 | AL27: =AK27/$AK$48 -> 0.031896055 | AM27: 68319 | AN27: =AM27/$AM$48 -> 0.0332471 | AO27: 64651 | AP27: =AO27/$AO$48 -> 0.030144781 | AQ27: 132970 | AR27: =AQ27/$AQ$48 -> 0.031641164
B28: 44444 | C28: 95226 | D28: =C28/$C$48 -> 0.04528051 | E28: 89433 | F28: =E28/$E$48 -> 0.040184836 | G28: =SUM(C28,E28) -> 184659 | H28: =G28/$G$48 -> 0.042660558 | I28: 92706 | J28: =I28/$I$48 -> 0.044249849 | K28: 87229 | L28: =K28/$K$48 -> 0.039360443 | M28: =SUM(I28,K28) -> 179935 | N28: =M28/$M$48 -> 0.041736475 | O28: 90917 | P28: =O28/$O$48 -> 0.043722687 | Q28: 85261 | R28: =Q28/$Q$48 -> 0.038833656 | S28: =SUM(O28,Q28) -> 176178 | T28: =S28/$S$48 -> 0.041211758 | U28: 88736 | V28: =U28/$U$48 -> 0.042888642 | W28: 83633 | X28: =W28/$W$48 -> 0.038305898 | Y28: =SUM(U28,W28) -> 172369 | Z28: =Y28/$Y$48 -> 0.040535675 | AA28: 86251 | AB28: =AA28/$AA$48 -> 0.041704583 | AC28: 81462 | AD28: =AC28/$AC$48 -> 0.037495271 | AE28: 167713 | AF28: =AE28/$AE$48 -> 0.039548088 | AG28: 83486 | AH28: =AG28/$AG$48 -> 0.040189631 | AI28: 79576 | AJ28: =AI28/$AI$48 -> 0.036598092 | AK28: 163062 | AL28: =AK28/$AK$48 -> 0.038352883 | AM28: 81444 | AN28: =AM28/$AM$48 -> 0.039634315 | AO28: 77002 | AP28: =AO28/$AO$48 -> 0.035903674 | AQ28: 158446 | AR28: =AQ28/$AQ$48 -> 0.037703361
B29: 10-14 | C29: 99282 | D29: =C29/$C$48 -> 0.047209162 | E29: 93143 | F29: =E29/$E$48 -> 0.041851846 | G29: =SUM(C29,E29) -> 192425 | H29: =G29/$G$48 -> 0.044454686 | I29: 99401 | J29: =I29/$I$48 -> 0.047445465 | K29: 93602 | L29: =K29/$K$48 -> 0.042236139 | M29: =SUM(I29,K29) -> 193003 | N29: =M29/$M$48 -> 0.044767638 | O29: 99477 | P29: =O29/$O$48 -> 0.047839258 | Q29: 93708 | R29: =Q29/$Q$48 -> 0.042680994 | S29: =SUM(O29,Q29) -> 193185 | T29: =S29/$S$48 -> 0.045190055 | U29: 99142 | V29: =U29/$U$48 -> 0.047918159 | W29: 92892 | X29: =W29/$W$48 -> 0.04254674 | Y29: =SUM(U29,W29) -> 192034 | Z29: =Y29/$Y$48 -> 0.045160254 | AA29: 98488 | AB29: =AA29/$AA$48 -> 0.047621488 | AC29: 92289 | AD29: =AC29/$AC$48 -> 0.042478714 | AE29: 190777 | AF29: =AE29/$AE$48 -> 0.044986766 | AG29: 97149 | AH29: =AG29/$AG$48 -> 0.046766912 | AI29: 91164 | AJ29: =AI29/$AI$48 -> 0.041927572 | AK29: 188313 | AL29: =AK29/$AK$48 -> 0.044292027 | AM29: 95461 | AN29: =AM29/$AM$48 -> 0.046455618 | AO29: 89676 | AP29: =AO29/$AO$48 -> 0.041813172 | AQ29: 185137 | AR29: =AQ29/$AQ$48 -> 0.044054676
B30: 15-19 | C30: 99295 | D30: =C30/$C$48 -> 0.047215343 | E30: 92366 | F30: =E30/$E$48 -> 0.041502718 | G30: =SUM(C30,E30) -> 191661 | H30: =G30/$G$48 -> 0.044278185 | I30: 99034 | J30: =I30/$I$48 -> 0.04727029 | K30: 92698 | L30: =K30/$K$48 -> 0.041828226 | M30: =SUM(I30,K30) -> 191732 | N30: =M30/$M$48 -> 0.044472825 | O30: 98217 | P30: =O30/$O$48 -> 0.047233314 | Q30: 92189 | R30: =Q30/$Q$48 -> 0.041989138 | S30: 190406 | T30: =S30/$S$48 -> 0.044539988 | U30: 98951 | V30: =U30/$U$48 -> 0.047825843 | W30: 92845 | X30: =W30/$W$48 -> 0.042525213 | Y30: =SUM(U30,W30) -> 191796 | Z30: =Y30/$Y$48 -> 0.045104284 | AA30: 100640 | AB30: =AA30/$AA$48 -> 0.048662036 | AC30: 94081 | AD30: =AC30/$AC$48 -> 0.043303535 | AE30: 194721 | AF30: =AE30/$AE$48 -> 0.045916794 | AG30: 102698 | AH30: =AG30/$AG$48 -> 0.049438165 | AI30: 95028 | AJ30: =AI30/$AI$48 -> 0.043704678 | AK30: 197726 | AL30: =AK30/$AK$48 -> 0.046506005 | AM30: 103428 | AN30: =AM30/$AM$48 -> 0.050332719 | AO30: 96245 | AP30: =AO30/$AO$48 -> 0.044876096 | AQ30: 199673 | AR30: =AQ30/$AQ$48 -> 0.047513621
B31: 20-24 | C31: 103756 | D31: =C31/$C$48 -> 0.049336574 | E31: 93451 | F31: =E31/$E$48 -> 0.04199024 | G31: =SUM(C31,E31) -> 197207 | H31: =G31/$G$48 -> 0.045559441 | I31: 104404 | J31: =I31/$I$48 -> 0.049833465 | K31: 93714 | L31: =K31/$K$48 -> 0.042286677 | M31: =SUM(I31,K31) -> 198118 | N31: =M31/$M$48 -> 0.045954077 | O31: 105840 | P31: =O31/$O$48 -> 0.050899273 | Q31: 94783 | R31: =Q31/$Q$48 -> 0.043170622 | S31: =SUM(O31,Q31) -> 200623 | T31: =S31/$S$48 -> 0.04692996 | U31: 105132 | V31: =U31/$U$48 -> 0.050813297 | W31: 95197 | X31: =W31/$W$48 -> 0.043602485 | Y31: =SUM(U31,W31) -> 200329 | Z31: =Y31/$Y$48 -> 0.047110973 | AA31: 104110 | AB31: =AA31/$AA$48 -> 0.05033987 | AC31: 94718 | AD31: =AC31/$AC$48 -> 0.043596733 | AE31: 198828 | AF31: =AE31/$AE$48 -> 0.046885258 | AG31: 106458 | AH31: =AG31/$AG$48 -> 0.051248206 | AI31: 95710 | AJ31: =AI31/$AI$48 -> 0.04401834 | AK31: 202168 | AL31: =AK31/$AK$48 -> 0.047550782 | AM31: 107704 | AN31: =AM31/$AM$48 -> 0.052413613 | AO31: 97168 | AP31: =AO31/$AO$48 -> 0.045306463 | AQ31: 204872 | AR31: =AQ31/$AQ$48 -> 0.048750761
B32: 25-29 | C32: 107779 | D32: =C32/$C$48 -> 0.051249534 | E32: 100917 | F32: =E32/$E$48 -> 0.04534493 | G32: =SUM(C32,E32) -> 208696 | H32: =G32/$G$48 -> 0.048213669 | I32: 107637 | J32: =I32/$I$48 -> 0.051376621 | K32: 100435 | L32: =K32/$K$48 -> 0.045319402 | M32: =SUM(I32,K32) -> 208072 | N32: =M32/$M$48 -> 0.048262938 | O32: 106681 | P32: =O32/$O$48 -> 0.051303717 | Q32: 98766 | R32: =Q32/$Q$48 -> 0.044984751 | S32: =SUM(O32,Q32) -> 205447 | T32: =S32/$S$48 -> 0.048058396 | U32: 106933 | V32: =U32/$U$48 -> 0.051683772 | W32: 98120 | X32: =W32/$W$48 -> 0.044941288 | Y32: =SUM(U32,W32) -> 205053 | Z32: =Y32/$Y$48 -> 0.048221906 | AA32: 107133 | AB32: =AA32/$AA$48 -> 0.051801569 | AC32: 97856 | AD32: =AC32/$AC$48 -> 0.045041089 | AE32: 204989 | AF32: =AE32/$AE$48 -> 0.048338072 | AG32: 112143 | AH32: =AG32/$AG$48 -> 0.053984929 | AI32: 99597 | AJ32: =AI32/$AI$48 -> 0.045806024 | AK32: 211740 | AL32: =AK32/$AK$48 -> 0.049802158 | AM32: 115618 | AN32: =AM32/$AM$48 -> 0.056264922 | AO32: 100992 | AP32: =AO32/$AO$48 -> 0.047089477 | AQ32: 216610 | AR32: =AQ32/$AQ$48 -> 0.051543902
B33: 30-34 | C33: 111861 | D33: =C33/$C$48 -> 0.053190548 | E33: 108915 | F33: =E33/$E$48 -> 0.048938663 | G33: =SUM(C33,E33) -> 220776 | H33: =G33/$G$48 -> 0.051004432 | I33: 111511 | J33: =I33/$I$48 -> 0.053225734 | K33: 107779 | L33: =K33/$K$48 -> 0.048633243 | M33: =SUM(I33,K33) -> 219290 | N33: =M33/$M$48 -> 0.050864988 | O33: 111252 | P33: =O33/$O$48 -> 0.053501946 | Q33: 106282 | R33: =Q33/$Q$48 -> 0.048408048 | S33: =SUM(O33,Q33) -> 217534 | T33: =S33/$S$48 -> 0.050885801 | U33: 111594 | V33: =U33/$U$48 -> 0.053936566 | W33: 105817 | X33: =W33/$W$48 -> 0.048466697 | Y33: =SUM(U33,W33) -> 217411 | Z33: =Y33/$Y$48 -> 0.051128113 | AA33: 113077 | AB33: =AA33/$AA$48 -> 0.054675646 | AC33: 106173 | AD33: =AC33/$AC$48 -> 0.048869232 | AE33: 219250 | AF33: =AE33/$AE$48 -> 0.051700931 | AG33: 115065 | AH33: =AG33/$AG$48 -> 0.055391561 | AI33: 107203 | AJ33: =AI33/$AI$48 -> 0.049304128 | AK33: 222268 | AL33: =AK33/$AK$48 -> 0.052278389 | AM33: 117587 | AN33: =AM33/$AM$48 -> 0.057223126 | AO33: 107671 | AP33: =AO33/$AO$48 -> 0.05020369 | AQ33: 225258 | AR33: =AQ33/$AQ$48 -> 0.053601755
B34: 35-39 | C34: 123536 | D34: =C34/$C$48 -> 0.058742078 | E34: 122647 | F34: =E34/$E$48 -> 0.055108848 | G34: =SUM(C34,E34) -> 246183 | H34: =G34/$G$48 -> 0.056874045 | I34: 120239 | J34: =I34/$I$48 -> 0.057391729 | K34: 119838 | L34: =K34/$K$48 -> 0.05407464 | M34: =SUM(I34,K34) -> 240077 | N34: =M34/$M$48 -> 0.055686596 | O34: 117626 | P34: =O34/$O$48 -> 0.056567252 | Q34: 116747 | R34: =Q34/$Q$48 -> 0.053174521 | S34: =SUM(O34,Q34) -> 234373 | T34: =S34/$S$48 -> 0.054824799 | U34: 115942 | V34: =U34/$U$48 -> 0.056038079 | W34: 114449 | X34: =W34/$W$48 -> 0.052420358 | Y34: =SUM(U34,W34) -> 230391 | Z34: =Y34/$Y$48 -> 0.054180594 | AA34: 114619 | AB34: =AA34/$AA$48 -> 0.055421243 | AC34: 112133 | AD34: =AC34/$AC$48 -> 0.051612496 | AE34: 226752 | AF34: =AE34/$AE$48 -> 0.053469964 | AG34: 115783 | AH34: =AG34/$AG$48 -> 0.055737201 | AI34: 112300 | AJ34: =AI34/$AI$48 -> 0.051648308 | AK34: 228083 | AL34: =AK34/$AK$48 -> 0.053646102 | AM34: 117347 | AN34: =AM34/$AM$48 -> 0.057106331 | AO34: 112344 | AP34: =AO34/$AO$48 -> 0.052382567 | AQ34: 229691 | AR34: =AQ34/$AQ$48 -> 0.054656619
B35: 40-44 | C35: 152458 | D35: =C35/$C$48 -> 0.072494655 | E35: 153647 | F35: =E35/$E$48 -> 0.069038045 | G35: =SUM(C35,E35) -> 306105 | H35: =G35/$G$48 -> 0.070717432 | I35: 144473 | J35: =I35/$I$48 -> 0.06895895 | K35: 145580 | L35: =K35/$K$48 -> 0.065690233 | M35: =SUM(I35,K35) -> 290053 | N35: =M35/$M$48 -> 0.067278683 | O35: 137203 | P35: =O35/$O$48 -> 0.065981982 | Q35: 137994 | R35: =Q35/$Q$48 -> 0.062851849 | S35: =SUM(O35,Q35) -> 275197 | T35: =S35/$S$48 -> 0.064374395 | U35: 131442 | V35: =U35/$U$48 -> 0.063529671 | W35: 132137 | X35: =W35/$W$48 -> 0.060521881 | Y35: =SUM(U35,W35) -> 263579 | Z35: =Y35/$Y$48 -> 0.06198535 | AA35: 128061 | AB35: =AA35/$AA$48 -> 0.061920797 | AC35: 127669 | AD35: =AC35/$AC$48 -> 0.058763395 | AE35: 255730 | AF35: =AE35/$AE$48 -> 0.060303212 | AG35: 125062 | AH35: =AG35/$AG$48 -> 0.060204053 | AI35: 124538 | AJ35: =AI35/$AI$48 -> 0.057276731 | AK35: 249600 | AL35: =AK35/$AK$48 -> 0.058706993 | AM35: 123573 | AN35: =AM35/$AM$48 -> 0.060136183 | AO35: 122668 | AP35: =AO35/$AO$48 -> 0.057196332 | AQ35: 246241 | AR35: =AQ35/$AQ$48 -> 0.058594811
B36: 45-49 | C36: 173348 | D36: =C36/$C$48 -> 0.08242797 | E36: 174382 | F36: =E36/$E$48 -> 0.078354881 | G36: =SUM(C36,E36) -> 347730 | H36: =G36/$G$48 -> 0.080333783 | I36: 170828 | J36: =I36/$I$48 -> 0.081538554 | K36: 171864 | L36: =K36/$K$48 -> 0.077550392 | M36: =SUM(I36,K36) -> 342692 | N36: =M36/$M$48 -> 0.07948846 | O36: 167766 | P36: =O36/$O$48 -> 0.080679965 | Q36: 169056 | R36: =Q36/$Q$48 -> 0.076999596 | S36: =SUM(O36,Q36) -> 336822 | T36: =S36/$S$48 -> 0.078789786 | U36: 162878 | V36: =U36/$U$48 -> 0.078723587 | W36: 164421 | X36: =W36/$W$48 -> 0.075308719 | Y36: =SUM(U36,W36) -> 327299 | Z36: =Y36/$Y$48 -> 0.076970255 | AA36: 158068 | AB36: =AA36/$AA$48 -> 0.076429955 | AC36: 159451 | AD36: =AC36/$AC$48 -> 0.073391991 | AE36: 317519 | AF36: =AE36/$AE$48 -> 0.07487356 | AG36: 152650 | AH36: =AG36/$AG$48 -> 0.073484741 | AI36: 154709 | AJ36: =AI36/$AI$48 -> 0.071152787 | AK36: 307359 | AL36: =AK36/$AK$48 -> 0.072292158 | AM36: 145535 | AN36: =AM36/$AM$48 -> 0.07082388 | AO36: 147493 | AP36: =AO36/$AO$48 -> 0.068771469 | AQ36: 293028 | AR36: =AQ36/$AQ$48 -> 0.069728113
B37: 50-54 | C37: 177591 | D37: =C37/$C$48 -> 0.084445541 | E37: 181108 | F37: =E37/$E$48 -> 0.081377067 | G37: =SUM(C37,E37) -> 358699 | H37: =G37/$G$48 -> 0.082867879 | I37: 177034 | J37: =I37/$I$48 -> 0.084500763 | K37: 180245 | L37: =K37/$K$48 -> 0.081332161 | M37: =SUM(I37,K37) -> 357279 | N37: =M37/$M$48 -> 0.082871959 | O37: 175068 | P37: =O37/$O$48 -> 0.084191553 | Q37: 178231 | R37: =Q37/$Q$48 -> 0.081178514 | S37: =SUM(O37,Q37) -> 353299 | T37: =S37/$S$48 -> 0.082644104 | U37: 173352 | V37: =U37/$U$48 -> 0.083785971 | W37: 177191 | X37: =W37/$W$48 -> 0.081157682 | Y37: =SUM(U37,W37) -> 350543 | Z37: =Y37/$Y$48 -> 0.082436501 | AA37: 173326 | AB37: =AA37/$AA$48 -> 0.083807592 | AC37: 176157 | AD37: =AC37/$AC$48 -> 0.081081417 | AE37: 349483 | AF37: =AE37/$AE$48 -> 0.082410931 | AG37: 172098 | AH37: =AG37/$AG$48 -> 0.082846885 | AI37: 174530 | AJ37: =AI37/$AI$48 -> 0.080268737 | AK37: 346628 | AL37: =AK37/$AK$48 -> 0.081528395 | AM37: 170411 | AN37: =AM37/$AM$48 -> 0.082929661 | AO37: 172418 | AP37: =AO37/$AO$48 -> 0.080393233 | AQ37: 342829 | AR37: =AQ37/$AQ$48 -> 0.081578617
B38: 55-59 | C38: 156885 | D38: =C38/$C$48 -> 0.074599719 | E38: 163825 | F38: =E38/$E$48 -> 0.073611315 | G38: =SUM(C38,E38) -> 320710 | H38: =G38/$G$48 -> 0.074091529 | I38: 162045 | J38: =I38/$I$48 -> 0.077346307 | K38: 169374 | L38: =K38/$K$48 -> 0.076426827 | M38: =SUM(I38,K38) -> 331419 | N38: =M38/$M$48 -> 0.076873653 | O38: 165677 | P38: =O38/$O$48 -> 0.079675349 | Q38: 172154 | R38: =Q38/$Q$48 -> 0.078410635 | S38: =SUM(O38,Q38) -> 337831 | T38: =S38/$S$48 -> 0.079025812 | U38: 168935 | V38: =U38/$U$48 -> 0.081651108 | W38: 174891 | X38: =W38/$W$48 -> 0.080104228 | Y38: =SUM(U38,W38) -> 343826 | Z38: =Y38/$Y$48 -> 0.080856877 | AA38: 172830 | AB38: =AA38/$AA$48 -> 0.083567763 | AC38: 177755 | AD38: =AC38/$AC$48 -> 0.081816943 | AE38: 350585 | AF38: =AE38/$AE$48 -> 0.082670791 | AG38: 174968 | AH38: =AG38/$AG$48 -> 0.084228485 | AI38: 179657 | AJ38: =AI38/$AI$48 -> 0.082626714 | AK38: 354625 | AL38: =AK38/$AK$48 -> 0.083409324 | AM38: 174576 | AN38: =AM38/$AM$48 -> 0.084956538 | AO38: 179448 | AP38: =AO38/$AO$48 -> 0.083671107 | AQ38: 354024 | AR38: =AQ38/$AQ$48 -> 0.084242548
B39: 60-64 | C39: 139550 | D39: =C39/$C$48 -> 0.066356827 | E39: 147996 | F39: =E39/$E$48 -> 0.066498887 | G39: =SUM(C39,E39) -> 287546 | H39: =G39/$G$48 -> 0.066429868 | I39: 141625 | J39: =I39/$I$48 -> 0.06759956 | K39: 149462 | L39: =K39/$K$48 -> 0.067441912 | M39: =SUM(I39,K39) -> 291087 | N39: =M39/$M$48 -> 0.067518522 | O39: 142439 | P39: =O39/$O$48 -> 0.068500015 | Q39: 150823 | R39: =Q39/$Q$48 -> 0.068695048 | S39: =SUM(O39,Q39) -> 293262 | T39: =S39/$S$48 -> 0.068600181 | U39: 144927 | V39: =U39/$U$48 -> 0.070047357 | W39: 153601 | X39: =W39/$W$48 -> 0.070352903 | Y39: =SUM(U39,W39) -> 298528 | Z39: =Y39/$Y$48 -> 0.070204236 | AA39: 148163 | AB39: =AA39/$AA$48 -> 0.071640632 | AC39: 156390 | AD39: =AC39/$AC$48 -> 0.071983076 | AE39: 304553 | AF39: =AE39/$AE$48 -> 0.071816072 | AG39: 152396 | AH39: =AG39/$AG$48 -> 0.073362467 | AI39: 160793 | AJ39: =AI39/$AI$48 -> 0.073950902 | AK39: 313189 | AL39: =AK39/$AK$48 -> 0.073663399 | AM39: 157638 | AN39: =AM39/$AM$48 -> 0.076713745 | AO39: 166492 | AP39: =AO39/$AO$48 -> 0.077630121 | AQ39: 324130 | AR39: =AQ39/$AQ$48 -> 0.077129056
B40: 65-69 | C40: 128727 | D40: =C40/$C$48 -> 0.061210428 | E40: 140341 | F40: =E40/$E$48 -> 0.063059274 | G40: =SUM(C40,E40) -> 269068 | H40: =G40/$G$48 -> 0.062161016 | I40: 127678 | J40: =I40/$I$48 -> 0.060942466 | K40: 139466 | L40: =K40/$K$48 -> 0.062931405 | M40: =SUM(I40,K40) -> 267144 | N40: =M40/$M$48 -> 0.06196487 | O40: 126957 | P40: =O40/$O$48 -> 0.061054602 | Q40: 138306 | R40: =Q40/$Q$48 -> 0.062993955 | S40: =SUM(O40,Q40) -> 265263 | T40: =S40/$S$48 -> 0.062050623 | U40: 128061 | V40: =U40/$U$48 -> 0.061895537 | W40: 139409 | X40: =W40/$W$48 -> 0.06385263 | Y40: =SUM(U40,W40) -> 267470 | Z40: =Y40/$Y$48 -> 0.062900388 | AA40: 129834 | AB40: =AA40/$AA$48 -> 0.062778088 | AC40: 140602 | AD40: =AC40/$AC$48 -> 0.064716187 | AE40: 270436 | AF40: =AE40/$AE$48 -> 0.063771006 | AG40: 132183 | AH40: =AG40/$AG$48 -> 0.063632057 | AI40: 143035 | AJ40: =AI40/$AI$48 -> 0.065783755 | AK40: 275218 | AL40: =AK40/$AK$48 -> 0.064732456 | AM40: 108895 | AN40: =AM40/$AM$48 -> 0.052993207 | AO40: 116781 | AP40: =AO40/$AO$48 -> 0.054451404 | AQ40: 225676 | AR40: =AQ40/$AQ$48 -> 0.053701221
B41: 70-74 | C41: 119307 | D41: =C41/$C$48 -> 0.056731164 | E41: 134591 | F41: =E41/$E$48 -> 0.060475633 | G41: =SUM(C41,E41) -> 253898 | H41: =G41/$G$48 -> 0.058656391 | I41: 122703 | J41: =I41/$I$48 -> 0.05856783 | K41: 138288 | L41: =K41/$K$48 -> 0.062399855 | M41: =SUM(I41,K41) -> 260991 | N41: =M41/$M$48 -> 0.060537663 | O41: 126341 | P41: =O41/$O$48 -> 0.060758363 | Q41: 143230 | R41: =Q41/$Q$48 -> 0.065236679 | S41: =SUM(O41,Q41) -> 269571 | T41: =S41/$S$48 -> 0.063058355 | U41: 123119 | V41: =U41/$U$48 -> 0.059506928 | W41: 140350 | X41: =W41/$W$48 -> 0.06428363 | Y41: =SUM(U41,W41) -> 263469 | Z41: =Y41/$Y$48 -> 0.061959481 | AA41: 120513 | AB41: =AA41/$AA$48 -> 0.058271144 | AC41: 136678 | AD41: =AC41/$AC$48 -> 0.062910051 | AE41: 257191 | AF41: =AE41/$AE$48 -> 0.060647727 | AG41: 118184 | AH41: =AG41/$AG$48 -> 0.056893028 | AI41: 133469 | AJ41: =AI41/$AI$48 -> 0.061384221 | AK41: 251653 | AL41: =AK41/$AK$48 -> 0.059189867 | AM41: 117383 | AN41: =AM41/$AM$48 -> 0.05712385 | AO41: 132503 | AP41: =AO41/$AO$48 -> 0.061782091 | AQ41: 249886 | AR41: =AQ41/$AQ$48 -> 0.059462164
B42: 75-79 | C42: 99777 | D42: =C42/$C$48 -> 0.047444537 | E42: 124128 | F42: =E42/$E$48 -> 0.055774304 | G42: =SUM(C42,E42) -> 223905 | H42: =G42/$G$48 -> 0.051727305 | I42: 96728 | J42: =I42/$I$48 -> 0.046169605 | K42: 119697 | L42: =K42/$K$48 -> 0.054011016 | M42: =SUM(I42,K42) -> 216425 | N42: =M42/$M$48 -> 0.050200442 | O42: 91853 | P42: =O42/$O$48 -> 0.044172817 | Q42: 113205 | R42: =Q42/$Q$48 -> 0.051561253 | S42: =SUM(O42,Q42) -> 205058 | T42: =S42/$S$48 -> 0.047967401 | U42: 94687 | V42: =U42/$U$48 -> 0.04576493 | W42: 115591 | X42: =W42/$W$48 -> 0.052943421 | Y42: =SUM(U42,W42) -> 210278 | Z42: =Y42/$Y$48 -> 0.049450659 | AA42: 98371 | AB42: =AA42/$AA$48 -> 0.047564916 | AC42: 118967 | AD42: =AC42/$AC$48 -> 0.054758045 | AE42: 217338 | AF42: =AE42/$AE$48 -> 0.051250066 | AG42: 103605 | AH42: =AG42/$AG$48 -> 0.04987479 | AI42: 124076 | AJ42: =AI42/$AI$48 -> 0.057064251 | AK42: 227681 | AL42: =AK42/$AK$48 -> 0.05355155 | AM42: 106714 | AN42: =AM42/$AM$48 -> 0.051931835 | AO42: 127314 | AP42: =AO42/$AO$48 -> 0.059362619 | AQ42: 234028 | AR42: =AQ42/$AQ$48 -> 0.05568864
... B47: 100 e più | C47: 138 | D47: =C47/$C$48 -> 6.5619793e-05 | E47: 967 | F47: =E47/$E$48 -> 0.00043450109 | G47: =SUM(C47,E47) -> 1105 | H47: =G47/$G$48 -> 0.00025528091 | I47: 142 | J47: =I47/$I$48 -> 6.7778553e-05 | K47: 954 | L47: =K47/$K$48 -> 0.00043047453 | M47: =SUM(I47,K47) -> 1096 | N47: =M47/$M$48 -> 0.00025422056 | O47: 151 | P47: =O47/$O$48 -> 7.2617066e-05 | Q47: 1058 | R47: =Q47/$Q$48 -> 0.00048188513 | S47: =SUM(O47,Q47) -> 1209 | T47: =S47/$S$48 -> 0.00028281066 | U47: 194 | V47: =U47/$U$48 -> 9.3765738e-05 | W47: 1274 | X47: =W47/$W$48 -> 0.00058352223 | Y47: =SUM(U47,W47) -> 1468 | Z47: =Y47/$Y$48 -> 0.00034522664 | AA47: 225 | AB47: =AA47/$AA$48 -> 0.0001087933 | AC47: 1357 | AD47: =AC47/$AC$48 -> 0.00062459898 | AE47: 1582 | AF47: =AE47/$AE$48 -> 0.00037304845 | AG47: 248 | AH47: =AG47/$AG$48 -> 0.00011938563 | AI47: 1322 | AJ47: =AI47/$AI$48 -> 0.0006080059 | AK47: 1570 | AL47: =AK47/$AK$48 -> 0.00036927075 | AM47: 273 | AN47: =AM47/$AM$48 -> 0.00013285409 | AO47: 1460 | AP47: =AO47/$AO$48 -> 0.00068075329 | AQ47: 1733 | AR47: =AQ47/$AQ$48 -> 0.00041237977
B48: Totale | C48: =SUM(C27:C47) -> 2103024 | D48: =C48/$C$48 -> 1 | E48: =SUM(E27:E47) -> 2225541 | F48: =E48/$E$48 -> 1 | G48: =SUM(C48,E48) -> 4328565 | H48: =G48/$G$48 -> 1 | I48: =SUM(I27:I47) -> 2095058 | J48: =I48/$I$48 -> 1 | K48: =SUM(K27:K47) -> 2216159 | L48: =K48/$K$48 -> 1 | M48: =SUM(I48,K48) -> 4311217 | N48: =M48/$M$48 -> 1 | O48: =SUM(O27:O47) -> 2079401 | P48: =O48/$O$48 -> 1 | Q48: =SUM(Q27:Q47) -> 2195544 | R48: =Q48/$Q$48 -> 1 | S48: =SUM(O48,Q48) -> 4274945 | T48: =S48/$S$48 -> 1 | U48: =SUM(U27:U47) -> 2068986 | V48: =U48/$U$48 -> 1 | W48: =SUM(W27:W47) -> 2183293 | X48: =W48/$W$48 -> 1 | Y48: =SUM(U48,W48) -> 4252279 | Z48: =Y48/$Y$48 -> 1 | AA48: 2068142 | AB48: =AA48/$AA$48 -> 1 | AC48: 2172594 | AD48: =AC48/$AC$48 -> 1 | AE48: 4240736 | AF48: =AE48/$AE$48 -> 1 | AG48: 2077302 | AH48: =AG48/$AG$48 -> 1 | AI48: 2174321 | AJ48: =AI48/AI48 -> 1 | AK48: 4251623 | AL48: =AK48/$AK$48 -> 1 | AM48: =SUM(AM27:AM47) -> 2054886 | AN48: =AM48/$AM$48 -> 1 | AO48: =SUM(AO27:AO47) -> 2144683 | AP48: =AO48/$AO$48 -> 1 | AQ48: =SUM(AQ27:AQ47) -> 4202437 | AR48: =AQ48/$AQ$48 -> 1
A49: Biella | B49: 0-4 | C49: 2703 | D49: =C49/$C$70 -> 0.032065959 | E49: 2576 | F49: =E49/$E$70 -> 0.02829339 | G49: =SUM(C49,E49) -> 5279 | H49: =G49/$G$70 -> 0.030107049 | I49: 2562 | J49: =I49/$I$70 -> 0.030579726 | K49: 2500 | L49: =K49/$K$70 -> 0.027658233 | M49: =SUM(I49,K49) -> 5062 | N49: =M49/$M$70 -> 0.029063559 | O49: 2464 | P49: =O49/$O$70 -> 0.030007794 | Q49: 2402 | R49: =Q49/$Q$70 -> 0.027106938 | S49: =SUM(O49,Q49) -> 4866 | T49: =S49/$S$70 -> 0.028502144 | U49: 2370 | V49: =U49/$U$70 -> 0.02899792 | W49: 2334 | X49: =W49/$W$70 -> 0.026574064 | Y49: =SUM(U49,W49) -> 4704 | Z49: =Y49/$Y$70 -> 0.027742392 | AA49: 2326 | AB49: =AA49/$AA$70 -> 0.028518532 | AC49: 2287 | AD49: =AC49/$AC$70 -> 0.02620843 | AE49: 4613 | AF49: =AE49/$AE$70 -> 0.027324476 | AG49: 2307 | AH49: =AG49/$AG$70 -> 0.028279683 | AI49: 2205 | AJ49: =AI49/$AI$70 -> 0.025343371 | AK49: 4512 | AL49: =AK49/$AK$70 -> 0.026764264 | AM49: 2306 | AN49: =AM49/$AM$70 -> 0.028233508 | AO49: 2120 | AP49: =AO49/$AO$70 -> 0.024485742 | AQ49: 4426 | AR49: =AQ49/$AQ$70 -> 0.026304998
B50: 44444 | C50: 3253 | D50: =C50/$C$70 -> 0.038590664 | E50: 3153 | F50: =E50/$E$70 -> 0.034630846 | G50: =SUM(C50,E50) -> 6406 | H50: =G50/$G$70 -> 0.036534524 | I50: 3197 | J50: =I50/$I$70 -> 0.03815901 | K50: 3013 | L50: =K50/$K$70 -> 0.033333702 | M50: =SUM(I50,K50) -> 6210 | N50: =M50/$M$70 -> 0.03565482 | O50: 3062 | P50: =O50/$O$70 -> 0.03729053 | Q50: 2897 | R50: =Q50/$Q$70 -> 0.032693089 | S50: 5959 | T50: =S50/$S$70 -> 0.03490429 | U50: 3049 | V50: =U50/$U$70 -> 0.037305763 | W50: 2815 | X50: =W50/$W$70 -> 0.032050552 | Y50: =SUM(U50,W50) -> 5864 | Z50: =Y50/$Y$70 -> 0.034583628 | AA50: 2911 | AB50: =AA50/$AA$70 -> 0.035691078 | AC50: 2687 | AD50: =AC50/$AC$70 -> 0.030792327 | AE50: 5598 | AF50: =AE50/$AE$70 -> 0.033158989 | AG50: 2835 | AH50: =AG50/$AG$70 -> 0.034752016 | AI50: 2670 | AJ50: =AI50/$AI$70 -> 0.030687892 | AK50: 5505 | AL50: =AK50/$AK$70 -> 0.032654538 | AM50: 2741 | AN50: =AM50/$AM$70 -> 0.03355943 | AO50: 2604 | AP50: =AO50/$AO$70 -> 0.030075883 | AQ50: 5345 | AR50: =AQ50/$AQ$70 -> 0.03176688
B51: 10-14 | C51: 3752 | D51: =C51/$C$70 -> 0.044510351 | E51: 3439 | F51: =E51/$E$70 -> 0.037772115 | G51: =SUM(C51,E51) -> 7191 | H51: =G51/$G$70 -> 0.041011515 | I51: 3677 | J51: =I51/$I$70 -> 0.043888232 | K51: 3480 | L51: =K51/$K$70 -> 0.03850026 | M51: =SUM(I51,K51) -> 7157 | N51: =M51/$M$70 -> 0.041092037 | O51: 3576 | P51: =O51/$O$70 -> 0.043550273 | Q51: 3438 | R51: =Q51/$Q$70 -> 0.038798357 | S51: =SUM(O51,Q51) -> 7014 | T51: =S51/$S$70 -> 0.041083855 | U51: 3438 | V51: =U51/$U$70 -> 0.042065337 | W51: 3387 | X51: =W51/$W$70 -> 0.038563133 | Y51: =SUM(U51,W51) -> 6825 | Z51: =Y51/$Y$70 -> 0.040251239 | AA51: 3372 | AB51: =AA51/$AA$70 -> 0.041343289 | AC51: 3348 | AD51: =AC51/$AC$70 -> 0.038367216 | AE51: 6720 | AF51: =AE51/$AE$70 -> 0.039805003 | AG51: 3301 | AH51: =AG51/$AG$70 -> 0.040464341 | AI51: 3250 | AJ51: =AI51/$AI$70 -> 0.037354175 | AK51: 6551 | AL51: =AK51/$AK$70 -> 0.038859197 | AM51: 3302 | AN51: =AM51/$AM$70 -> 0.040428033 | AO51: 3129 | AP51: =AO51/$AO$70 -> 0.036139569 | AQ51: 6431 | AR51: =AQ51/$AQ$70 -> 0.038221292
B52: 15-19 | C52: 3897 | D52: =C52/$C$70 -> 0.0462305 | E52: 3672 | F52: =E52/$E$70 -> 0.040331261 | G52: =SUM(C52,E52) -> 7569 | H52: =G52/$G$70 -> 0.043167314 | I52: 3868 | J52: =I52/$I$70 -> 0.046167986 | K52: 3627 | L52: =K52/$K$70 -> 0.040126564 | M52: =SUM(I52,K52) -> 7495 | N52: =M52/$M$70 -> 0.043032669 | O52: 3767 | P52: =O52/$O$70 -> 0.045876364 | Q52: 3530 | R52: =Q52/$Q$70 -> 0.039836591 | S52: =SUM(O52,Q52) -> 7297 | T52: =S52/$S$70 -> 0.042741501 | U52: 3817 | V52: =U52/$U$70 -> 0.046702557 | W52: 3497 | X52: =W52/$W$70 -> 0.039815553 | Y52: =SUM(U52,W52) -> 7314 | Z52: =Y52/$Y$70 -> 0.043135173 | AA52: 3842 | AB52: =AA52/$AA$70 -> 0.047105847 | AC52: 3487 | AD52: =AC52/$AC$70 -> 0.03996012 | AE52: 7329 | AF52: =AE52/$AE$70 -> 0.043412331 | AG52: 3851 | AH52: =AG52/$AG$70 -> 0.047206355 | AI52: 3486 | AJ52: =AI52/$AI$70 -> 0.040066663 | AK52: 7337 | AL52: =AK52/$AK$70 -> 0.043521589 | AM52: 3795 | AN52: =AM52/$AM$70 -> 0.046464078 | AO52: 3563 | AP52: =AO52/$AO$70 -> 0.041152216 | AQ52: 7358 | AR52: =AQ52/$AQ$70 -> 0.043730721
B53: 20-24 | C53: 3987 | D53: =C53/$C$70 -> 0.047298179 | E53: 3644 | F53: =E53/$E$70 -> 0.040023724 | G53: =SUM(C53,E53) -> 7631 | H53: =G53/$G$70 -> 0.043520911 | I53: 4012 | J53: =I53/$I$70 -> 0.047886752 | K53: 3635 | L53: =K53/$K$70 -> 0.04021507 | M53: =SUM(I53,K53) -> 7647 | N53: =M53/$M$70 -> 0.04390538 | O53: 4017 | P53: =O53/$O$70 -> 0.048920986 | Q53: 3584 | R53: =Q53/$Q$70 -> 0.040445989 | S53: =SUM(O53,Q53) -> 7601 | T53: =S53/$S$70 -> 0.044522153 | U53: 4006 | V53: =U53/$U$70 -> 0.04901505 | W53: 3673 | X53: =W53/$W$70 -> 0.041819424 | Y53: =SUM(U53,W53) -> 7679 | Z53: =Y53/$Y$70 -> 0.045287804 | AA53: 4046 | AB53: =AA53/$AA$70 -> 0.049607043 | AC53: 3686 | AD53: =AC53/$AC$70 -> 0.042240609 | AE53: 7732 | AF53: =AE53/$AE$70 -> 0.045799447 | AG53: 4088 | AH53: =AG53/$AG$70 -> 0.05011155 | AI53: 3683 | AJ53: =AI53/$AI$70 -> 0.042330901 | AK53: 7771 | AL53: =AK53/$AK$70 -> 0.046095988 | AM53: 4089 | AN53: =AM53/$AM$70 -> 0.050063666 | AO53: 3692 | AP53: =AO53/$AO$70 -> 0.04264215 | AQ53: 7781 | AR53: =AQ53/$AQ$70 -> 0.046244733
B54: 25-29 | C54: 4098 | D54: =C54/$C$70 -> 0.048614983 | E54: 3742 | F54: =E54/$E$70 -> 0.041100103 | G54: =SUM(C54,E54) -> 7840 | H54: =G54/$G$70 -> 0.044712874 | I54: 4070 | J54: =I54/$I$70 -> 0.048579033 | K54: 3753 | L54: =K54/$K$70 -> 0.041520539 | M54: =SUM(I54,K54) -> 7823 | N54: =M54/$M$70 -> 0.044915887 | O54: 3922 | P54: =O54/$O$70 -> 0.04776403 | Q54: 3662 | R54: =Q54/$Q$70 -> 0.041326231 | S54: =SUM(O54,Q54) -> 7584 | T54: =S54/$S$70 -> 0.044422577 | U54: 3929 | V54: =U54/$U$70 -> 0.048072923 | W54: 3664 | X54: =W54/$W$70 -> 0.041716953 | Y54: =SUM(U54,W54) -> 7593 | Z54: =Y54/$Y$70 -> 0.044780609 | AA54: 3876 | AB54: =AA54/$AA$70 -> 0.047522713 | AC54: 3677 | AD54: =AC54/$AC$70 -> 0.042137471 | AE54: 7553 | AF54: =AE54/$AE$70 -> 0.044739165 | AG54: 3910 | AH54: =AG54/$AG$70 -> 0.047929589 | AI54: 3577 | AJ54: =AI54/$AI$70 -> 0.04111258 | AK54: 7487 | AL54: =AK54/$AK$70 -> 0.044411358 | AM54: 4208 | AN54: =AM54/$AM$70 -> 0.051520643 | AO54: 3701 | AP54: =AO54/$AO$70 -> 0.042746099 | AQ54: 7909 | AR54: =AQ54/$AQ$70 -> 0.047005474
B55: 30-34 | C55: 4009 | D55: =C55/$C$70 -> 0.047559167 | E55: 3707 | F55: =E55/$E$70 -> 0.040715682 | G55: =SUM(C55,E55) -> 7716 | H55: =G55/$G$70 -> 0.04400568 | I55: 3933 | J55: =I55/$I$70 -> 0.046943818 | K55: 3669 | L55: =K55/$K$70 -> 0.040591222 | M55: =SUM(I55,K55) -> 7602 | N55: =M55/$M$70 -> 0.043647012 | O55: 3860 | P55: =O55/$O$70 -> 0.047008963 | Q55: 3584 | R55: =Q55/$Q$70 -> 0.040445989 | S55: =SUM(O55,Q55) -> 7444 | T55: =S55/$S$70 -> 0.04360254 | U55: 4029 | V55: =U55/$U$70 -> 0.049296464 | W55: 3644 | X55: =W55/$W$70 -> 0.041489241 | Y55: =SUM(U55,W55) -> 7673 | Z55: =Y55/$Y$70 -> 0.045252418 | AA55: 4160 | AB55: =AA55/$AA$70 -> 0.051004769 | AC55: 3717 | AD55: =AC55/$AC$70 -> 0.042595861 | AE55: 7877 | AF55: =AE55/$AE$70 -> 0.046658334 | AG55: 4113 | AH55: =AG55/$AG$70 -> 0.050418005 | AI55: 3704 | AJ55: =AI55/$AI$70 -> 0.042572266 | AK55: 7817 | AL55: =AK55/$AK$70 -> 0.046368851 | AM55: 4169 | AN55: =AM55/$AM$70 -> 0.051043146 | AO55: 3808 | AP55: =AO55/$AO$70 -> 0.043981936 | AQ55: 7977 | AR55: =AQ55/$AQ$70 -> 0.047409617
B56: 35-39 | C56: 4276 | D56: =C56/$C$70 -> 0.050726615 | E56: 4460 | F56: =E56/$E$70 -> 0.048986227 | G56: =SUM(C56,E56) -> 8736 | H56: =G56/$G$70 -> 0.049822916 | I56: 4186 | J56: =I56/$I$70 -> 0.049963596 | K56: 4297 | L56: =K56/$K$70 -> 0.04753897 | M56: =SUM(I56,K56) -> 8483 | N56: =M56/$M$70 -> 0.048705288 | O56: 4005 | P56: =O56/$O$70 -> 0.048774844 | Q56: 4051 | R56: =Q56/$Q$70 -> 0.045716156 | S56: =SUM(O56,Q56) -> 8056 | T56: =S56/$S$70 -> 0.047187273 | U56: 4019 | V56: =U56/$U$70 -> 0.04917411 | W56: 3894 | X56: =W56/$W$70 -> 0.044335648 | Y56: =SUM(U56,W56) -> 7913 | Z56: =Y56/$Y$70 -> 0.046667846 | AA56: 3933 | AB56: =AA56/$AA$70 -> 0.048221576 | AC56: 3719 | AD56: =AC56/$AC$70 -> 0.04261878 | AE56: 7652 | AF56: =AE56/$AE$70 -> 0.045325578 | AG56: 4040 | AH56: =AG56/$AG$70 -> 0.049523156 | AI56: 3851 | AJ56: =AI56/$AI$70 -> 0.044261824 | AK56: 7891 | AL56: =AK56/$AK$70 -> 0.046807804 | AM56: 4101 | AN56: =AM56/$AM$70 -> 0.050210588 | AO56: 3848 | AP56: =AO56/$AO$70 -> 0.044443931 | AQ56: 7949 | AR56: =AQ56/$AQ$70 -> 0.047243205
B57: 40-44 | C57: 5862 | D57: =C57/$C$70 -> 0.069541491 | E57: 5966 | F57: =E57/$E$70 -> 0.065527316 | G57: =SUM(C57,E57) -> 11828 | H57: =G57/$G$70 -> 0.067457126 | I57: 5451 | J57: =I57/$I$70 -> 0.065062484 | K57: 5588 | L57: =K57/$K$70 -> 0.061821682 | M57: =SUM(I57,K57) -> 11039 | N57: =M57/$M$70 -> 0.063380605 | O57: 5121 | P57: =O57/$O$70 -> 0.062366037 | Q57: 5258 | R57: =Q57/$Q$70 -> 0.059337336 | S57: =SUM(O57,Q57) -> 10379 | T57: =S57/$S$70 -> 0.06079403 | U57: 4811 | V57: =U57/$U$70 -> 0.058864554 | W57: 4953 | X57: =W57/$W$70 -> 0.056393032 | Y57: =SUM(U57,W57) -> 9764 | Z57: =Y57/$Y$70 -> 0.057584336 | AA57: 4580 | AB57: =AA57/$AA$70 -> 0.056154289 | AC57: 4796 | AD57: =AC57/$AC$70 -> 0.054960922 | AE57: 9376 | AF57: =AE57/$AE$70 -> 0.055537456 | AG57: 4341 | AH57: =AG57/$AG$70 -> 0.053212876 | AI57: 4522 | AJ57: =AI57/$AI$70 -> 0.051974024 | AK57: 8863 | AL57: =AK57/$AK$70 -> 0.05257351 | AM57: 4321 | AN57: =AM57/$AM$70 -> 0.052904158 | AO57: 4443 | AP57: =AO57/$AO$70 -> 0.051316109 | AQ57: 8764 | AR57: =AQ57/$AQ$70 -> 0.052086986
B58: 45-49 | C58: 6953 | D58: =C58/$C$70 -> 0.082484133 | E58: 6957 | F58: =E58/$E$70 -> 0.076411924 | G58: =SUM(C58,E58) -> 13910 | H58: =G58/$G$70 -> 0.079331132 | I58: 6819 | J58: =I58/$I$70 -> 0.081390769 | K58: 6879 | L58: =K58/$K$70 -> 0.076104393 | M58: =SUM(I58,K58) -> 13698 | N58: =M58/$M$70 -> 0.078647299 | O58: 6549 | P58: =O58/$O$70 -> 0.079756917 | Q58: 6659 | R58: =Q58/$Q$70 -> 0.075147836 | S58: =SUM(O58,Q58) -> 13208 | T58: =S58/$S$70 -> 0.077364635 | U58: 6304 | V58: =U58/$U$70 -> 0.07713202 | W58: 6437 | X58: =W58/$W$70 -> 0.073289309 | Y58: =SUM(U58,W58) -> 12741 | Z58: =Y58/$Y$70 -> 0.075141543 | AA58: 6061 | AB58: =AA58/$AA$70 -> 0.074312478 | AC58: 6158 | AD58: =AC58/$AC$70 -> 0.070569091 | AE58: 12219 | AF58: =AE58/$AE$70 -> 0.072377579 | AG58: 5887 | AH58: =AG58/$AG$70 -> 0.072164064 | AI58: 6019 | AJ58: =AI58/$AI$70 -> 0.069179932 | AK58: 11906 | AL58: =AK58/$AK$70 -> 0.070623966 | AM58: 5507 | AN58: =AM58/$AM$70 -> 0.067424947 | AO58: 5646 | AP58: =AO58/$AO$70 -> 0.065210612 | AQ58: 11153 | AR58: =AQ58/$AQ$70 -> 0.066285504
B59: 50-54 | C59: 7454 | D59: =C59/$C$70 -> 0.088427546 | E59: 7602 | F59: =E59/$E$70 -> 0.083496255 | G59: =SUM(C59,E59) -> 15056 | H59: =G59/$G$70 -> 0.085866968 | I59: 7355 | J59: =I59/$I$70 -> 0.087788401 | K59: 7466 | L59: =K59/$K$70 -> 0.082598546 | M59: =SUM(I59,K59) -> 14821 | N59: =M59/$M$70 -> 0.085095022 | O59: 7189 | P59: =O59/$O$70 -> 0.08755115 | Q59: 7302 | R59: =Q59/$Q$70 -> 0.082404189 | S59: =SUM(O59,Q59) -> 14491 | T59: =S59/$S$70 -> 0.084879689 | U59: 7044 | V59: =U59/$U$70 -> 0.086186223 | W59: 7285 | X59: =W59/$W$70 -> 0.082944324 | Y59: =SUM(U59,W59) -> 14329 | Z59: =Y59/$Y$70 -> 0.084506959 | AA59: 7027 | AB59: =AA59/$AA$70 -> 0.086156374 | AC59: 7179 | AD59: =AC59/$AC$70 -> 0.082269487 | AE59: 14206 | AF59: =AE59/$AE$70 -> 0.084147302 | AG59: 6950 | AH59: =AG59/$AG$70 -> 0.085194538 | AI59: 6950 | AJ59: =AI59/$AI$70 -> 0.079880467 | AK59: 13900 | AL59: =AK59/$AK$70 -> 0.082451967 | AM59: 6831 | AN59: =AM59/$AM$70 -> 0.08363534 | AO59: 6806 | AP59: =AO59/$AO$70 -> 0.078608471 | AQ59: 13637 | AR59: =AQ59/$AQ$70 -> 0.081048634
B60: 55-59 | C60: 6629 | D60: =C60/$C$70 -> 0.078640489 | E60: 6752 | F60: =E60/$E$70 -> 0.074160315 | G60: =SUM(C60,E60) -> 13381 | H60: =G60/$G$70 -> 0.076314154 | I60: 6938 | J60: =I60/$I$70 -> 0.082811139 | K60: 7066 | L60: =K60/$K$70 -> 0.078173229 | M60: =SUM(I60,K60) -> 14004 | N60: =M60/$M$70 -> 0.080404203 | O60: 7052 | P60: =O60/$O$70 -> 0.085882697 | Q60: 7216 | R60: =Q60/$Q$70 -> 0.081433666 | S60: =SUM(O60,Q60) -> 14268 | T60: =S60/$S$70 -> 0.083573487 | U60: 7197 | V60: =U60/$U$70 -> 0.088058241 | W60: 7207 | X60: =W60/$W$70 -> 0.082056245 | Y60: =SUM(U60,W60) -> 14404 | Z60: =Y60/$Y$70 -> 0.08494928 | AA60: 7341 | AB60: =AA60/$AA$70 -> 0.090006253 | AC60: 7430 | AD60: =AC60/$AC$70 -> 0.085145883 | AE60: 14771 | AF60: =AE60/$AE$70 -> 0.087494003 | AG60: 7412 | AH60: =AG60/$AG$70 -> 0.090857829 | AI60: 7620 | AJ60: =AI60/$AI$70 -> 0.087581173 | AK60: 15032 | AL60: =AK60/$AK$70 -> 0.089166761 | AM60: 7302 | AN60: =AM60/$AM$70 -> 0.089402028 | AO60: 7488 | AP60: =AO60/$AO$70 -> 0.086485488 | AQ60: 14790 | AR60: =AQ60/$AQ$70 -> 0.087901246
B61: 60-64 | C61: 5916 | D61: =C61/$C$70 -> 0.070182099 | E61: 6361 | F61: =E61/$E$70 -> 0.069865782 | G61: =SUM(C61,E61) -> 12277 | H61: =G61/$G$70 -> 0.070017851 | I61: 5934 | J61: =I61/$I$70 -> 0.070827515 | K61: 6302 | L61: =K61/$K$70 -> 0.069720873 | M61: =SUM(I61,K61) -> 12236 | N61: =M61/$M$70 -> 0.070253201 | O61: 5985 | P61: =O61/$O$70 -> 0.07288825 | Q61: 6273 | R61: =Q61/$Q$70 -> 0.070791766 | S61: =SUM(O61,Q61) -> 12258 | T61: =S61/$S$70 -> 0.071800098 | U61: 6103 | V61: =U61/$U$70 -> 0.074672703 | W61: 6393 | X61: =W61/$W$70 -> 0.072788341 | Y61: =SUM(U61,W61) -> 12496 | Z61: =Y61/$Y$70 -> 0.073696627 | AA61: 6217 | AB61: =AA61/$AA$70 -> 0.076225157 | AC61: 6485 | AD61: =AC61/$AC$70 -> 0.074316426 | AE61: 12702 | AF61: =AE61/$AE$70 -> 0.075238563 | AG61: 6503 | AH61: =AG61/$AG$70 -> 0.079715119 | AI61: 6705 | AJ61: =AI61/$AI$70 -> 0.077064537 | AK61: 13208 | AL61: =AK61/$AK$70 -> 0.078347164 | AM61: 6764 | AN61: =AM61/$AM$70 -> 0.082815025 | AO61: 7005 | AP61: =AO61/$AO$70 -> 0.080906896 | AQ61: 13769 | AR61: =AQ61/$AQ$70 -> 0.081833148
B62: 65-69 | C62: 5798 | D62: =C62/$C$70 -> 0.068782253 | E62: 6360 | F62: =E62/$E$70 -> 0.069854799 | G62: =SUM(C62,E62) -> 12158 | H62: =G62/$G$70 -> 0.069339173 | I62: 5665 | J62: =I62/$I$70 -> 0.067616763 | K62: 6371 | L62: =K62/$K$70 -> 0.07048424 | M62: =SUM(I62,K62) -> 12036 | N62: =M62/$M$70 -> 0.069104898 | O62: 5593 | P62: =O62/$O$70 -> 0.068114283 | Q62: 6213 | R62: =Q62/$Q$70 -> 0.070114657 | S62: =SUM(O62,Q62) -> 11806 | T62: =S62/$S$70 -> 0.06915255 | U62: 5586 | V62: =U62/$U$70 -> 0.068346996 | W62: 6145 | X62: =W62/$W$70 -> 0.069964705 | Y62: =SUM(U62,W62) -> 11731 | Z62: =Y62/$Y$70 -> 0.069184949 | AA62: 5647 | AB62: =AA62/$AA$70 -> 0.069236522 | AC62: 6161 | AD62: =AC62/$AC$70 -> 0.07060347 | AE62: 11808 | AF62: =AE62/$AE$70 -> 0.069943076 | AG62: 5694 | AH62: =AG62/$AG$70 -> 0.06979823 | AI62: 6207 | AJ62: =AI62/$AI$70 -> 0.071340728 | AK62: 11901 | AL62: =AK62/$AK$70 -> 0.070594307 | AM62: 5743 | AN62: =AM62/$AM$70 -> 0.070314413 | AO62: 6153 | AP62: =AO62/$AO$70 -> 0.0710664 | AQ62: 11896 | AR62: =AQ62/$AQ$70 -> 0.070701368
... B69: 100 e più | C69: 9 | D69: =C69/$C$70 -> 0.0001067679 | E69: 43 | F69: =E69/$E$70 -> 0.00047228873 | G69: =SUM(C69,E69) -> 52 | H69: =G69/$G$70 -> 0.00029656498 | I69: 9 | J69: =I69/$I$70 -> 0.00010742292 | K69: 47 | L69: =K69/$K$70 -> 0.00051997478 | M69: =SUM(I69,K69) -> 56 | N69: =M69/$M$70 -> 0.00032152495 | O69: 7 | P69: =O69/$O$70 -> 8.5249415e-05 | Q69: 57 | R69: =Q69/$Q$70 -> 0.00064325374 | S69: =SUM(O69,Q69) -> 64 | T69: =S69/$S$70 -> 0.00037487407 | U69: 10 | V69: =U69/$U$70 -> 0.00012235409 | W69: 59 | X69: =W69/$W$70 -> 0.00067175225 | Y69: =SUM(U69,W69) -> 69 | Z69: =Y69/$Y$70 -> 0.0004069356 | AA69: 11 | AB69: =AA69/$AA$70 -> 0.00013486838 | AC69: 62 | AD69: =AC69/$AC$70 -> 0.000710504 | AE69: 73 | AF69: =AE69/$AE$70 -> 0.00043240554 | AG69: 9 | AH69: =AG69/$AG$70 -> 0.00011032386 | AI69: 79 | AJ69: =AI69/$AI$70 -> 0.00090799379 | AK69: 88 | AL69: =AK69/$AK$70 -> 0.00052199807 | AM69: 8 | AN69: =AM69/$AM$70 -> 9.794799e-05 | AO69: 82 | AP69: =AO69/$AO$70 -> 0.00094709001 | AQ69: 90 | AR69: =AQ69/$AQ$70 -> 0.00053489602
B70: Totale | C70: =SUM(C49:C69) -> 84295 | D70: =C70/$C$70 -> 1 | E70: =SUM(E49:E69) -> 91046 | F70: =E70/$E$70 -> 1 | G70: =SUM(C70,E70) -> 175341 | H70: =G70/$G$70 -> 1 | I70: =SUM(I49:I69) -> 83781 | J70: =I70/$I$70 -> 1 | K70: =SUM(K49:K69) -> 90389 | L70: =K70/$K$70 -> 1 | M70: =SUM(I70,K70) -> 174170 | N70: =M70/$M$70 -> 1 | O70: =SUM(O49:O69) -> 82112 | P70: =O70/$O$70 -> 1 | Q70: =SUM(Q49:Q69) -> 88612 | R70: =Q70/$Q$70 -> 1 | S70: =SUM(O70,Q70) -> 170724 | T70: =S70/$S$70 -> 1 | U70: =SUM(U49:U69) -> 81730 | V70: =U70/$U$70 -> 1 | W70: =SUM(W49:W69) -> 87830 | X70: =W70/$W$70 -> 1 | Y70: =SUM(U70,W70) -> 169560 | Z70: =Y70/$Y$70 -> 1 | AA70: 81561 | AB70: =AA70/$AA$70 -> 1 | AC70: 87262 | AD70: =AC70/$AC$70 -> 1 | AE70: 168823 | AF70: =AE70/$AE$70 -> 1 | AG70: 81578 | AH70: =AG70/$AG$70 -> 1 | AI70: 87005 | AJ70: =AI70/$AI$70 -> 1 | AK70: 168583 | AL70: =AK70/$AK$70 -> 1 | AM70: =SUM(AM49:AM69) -> 81676 | AN70: =AM70/$AM$70 -> 1 | AO70: =SUM(AO49:AO69) -> 86581 | AP70: =AO70/$AO$70 -> 1 | AQ70: =SUM(AQ49:AQ69) -> 168257 | AR70: =AQ70/$AQ$70 -> 1
A71: Fonte: elaborazione su dati Istat
A72: Note: Popolazione residente al 1° gennaio dell'anno di riferimento. I dati 2025 sono previsionali.

Sheet Indicatore 4_Cittadini stranier
A1: Cittadini stranieri residenti (2019-2025)
B3: 2019 | E3: 2020 | H3: 2021 | K3: 2022 | N3: 2023 | Q3: 2024 | T3: 2025
B4: v.a. | C4: inc. % sul totale della popolazione straniera residente in Italia | D4: inc. % sul totale della popolazione (italiana e straniera) nel territorio di riferimento | E4: v.a. | F4: inc. % sul totale della popolazione straniera residente in Italia | G4: inc. % sul totale della popolazione (italiana e straniera) nel territorio di riferimento | H4: v.a. | I4: inc. % sul totale della popolazione straniera residente in Italia | J4: inc. % sul totale della popolazione (italiana e straniera) nel territorio di riferimento | K4: v.a. | L4: inc. % sul totale della popolazione straniera residente in Italia | M4: inc. % sul totale della popolazione (italiana e straniera) nel territorio di riferimento | N4: v.a. | O4: inc. % sul totale della popolazione straniera residente in Italia | P4: inc. % sul totale della popolazione (italiana e straniera) nel territorio di riferimento | Q4: v.a. | R4: inc. % sul totale della popolazione straniera residente in Italia | S4: inc. % sul totale della popolazione (italiana e straniera) nel territorio di riferimento | T4: v.a. | U4: inc. % sul totale della popolazione straniera residente in Italia | V4: inc. % sul totale della popolazione (italiana e straniera) nel territorio di riferimento
A5: Italia | B5: 4996158 | C5: 1 | D5: =B5/59816673 -> 0.083524505 | E5: 5039637 | F5: 1 | G5: =E5/59641488 -> 0.084498848 | H5: 5171894 | I5: 1 | J5: =H5/59236213 -> 0.087309666 | K5: 5193669 | L5: 1 | M5: =K5/58983122 -> 0.088053477 | N5: 5141341 | O5: 1 | P5: =N5/58983122 -> 0.087166308 | Q5: 5253658 | R5: 1 | S5: =Q5/'Indicatore 1_Popolazione reside'!L5 -> 0.089088493 | T5: 5422426 | U5: =T5/$T$5 -> 1 | V5: =T5/'Indicatore 1_Popolazione reside'!N5 -> 0.092008174
A6: Piemonte | B6: 411083 | C6: =B6/B5 -> 0.082279824 | D6: =B6/4328565 -> 0.094969811 | E6: 411936 | F6: =E6/E5 -> 0.081739221 | G6: =E6/4311217 -> 0.095549818 | H6: 417279 | I6: =H6/H5 -> 0.080682048 | J6: =H6/4274945 -> 0.097610379 | K6: 415637 | L6: =K6/K5 -> 0.080027626 | M6: =K6/4252279 -> 0.097744527 | N6: 420240 | O6: =N6/N5 -> 0.08173743 | P6: =N6/4240736 -> 0.099096006 | Q6: 428905 | R6: =Q6/Q5 -> 0.081639307 | S6: =Q6/'Indicatore 1_Popolazione reside'!L6 -> 0.1008803 | T6: 448862 | U6: =T6/$T$5 -> 0.082778815 | V6: =T6/'Indicatore 1_Popolazione reside'!N6 -> 0.10547308
A7: Biella | B7: 9871 | C7: =B7/B5 -> 0.0019757181 | D7: =B7/175341 -> 0.056296017 | E7: 9796 | F7: =E7/E5 -> 0.0019437908 | G7: =E7/174170 -> 0.0562439 | H7: 9652 | I7: =H7/H5 -> 0.0018662409 | J7: =H7/170724 -> 0.056535695 | K7: 9647 | L7: =K7/K5 -> 0.0018574538 | M7: =K7/169560 -> 0.056894315 | N7: 10030 | O7: =N7/N5 -> 0.0019508529 | P7: =N7/169560 -> 0.059153102 | Q7: 10699 | R7: =Q7/Q5 -> 0.0020364858 | S7: =Q7/'Indicatore 1_Popolazione reside'!L7 -> 0.063464288 | T7: 11596 | U7: =T7/$T$5 -> 0.0021385262 | V7: =T7/'Indicatore 1_Popolazione reside'!N7 -> 0.068918381
A8: Fonte: elaborazione su dati Istat
A9: Note: Popolazione residente al 1° gennaio dell'anno di riferimento. I dati 2025 sono previsionali.
A11: Cittadini stranieri residenti su scala nazionale, regionale e provinciale, per genere (2019-2025)
B13: 2019 | G13: 2020 | L13: 2021 | Q13: 2022 | V13: 2023 | AA13: 2024 | AF13: 2025
B14: Uomini | D14: Donne | F14: Totale | G14: Uomini | I14: Donne | K14: Totale | L14: Uomini | N14: Donne | P14: Totale | Q14: Uomini | S14: Donne | U14: Totale | V14: Uomini | X14: Donne | Z14: Totale | AA14: Uomini | AC14: Donne | AE14: Totale | AF14: Uomini | AH14: Donne | AJ14: Totale
B15: v.a. | C15: inc. % | D15: v.a. | E15: inc. % | F15: v.a. | G15: v.a. | H15: inc. % | I15: v.a. | J15: inc. % | K15: v.a. | L15: v.a. | M15: inc. % | N15: v.a. | O15: inc. % | P15: v.a. | Q15: v.a. | R15: inc. % | S15: v.a. | T15: inc. % | U15: v.a. | V15: v.a. | W15: inc. % | X15: v.a. | Y15: inc. % | Z15: v.a. | AA15: v.a. | AB15: inc. % | AC15: v.a. | AD15: inc. % | AE15: v.a. | AF15: v.a. | AG15: inc. % | AH15: v.a. | AI15: inc. % | AJ15: v.a.
A16: Italia | B16: 2414285 | C16: =B16/B5 -> 0.48322831 | D16: 2581873 | E16: =D16/B5 -> 0.51677169 | F16: 4996158 | G16: 2431678 | H16: =G16/E5 -> 0.48251055 | I16: 2607959 | J16: =I16/E5 -> 0.51748945 | K16: 5039637 | L16: 2524644 | M16: =L16/H5 -> 0.4881469 | N16: 2647250 | O16: =N16/H5 -> 0.5118531 | P16: =SUM(L16+N16) -> 5171894 | Q16: 2531043 | R16: =Q16/K5 -> 0.48733237 | S16: 2662626 | T16: =S16/K5 -> 0.51266763 | U16: =SUM(Q16+S16) -> 5193669 | V16: 2517539 | W16: =V16/N5 -> 0.48966583 | X16: 2623802 | Y16: =X16/N5 -> 0.51033417 | Z16: =SUM(V16+X16) -> 5141341 | AA16: 2602650 | AB16: =AA16/AE16 -> 0.49539768 | AC16: 2651008 | AD16: =AC16/AE16 -> 0.50460232 | AE16: 5253658 | AF16: 2720206 | AG16: =AF16/AJ16 -> 0.50165848 | AH16: 2702220 | AI16: =AH16/AJ16 -> 0.49834152 | AJ16: 5422426
A17: Piemonte | B17: 196182 | C17: =B17/B6 -> 0.47723209 | D17: 214901 | E17: =D17/B6 -> 0.52276791 | F17: 411083 | G17: 196678 | H17: =G17/E6 -> 0.47744795 | I17: 215258 | J17: =I17/E6 -> 0.52255205 | K17: 411936 | L17: 201582 | M17: =L17/H6 -> 0.48308686 | N17: 215697 | O17: =N17/H6 -> 0.51691314 | P17: =SUM(L17+N17) -> 417279 | Q17: 201152 | R17: =Q17/K6 -> 0.48396076 | S17: 214485 | T17: =S17/K6 -> 0.51603924 | U17: =SUM(Q17+S17) -> 415637 | V17: 204784 | W17: =V17/N6 -> 0.48730249 | X17: 215456 | Y17: =X17/Z17 -> 0.51269751 | Z17: =SUM(V17+X17) -> 420240 | AA17: 212235 | AB17: =AA17/AE17 -> 0.49482986 | AC17: 216670 | AD17: =AC17/AE17 -> 0.50517014 | AE17: 428905 | AF17: 224922 | AG17: =AF17/AJ17 -> 0.50109388 | AH17: 223940 | AI17: =AH17/AJ17 -> 0.49890612 | AJ17: 448862
A18: Biella | B18: 4478 | C18: =B18/B7 -> 0.45365211 | D18: 5393 | E18: =D18/B7 -> 0.54634789 | F18: 9871 | G18: 4429 | H18: =G18/E7 -> 0.45212332 | I18: 5367 | J18: =I18/E7 -> 0.54787668 | K18: 9796 | L18: 4387 | M18: =L18/H7 -> 0.4545172 | N18: 5265 | O18: =N18/H7 -> 0.5454828 | P18: =SUM(L18+N18) -> 9652 | Q18: 4463 | R18: =Q18/K7 -> 0.46263087 | S18: 5184 | T18: =S18/K7 -> 0.53736913 | U18: =SUM(Q18+S18) -> 9647 | V18: 4669 | W18: =V18/N7 -> 0.46550349 | X18: 5361 | Y18: =X18/Z18 -> 0.53449651 | Z18: =SUM(V18+X18) -> 10030 | AA18: 5076 | AB18: =AA18/AE18 -> 0.47443686 | AC18: 5623 | AD18: =AC18/AE18 -> 0.52556314 | AE18: 10699 | AF18: 5628 | AG18: =AF18/AJ18 -> 0.48533977 | AH18: 5968 | AI18: =AH18/AJ18 -> 0.51466023 | AJ18: 11596
A19: Fonte: elaborazione su dati Istat
A20: Note: Popolazione residente al 1° gennaio dell'anno di riferimento. I dati 2025 sono previsionali.

Sheet Indicatore 5_Minori stranieri
A1: Minori (0-17 anni) stranieri residenti (2019-2025)
B3: 2019 | E3: 2020 | H3: 2021 | K3: 2022 | N3: 2023 | Q3: 2024 | T3: 2025
B4: v.a. | C4: inc. % sul totale della popolazione straniera minore residente in Italia | D4: inc. % sul totale della popolazione straniera nel territorio di riferimento | E4: v.a. | F4: inc. % sul totale della popolazione straniera residente in Italia | G4: inc. % sul totale della popolazione straniera nel territorio di riferimento | H4: v.a. | I4: inc. % sul totale della popolazione straniera residente in Italia | J4: inc. % sul totale della popolazione straniera nel territorio di riferimento | K4: v.a. | L4: inc. % sul totale della popolazione straniera residente in Italia | M4: inc. % sul totale della popolazione straniera nel territorio di riferimento | N4: v.a. | O4: inc. % sul totale della popolazione straniera residente in Italia | P4: inc. % sul totale della popolazione straniera nel territorio di riferimento | Q4: v.a. | R4: inc. % sul totale della popolazione straniera residente in Italia | S4: inc. % sul totale della popolazione straniera nel territorio di riferimento | T4: v.a. | U4: inc. % sul totale della popolazione straniera residente in Italia | V4: inc. % sul totale della popolazione straniera nel territorio di riferimento
A5: Italia | B5: 1012308 | C5: 1 | D5: =B5/4996158 -> 0.20261729 | E5: 1022471 | F5: 1 | G5: =E5/5039637 -> 0.20288584 | H5: 1047873 | I5: 1 | J5: =H5/5171894 -> 0.20260914 | K5: 1056187 | L5: 1 | M5: =K5/5193669 -> 0.20336048 | N5: 1035566 | O5: 1 | P5: =N5/5050257 -> 0.20505214 | Q5: 1030417 | R5: 1 | S5: =Q5/'Indicatore 4_Cittadini stranier'!Q5 -> 0.19613325 | T5: 1043898 | U5: =T5/T5 -> 1 | V5: =T5/'Indicatore 4_Cittadini stranier'!T5 -> 0.19251494
A6: Piemonte | B6: 87504 | C6: =B6/B5 -> 0.086440095 | D6: =B6/411083 -> 0.21286212 | E6: 87889 | F6: =E6/E5 -> 0.08595745 | G6: =E6/411936 -> 0.21335596 | H6: 89374 | I6: =H6/H5 -> 0.08529087 | J6: =H6/417279 -> 0.21418284 | K6: 89289 | L6: =K6/K5 -> 0.084539007 | M6: =K6/415637 -> 0.21482447 | N6: 88214 | O6: =N6/N5 -> 0.085184334 | P6: =N6/414239 -> 0.21295436 | Q6: 87786 | R6: =Q6/Q5 -> 0.085194635 | S6: =Q6/'Indicatore 4_Cittadini stranier'!Q6 -> 0.20467469 | T6: 89958 | U6: =T6/T5 -> 0.086175086 | V6: =T6/'Indicatore 4_Cittadini stranier'!T6 -> 0.20041349
A7: Biella | B7: 1750 | C7: =B7/B5 -> 0.0017287229 | D7: =B7/9871 -> 0.177287 | E7: 1730 | F7: =E7/E5 -> 0.0016919795 | G7: =E7/9796 -> 0.1766027 | H7: 1699 | I7: =H7/H5 -> 0.0016213797 | J7: =H7/9652 -> 0.17602569 | K7: 1705 | L7: =K7/K5 -> 0.0016142975 | M7: =K7/9647 -> 0.17673888 | N7: 1695 | O7: =N7/N5 -> 0.0016367861 | P7: =N7/9694 -> 0.17485042 | Q7: 1826 | R7: =Q7/Q5 -> 0.0017720981 | S7: =Q7/'Indicatore 4_Cittadini stranier'!Q7 -> 0.17067016 | T7: 1981 | U7: =T7/T5 -> 0.001897695 | V7: =T7/'Indicatore 4_Cittadini stranier'!T7 -> 0.17083477
A8: Fonte: elaborazione su dati Istat
A9: Note: Popolazione residente al 1° gennaio dell'anno di riferimento. I dati 2025 sono previsionali.
A11: Minori (0-17 anni) stranieri residenti in Italia, Piemonte e Biella, per genere (2019-2025)
B13: 2019 | G13: 2020 | L13: 2021 | Q13: 2022 | V13: 2023 | AA13: 2024 | AF13: 2025
B14: Uomini | D14: Donne | F14: Totale | G14: Uomini | I14: Donne | K14: Totale | L14: Uomini | N14: Donne | P14: Totale | Q14: Uomini | S14: Donne | U14: Totale | V14: Uomini | X14: Donne | Z14: Totale | AA14: Uomini | AC14: Donne | AE14: Totale | AF14: Uomini | AH14: Donne | AJ14: Totale
B15: v.a. | C15: inc. % | D15: v.a. | E15: inc. % | F15: v.a. | G15: v.a. | H15: inc. % | I15: v.a. | J15: inc. % | K15: v.a. | L15: v.a. | M15: inc. % | N15: v.a. | O15: inc. % | P15: v.a. | Q15: v.a. | R15: inc. % | S15: v.a. | T15: inc. % | U15: v.a. | V15: v.a. | W15: inc. % | X15: v.a. | Y15: inc. % | Z15: v.a. | AA15: v.a. | AB15: inc. % | AC15: v.a. | AD15: inc. % | AE15: v.a. | AF15: v.a. | AG15: inc. % | AH15: v.a. | AI15: inc. % | AJ15: v.a.
A16: Italia | B16: 525390 | C16: =B16/F16 -> 0.51900212 | D16: 486918 | E16: =D16/F16 -> 0.48099788 | F16: =SUM(B16,D16) -> 1012308 | G16: 530045 | H16: =G16/K16 -> 0.51839612 | I16: 492426 | J16: =I16/K16 -> 0.48160388 | K16: =SUM(G16,I16) -> 1022471 | L16: 543231 | M16: =L16/P16 -> 0.51841301 | N16: 504642 | O16: =N16/P16 -> 0.48158699 | P16: =SUM(L16,N16) -> 1047873 | Q16: 547138 | R16: =Q16/U16 -> 0.51803137 | S16: 509049 | T16: =S16/U16 -> 0.48196863 | U16: =SUM(Q16,S16) -> 1056187 | V16: 537676 | W16: =V16/Z16 -> 0.51920978 | X16: 497890 | Y16: =X16/Z16 -> 0.48079022 | Z16: =SUM(V16,X16) -> 1035566 | AA16: 535637 | AB16: =AA16/AE16 -> 0.51982547 | AC16: 494780 | AD16: =AC16/AE16 -> 0.48017453 | AE16: 1030417 | AF16: 547309 | AG16: =AF16/AJ16 -> 0.52429356 | AH16: 496589 | AI16: =AH16/AJ16 -> 0.47570644 | AJ16: 1043898
A17: Piemonte | B17: 45370 | C17: =B17/F17 -> 0.51849058 | D17: 42134 | E17: =D17/F17 -> 0.48150942 | F17: =SUM(B17,D17) -> 87504 | G17: 45590 | H17: =G17/K17 -> 0.51872248 | I17: 42299 | J17: =I17/K17 -> 0.48127752 | K17: =SUM(G17,I17) -> 87889 | L17: 46345 | M17: =L17/P17 -> 0.51855126 | N17: 43029 | O17: =N17/P17 -> 0.48144874 | P17: =SUM(L17,N17) -> 89374 | Q17: 46342 | R17: =Q17/U17 -> 0.5190113 | S17: 42947 | T17: =S17/U17 -> 0.4809887 | U17: =SUM(Q17,S17) -> 89289 | V17: 45620 | W17: =V17/Z17 -> 0.51715147 | X17: 42594 | Y17: =X17/Z17 -> 0.48284853 | Z17: =SUM(V17,X17) -> 88214 | AA17: 45425 | AB17: =AA17/AE17 -> 0.51745153 | AC17: 42361 | AD17: =AC17/AE17 -> 0.48254847 | AE17: 87786 | AF17: 46939 | AG17: =AF17/AJ17 -> 0.52178795 | AH17: 43019 | AI17: =AH17/AJ17 -> 0.47821205 | AJ17: 89958
A18: Biella | B18: 922 | C18: =B18/F18 -> 0.52685714 | D18: 828 | E18: =D18/F18 -> 0.47314286 | F18: =SUM(B18,D18) -> 1750 | G18: 904 | H18: =G18/K18 -> 0.52254335 | I18: 826 | J18: =I18/K18 -> 0.47745665 | K18: =SUM(G18,I18) -> 1730 | L18: 868 | M18: =L18/P18 -> 0.51088876 | N18: 831 | O18: =N18/P18 -> 0.48911124 | P18: =SUM(L18,N18) -> 1699 | Q18: 869 | R18: =Q18/U18 -> 0.50967742 | S18: 836 | T18: =S18/U18 -> 0.49032258 | U18: =SUM(Q18,S18) -> 1705 | V18: 861 | W18: =V18/Z18 -> 0.5079646 | X18: 834 | Y18: =X18/Z18 -> 0.4920354 | Z18: =SUM(V18,X18) -> 1695 | AA18: 935 | AB18: =AA18/AE18 -> 0.51204819 | AC18: 891 | AD18: =AC18/AE18 -> 0.48795181 | AE18: 1826 | AF18: 1040 | AG18: =AF18/AJ18 -> 0.52498738 | AH18: 941 | AI18: =AH18/AJ18 -> 0.47501262 | AJ18: 1981
A19: Fonte: elaborazione su dati Istat
A20: Note: Popolazione residente al 1° gennaio dell'anno di riferimento. I dati 2025 sono previsionali.

Sheet Indicatore 6_Stranieri ogni 100
A1: Stranieri residenti ogni 100 residenti (2019-2025)
B3: 2019 | E3: 2020 | H3: 2021 | K3: 2022 | N3: 2023 | Q3: 2024 | T3: 2025
B4: maschi | C4: femmine | D4: totale | E4: maschi | F4: femmine | G4: totale | H4: maschi | I4: femmine | J4: totale | K4: maschi | L4: femmine | M4: totale | N4: maschi | O4: femmine | P4: totale | Q4: maschi | R4: femmine | S4: totale | T4: maschi | U4: femmine | V4: totale
A5: Alessandria | B5: 10.7 | C5: 10.74 | D5: 10.72 | E5: 10.88 | F5: 11 | G5: 10.94 | H5: 11.35 | I5: 11.3 | J5: 11.33 | K5: 11.68 | L5: 11.58 | M5: 11.63 | N5: 11.45 | O5: 11.2 | P5: 11.32 | Q5: 12.35 | R5: 11.69 | S5: 12.02 | T5: 13.14 | U5: 12.18 | V5: 12.65
A6: Asti | B6: 11.15 | C6: 11.21 | D6: 11.18 | E6: 11.12 | F6: 11.23 | G6: 11.18 | H6: 11.27 | I6: 11.43 | J6: 11.36 | K6: 11.38 | L6: 11.6 | M6: 11.49 | N6: 11.79 | O6: 11.74 | P6: 11.76 | Q6: 11.53 | R6: 10.91 | S6: 11.21 | T6: 11.83 | U6: 11.24 | V6: 11.53
A7: Biella | B7: 5.31 | C7: 5.92 | D7: 5.63 | E7: 5.29 | F7: 5.94 | G7: 5.62 | H7: 5.34 | I7: 5.94 | J7: 5.65 | K7: 5.46 | L7: 5.9 | M7: 5.69 | N7: 5.42 | O7: 6 | P7: 5.71 | Q7: 6.31 | R7: 6.54 | S7: 6.43 | T7: 6.89 | U7: 6.89 | V7: 6.89
A8: Cuneo | B8: 10.24 | C8: 10.28 | D8: 10.26 | E8: 10.28 | F8: 10.25 | G8: 10.26 | H8: 10.86 | I8: 10.52 | J8: 10.69 | K8: 11.06 | L8: 10.73 | M8: 10.89 | N8: 10.97 | O8: 10.6 | P8: 10.78 | Q8: 11.154253 | R8: 10.42 | S8: 10.783004 | T8: 11.52 | U8: 10.44 | V8: 10.98
A9: Novara | B9: 10.24 | C9: 10.27 | D9: 10.26 | E9: 10.33 | F9: 10.4 | G9: 10.36 | H9: 10.56 | I9: 10.5 | J9: 10.53 | K9: 10.4 | L9: 10.59 | M9: 10.5 | N9: 10.23 | O9: 10.35 | P9: 10.29 | Q9: 10.961942 | R9: 10.675027 | S9: 10.815391 | T9: 11.31 | U9: 10.9 | V9: 11.1
A10: Torino | B10: 9.15 | C10: 9.65 | D10: 9.41 | E10: 9.21 | F10: 9.69 | G10: 9.46 | H10: 9.47 | I10: 9.73 | J10: 9.6 | K10: 9.38 | L10: 9.56 | M10: 9.47 | N10: 9.51 | O10: 9.54 | P10: 9.52 | Q10: 10.04555 | R10: 10.030545 | S10: 10.037838 | T10: 10.56 | U10: 10.22 | V10: 20.33
A11: VCO | B11: 5.9 | C11: 6.82 | D11: 6.37 | E11: 5.76 | F11: 6.83 | G11: 6.31 | H11: 5.81 | I11: 6.81 | J11: 6.33 | K11: 5.94 | L11: 6.93 | M11: 6.45 | N11: 5.79 | O11: 6.62 | P11: 6.22 | Q11: 6.4134537 | R11: 7.2329795 | S11: 6.8335457 | T11: 6.7 | U11: 7.24 | V11: 6.97
A12: Vercelli | B12: 8.09 | C12: 8.24 | D12: 8.17 | E12: 8.23 | F12: 8.26 | G12: 8.24 | H12: 8.59 | I12: 8.49 | J12: 8.54 | K12: 8.94 | L12: 8.84 | M12: 8.89 | N12: 9.37 | O12: 9.18 | P12: 9.27 | Q12: 10.247663 | R12: 9.6925149 | S12: 9.9643592 | T12: 10.89 | U12: 10.21 | V12: 10.54
A13: Piemonte | B13: 9.33 | C13: 9.66 | D13: 9.5 | E13: 9.39 | F13: 9.71 | G13: 9.55 | H13: 9.69 | I13: 9.82 | J13: 9.76 | K13: 9.72 | L13: 9.82 | M13: 9.77 | N13: 9.77 | O13: 9.75 | P13: 9.76 | Q13: 10.302801 | R13: 10.084982 | S13: 10.191387 | T13: 10.8 | U13: 10.3 | V13: 10.55
A14: Italia | B14: 8.29 | C14: 8.41 | D14: 8.35 | E14: 8.37 | F14: 8.53 | G14: 8.45 | H14: 8.75 | I14: 8.72 | J14: 8.73 | K14: 8.8 | L14: 8.81 | M14: 8.81 | N14: 8.6 | O14: 8.56 | P14: 8.58 | Q14: 9.11 | R14: 8.8928265 | S14: 8.9974921 | T14: 9.42 | U14: 8.99 | V14: 9.2
A16: Fonte: elaborazione su dati Istat
A17: Note: Popolazione residente al 1° gennaio dell'anno di riferimento. I dati 2025 sono previsionali.

Sheet Indicatore 7_Tasso di mortalità
A1: Tasso di mortalità (2002-2024)
B3: 2002 | C3: 2003 | D3: 2004 | E3: 2005 | F3: 2006 | G3: 2007 | H3: 2008 | I3: 2009 | J3: 2010 | K3: 2011 | L3: 2012 | M3: 2013 | N3: 2014 | O3: 2015 | P3: 2016 | Q3: 2017 | R3: 2018 | S3: 2019 | T3: 2020 | U3: 2021 | V3: 2022 | W3: 2023 | X3: 2024
A4: Alessandria | B4: 14.8 | C4: 15.3 | D4: 14 | E4: 14.1 | F4: 14 | G4: 14 | H4: 14.4 | I4: 14.2 | J4: 13.6 | K4: 13.7 | L4: 14.3 | M4: 13.8 | N4: 13.6 | O4: 14.8 | P4: 14.4 | Q4: 14.7 | R4: 14.8 | S4: 14.7 | T4: 18.8 | U4: 15 | V4: 16.4 | W4: 14.9 | X4: 14.4
A5: Asti | B5: 13.5 | C5: 14.3 | D5: 12.4 | E5: 13.7 | F5: 12.8 | G5: 12.5 | H5: 12.8 | I5: 12.6 | J5: 13 | K5: 12.2 | L5: 13.1 | M5: 12.8 | N5: 12.9 | O5: 14.1 | P5: 13.6 | Q5: 14 | R5: 13.9 | S5: 14.1 | T5: 17.5 | U5: 15 | V5: 15.3 | W5: 13.6 | X5: 12.9
A6: Biella | B6: 13.2 | C6: 12.9 | D6: 12.3 | E6: 12.7 | F6: 12.7 | G6: 12.3 | H6: 12.6 | I6: 13.1 | J6: 12.2 | K6: 12.4 | L6: 12.9 | M6: 13 | N6: 12.7 | O6: 14.1 | P6: 13.8 | Q6: 13.7 | R6: 14.3 | S6: 13.6 | T6: 18 | U6: 15 | V6: 15.8 | W6: 14.6 | X6: 14.7
A7: Cuneo | B7: 11.9 | C7: 12.4 | D7: 11 | E7: 11.5 | F7: 11.3 | G7: 11.4 | H7: 11.4 | I7: 11.6 | J7: 11.3 | K7: 11.1 | L7: 11.5 | M7: 11.2 | N7: 11.4 | O7: 12.2 | P7: 11.5 | Q7: 12 | R7: 12.1 | S7: 12.1 | T7: 14.6 | U7: 12.8 | V7: 13.1 | W7: 12 | X7: 11.7
A8: Novara | B8: 11.4 | C8: 11.4 | D8: 10.4 | E8: 10.7 | F8: 10.5 | G8: 10 | H8: 10.9 | I8: 10.6 | J8: 10.1 | K8: 10.2 | L8: 10.7 | M8: 10.2 | N8: 10.4 | O8: 11.3 | P8: 10.9 | Q8: 11.2 | R8: 11.9 | S8: 11.5 | T8: 14.2 | U8: 12.1 | V8: 12.8 | W8: 11.4 | X8: 11.5
A9: Torino | B9: 10.1 | C9: 10.8 | D9: 9.8 | E9: 10.2 | F9: 10 | G9: 10 | H9: 10.3 | I9: 10.4 | J9: 10.2 | K9: 10.4 | L9: 10.6 | M9: 10.6 | N9: 10.4 | O9: 11.5 | P9: 10.8 | Q9: 11.6 | R9: 11.7 | S9: 11.6 | T9: 14.4 | U9: 12.8 | V9: 13.3 | W9: 12.3 | X9: 11.9
A10: VCO | B10: 12 | C10: 12.1 | D10: 11.4 | E10: 11.8 | F10: 11.4 | G10: 11.1 | H10: 11.8 | I10: 11.7 | J10: 11.5 | K10: 11.5 | L10: 11.8 | M10: 11.3 | N10: 11.6 | O10: 13.1 | P10: 11.5 | Q10: 12.8 | R10: 12.3 | S10: 12.2 | T10: 14.8 | U10: 13.2 | V10: 14.6 | W10: 13.7 | X10: 13.1
A11: Vercelli | B11: 13.7 | C11: 13.5 | D11: 12.5 | E11: 13 | F11: 12.6 | G11: 12.4 | H11: 13.1 | I11: 13.2 | J11: 13.1 | K11: 12.4 | L11: 12.7 | M11: 13.3 | N11: 13.1 | O11: 13.9 | P11: 13.6 | Q11: 14.8 | R11: 14.5 | S11: 14.2 | T11: 18.9 | U11: 15.2 | V11: 15.4 | W11: 14.6 | X11: 13.9
A12: Piemonte | B12: 11.4 | C12: 11.9 | D12: 10.8 | E12: 11.2 | F12: 11 | G12: 11 | H12: 11.3 | I12: 11.3 | J12: 11.1 | K12: 11.1 | L12: 11.4 | M12: 11.3 | N12: 11.2 | O12: 12.3 | P12: 11.6 | Q12: 12.3 | R12: 12.4 | S12: 12.3 | T12: 15.3 | U12: 13.2 | V12: 13.8 | W12: 12.7 | X12: 12.4
A13: Italia | B13: 9.8 | C13: 10.2 | D13: 9.5 | E13: 9.8 | F13: 9.6 | G13: 9.7 | H13: 9.9 | I13: 9.9 | J13: 9.8 | K13: 9.9 | L13: 10.2 | M13: 10 | N13: 9.9 | O13: 10.8 | P13: 10.2 | Q13: 10.8 | R13: 10.6 | S13: 10.6 | T13: 12.5 | U13: 11.9 | V13: 12.1 | W13: 11.4 | X13: 11
A14: Fonte: elaborazione su dati Istat
A15: Note: Il tasso di mortalità esprime il rapporto tra il numero dei decessi nell’anno e l’ammontare medio della popolazione residente, moltiplicato per 1000. I dati del 2024 sono previsionali.

Sheet Indicatore 8_Tasso di natalità
A1: Tasso di natalità (2002-2024)
B3: 2002 | C3: 2003 | D3: 2004 | E3: 2005 | F3: 2006 | G3: 2007 | H3: 2008 | I3: 2009 | J3: 2010 | K3: 2011 | L3: 2012 | M3: 2013 | N3: 2014 | O3: 2015 | P3: 2016 | Q3: 2017 | R3: 2018 | S3: 2019 | T3: 2020 | U3: 2021 | V3: 2022 | W3: 2023 | X3: 2024
A4: Alessandria | B4: 7.1 | C4: 7 | D4: 7.5 | E4: 7.3 | F4: 7.7 | G4: 7.7 | H4: 8 | I4: 7.7 | J4: 7.5 | K4: 7.6 | L4: 7.3 | M4: 7.3 | N4: 6.9 | O4: 6.7 | P4: 6.6 | Q4: 6.5 | R4: 6.2 | S4: 5.9 | T4: 5.6 | U4: 5.4 | V4: 5.3 | W4: 5.6 | X4: 5.1
A5: Asti | B5: 8.4 | C5: 8.1 | D5: 8.4 | E5: 8.6 | F5: 8.6 | G5: 8.6 | H5: 8.8 | I5: 8.8 | J5: 8.2 | K5: 8.2 | L5: 8.3 | M5: 8.3 | N5: 8 | O5: 7.6 | P5: 7.3 | Q5: 7.2 | R5: 7.1 | S5: 6.3 | T5: 6.3 | U5: 5.9 | V5: 6 | W5: 5.9 | X5: 5.9
A6: Biella | B6: 7.7 | C6: 8 | D6: 7.5 | E6: 7.8 | F6: 7.9 | G6: 7.8 | H6: 7.8 | I6: 7.5 | J6: 7.1 | K6: 7 | L6: 7.1 | M6: 7.1 | N6: 6.5 | O6: 6.7 | P6: 5.9 | Q6: 6.1 | R6: 5.6 | S6: 5.4 | T6: 5.3 | U6: 5 | V6: 5.2 | W6: 4.9 | X6: 4.7
A7: Cuneo | B7: 8.9 | C7: 8.8 | D7: 9.3 | E7: 9.1 | F7: 9.2 | G7: 9.3 | H7: 9.5 | I7: 9.6 | J7: 9.3 | K7: 9.1 | L7: 9 | M7: 9 | N7: 8.9 | O7: 8.7 | P7: 8.3 | Q7: 8.2 | R7: 8 | S7: 7.6 | T7: 7.4 | U7: 7.2 | V7: 7.3 | W7: 6.8 | X7: 6.6
A8: Novara | B8: 8.9 | C8: 8.8 | D8: 8.9 | E8: 8.9 | F8: 9.3 | G8: 9.4 | H8: 9.3 | I8: 9.2 | J8: 9.2 | K8: 9.1 | L8: 8.8 | M8: 8.8 | N8: 8.6 | O8: 8.1 | P8: 7.7 | Q8: 7.6 | R8: 7.4 | S8: 7.1 | T8: 6.9 | U8: 6.6 | V8: 6.5 | W8: 6.5 | X8: 6.1
A9: Torino | B9: 8.8 | C9: 8.9 | D9: 9.1 | E9: 9 | F9: 9.1 | G9: 9.2 | H9: 9.4 | I9: 9.2 | J9: 9 | K9: 8.8 | L9: 8.6 | M9: 8.6 | N9: 8.3 | O9: 8 | P9: 7.7 | Q9: 7.3 | R9: 7.2 | S9: 6.8 | T9: 6.5 | U9: 6.4 | V9: 6.3 | W9: 6.1 | X9: 5.8
A10: VCO | B10: 7.6 | C10: 8.3 | D10: 8.3 | E10: 7.7 | F10: 8.2 | G10: 7.7 | H10: 7.8 | I10: 8.1 | J10: 7.8 | K10: 7.6 | L10: 7.3 | M10: 7.3 | N10: 6.8 | O10: 7 | P10: 6.5 | Q10: 6 | R10: 5.7 | S10: 5.4 | T10: 5.2 | U10: 5.5 | V10: 5.7 | W10: 5 | X10: 4.9
A11: Vercelli | B11: 7.6 | C11: 7.8 | D11: 7.8 | E11: 7.7 | F11: 7.7 | G11: 8.3 | H11: 7.7 | I11: 7.8 | J11: 7.6 | K11: 7.4 | L11: 7.8 | M11: 7.8 | N11: 7.2 | O11: 7.2 | P11: 6.7 | Q11: 6.7 | R11: 6.5 | S11: 6.3 | T11: 6.1 | U11: 6 | V11: 6 | W11: 5.9 | X11: 5.4
A12: Piemonte | B12: 8.5 | C12: 8.6 | D12: 8.8 | E12: 8.7 | F12: 8.8 | G12: 8.9 | H12: 9 | I12: 8.9 | J12: 8.7 | K12: 8.6 | L12: 8.4 | M12: 8.4 | N12: 8.1 | O12: 7.9 | P12: 7.5 | Q12: 7.2 | R12: 7.1 | S12: 6.7 | T12: 6.5 | U12: 6.3 | V12: 6.3 | W12: 6.1 | X12: 5.8
A13: Italia | B13: 9.4 | C13: 9.5 | D13: 9.7 | E13: 9.5 | F13: 9.6 | G13: 9.6 | H13: 9.7 | I13: 9.6 | J13: 9.4 | K13: 9.1 | L13: 8.9 | M13: 8.9 | N13: 8.5 | O13: 8.3 | P13: 8.1 | Q13: 7.9 | R13: 7.6 | S13: 7.3 | T13: 7 | U13: 6.8 | V13: 6.8 | W13: 6.7 | X13: 6.3
A14: Fonte: elaborazione su dati Istat
A15: Note: il dato esprime il rapporto tra il numero di nati vivi dell’anno e l’ammontare medio della popolazione residente, moltiplicato per 1000.

Sheet Indicatore 9_Saldo migratorio
A1: Saldo migratorio totale (2002-2024)
B3: 2002 | C3: 2003 | D3: 2004 | E3: 2005 | F3: 2006 | G3: 2007 | H3: 2008 | I3: 2009 | J3: 2010 | K3: 2011 | L3: 2012 | M3: 2013 | N3: 2014 | O3: 2015 | P3: 2016 | Q3: 2017 | R3: 2018 | S3: 2019 | T3: 2020 | U3: 2021 | V3: 2022 | W3: 2023 | X3: 2024
A4: Alessandria | B4: 7.4 | C4: 17.6 | D4: 11.5 | E4: 11.1 | F4: 7.2 | G4: 16.6 | H4: 13.5 | I4: 6.9 | J4: 8.2 | K4: 6.3 | L4: 5.4 | M4: 5.5 | N4: 2 | O4: 1.1 | P4: 2.8 | Q4: 2.9 | R4: 1.7 | S4: 2.2 | T4: -5.6 | U4: 4.6 | V4: 8.7 | W4: 9.8 | X4: 10.9
A5: Asti | B5: 8.1 | C5: 17.6 | D5: 9.1 | E5: 9.9 | F5: 7.9 | G5: 18.7 | H5: 12.8 | I5: 6.7 | J5: 5.5 | K5: 4.9 | L5: 6.8 | M5: 2.5 | N5: -1 | O5: -2.2 | P5: 2 | Q5: 2.7 | R5: 1.1 | S5: 0.6 | T5: -0.9 | U5: 3.8 | V5: 8.3 | W5: 7.1 | X5: 7.4
A6: Biella | B6: 6.2 | C6: 9.1 | D6: 4.1 | E6: 2 | F6: 0.9 | G6: 5.7 | H6: 3.4 | I6: 1.3 | J6: -1 | K6: 1.5 | L6: 1.3 | M6: 0.3 | N6: -0.2 | O6: -0.2 | P6: 1.7 | Q6: 0.8 | R6: 1 | S6: 2 | T6: -7 | U6: 5.7 | V6: 5.2 | W6: 6.5 | X6: 8.1
A7: Cuneo | B7: 8.5 | C7: 12.5 | D7: 9 | E7: 5.7 | F7: 5.2 | G7: 14.6 | H7: 11.1 | I7: 6.9 | J7: 5.2 | K7: 5.2 | L7: 4.7 | M7: 2.9 | N7: 1.9 | O7: 0.8 | P7: 1.1 | Q7: 3 | R7: 2.1 | S7: 2.3 | T7: 0 | U7: 2.7 | V7: 7.7 | W7: 7.5 | X7: 5.2
A8: Novara | B8: 7.6 | C8: 15.9 | D8: 9.5 | E8: 6.3 | F8: 6.9 | G8: 13.2 | H8: 13.5 | I8: 6.7 | J8: 7 | K8: 2.8 | L8: 5.2 | M8: 1.3 | N8: 0 | O8: 0 | P8: 1.3 | Q8: 2 | R8: 2.2 | S8: 1.9 | T8: 2 | U8: 2.8 | V8: 7.6 | W8: 9.4 | X8: 8.2
A9: Torino | B9: 3.3 | C9: 11 | D9: 6.4 | E9: 3.9 | F9: 3.5 | G9: 14.7 | H9: 7.8 | I9: 4.5 | J9: 3.6 | K9: 3.7 | L9: 5.6 | M9: 1.7 | N9: -1.9 | O9: 0.6 | P9: 0.8 | Q9: -1.2 | R9: 0 | S9: 1.1 | T9: 2.7 | U9: 4.6 | V9: 4.4 | W9: 7.1 | X9: 7.5
A10: VCO | B10: 5.2 | C10: 10 | D10: 8.5 | E10: 4.6 | F10: 3.6 | G10: 7.3 | H10: 5.9 | I10: 4.5 | J10: 3.2 | K10: 2.2 | L10: 2.2 | M10: 1.7 | N10: 0.4 | O10: 0.7 | P10: 2.1 | Q10: 3.1 | R10: 1.5 | S10: 0.5 | T10: 0.3 | U10: 3.1 | V10: 7.6 | W10: 7.5 | X10: 4.5
A11: Vercelli | B11: 4.1 | C11: 11 | D11: 7.3 | E11: 4.4 | F11: 3.7 | G11: 10.1 | H11: 7.4 | I11: 5.3 | J11: 4.8 | K11: 1.8 | L11: 2.7 | M11: 1.2 | N11: -0.7 | O11: -0.2 | P11: 1 | Q11: 0.7 | R11: 0 | S11: 1.9 | T11: -3.8 | U11: 6.2 | V11: 8.2 | W11: 8.5 | X11: 9.5
A12: Piemonte | B12: 5.2 | C12: 12.4 | D12: 7.6 | E12: 5.3 | F12: 4.5 | G12: 14.1 | H12: 9.3 | I12: 5.3 | J12: 4.5 | K12: 3.9 | L12: 5.1 | M12: 2.2 | N12: -0.6 | O12: 0.4 | P12: 1.2 | Q12: 0.5 | R12: 0.8 | S12: 1.5 | T12: 0.6 | U12: 2.6 | V12: 6.1 | W12: 7.6 | X12: 7.5
A13: Italia | B13: 3.7 | C13: 8.2 | D13: 7.2 | E13: 4.4 | F13: 3.8 | G13: 8.5 | H13: 7.2 | I13: 4.9 | J13: 4.7 | K13: 3.4 | L13: 4.2 | M13: 2.6 | N13: 0.8 | O13: 0.5 | P13: 0.7 | Q13: 1 | R13: 1.2 | S13: 0.4 | T13: -1.1 | U13: 1.6 | V13: 4.4 | W13: 4.8 | X13: 4.1
A14: Fonte: elaborazione su dati Istat
A15: Note: Il saldo migratorio totale, moltiplicato per mille abitanti, esprime la differenza tra il numero degli iscritti e il numero dei cancellati dai registri anagrafici per trasferimento di residenza. I dati del 2024 sono previsionali.

Sheet Indicatore 10_Età media primo p
A1: Età media della madre al primo parto (2002-2024)
B3: 2002 | C3: 2003 | D3: 2004 | E3: 2005 | F3: 2006 | G3: 2007 | H3: 2008 | I3: 2009 | J3: 2010 | K3: 2011 | L3: 2012 | M3: 2013 | N3: 2014 | O3: 2015 | P3: 2016 | Q3: 2017 | R3: 2018 | S3: 2019 | T3: 2020 | U3: 2021 | V3: 2022 | W3: 2023 | X3: 2024
A4: Alessandria | B4: 30.9 | C4: 30.9 | D4: 30.5 | E4: 30.7 | F4: 30.5 | G4: 30.7 | H4: 30.8 | I4: 30.9 | J4: 30.8 | K4: 30.8 | L4: 31 | M4: 31.3 | N4: 31 | O4: 31.2 | P4: 31.5 | Q4: 31.4 | R4: 31.6 | S4: 31.7 | T4: 31.8 | U4: 32 | V4: 31.9 | W4: 32.2 | X4: 32.1
A5: Asti | B5: 30.1 | C5: 30.6 | D5: 30.6 | E5: 30.3 | F5: 30.4 | G5: 30.4 | H5: 30.4 | I5: 30.1 | J5: 30.4 | K5: 30.5 | L5: 30.9 | M5: 30.8 | N5: 31.1 | O5: 31.4 | P5: 31.1 | Q5: 31.5 | R5: 31.4 | S5: 31.4 | T5: 31.4 | U5: 32.1 | V5: 32 | W5: 31.8 | X5: 31.7
A6: Biella | B6: 30.5 | C6: 30.7 | D6: 30.6 | E6: 31 | F6: 31 | G6: 30.8 | H6: 31.1 | I6: 31.2 | J6: 31.3 | K6: 31.1 | L6: 31.5 | M6: 31.5 | N6: 31.8 | O6: 31.6 | P6: 32 | Q6: 31.9 | R6: 31.9 | S6: 32.2 | T6: 32.2 | U6: 32.9 | V6: 32.5 | W6: 32.7 | X6: 32.7
A7: Cuneo | B7: 30.5 | C7: 30.5 | D7: 30.4 | E7: 30.6 | F7: 30.6 | G7: 30.9 | H7: 30.8 | I7: 30.7 | J7: 30.8 | K7: 31 | L7: 31 | M7: 31 | N7: 31.1 | O7: 31.3 | P7: 31.3 | Q7: 31.5 | R7: 31.5 | S7: 31.6 | T7: 31.6 | U7: 32 | V7: 32 | W7: 32 | X7: 32.2
A8: Novara | B8: 30.3 | C8: 30.9 | D8: 30.8 | E8: 30.8 | F8: 30.9 | G8: 30.9 | H8: 30.8 | I8: 30.9 | J8: 30.9 | K8: 31.2 | L8: 31.2 | M8: 31.3 | N8: 31.1 | O8: 31.6 | P8: 31.7 | Q8: 31.8 | R8: 31.9 | S8: 32 | T8: 31.9 | U8: 32.2 | V8: 32.4 | W8: 32.3 | X8: 32.4
A9: Torino | B9: 31 | C9: 31.2 | D9: 31 | E9: 31.2 | F9: 31.2 | G9: 31.1 | H9: 31.3 | I9: 31.4 | J9: 31.4 | K9: 31.6 | L9: 31.7 | M9: 31.7 | N9: 31.8 | O9: 32 | P9: 32 | Q9: 32.1 | R9: 32.2 | S9: 32.4 | T9: 32.5 | U9: 32.6 | V9: 32.8 | W9: 32.8 | X9: 33.1
A10: VCO | B10: 30.9 | C10: 31.3 | D10: 30.9 | E10: 31.2 | F10: 31 | G10: 31.3 | H10: 31.3 | I10: 31.4 | J10: 31.4 | K10: 31.5 | L10: 31.4 | M10: 31.7 | N10: 31.4 | O10: 31.7 | P10: 31.9 | Q10: 32 | R10: 32.3 | S10: 32.2 | T10: 32 | U10: 32.5 | V10: 32.6 | W10: 32.7 | X10: 32.6
A11: Vercelli | B11: 30.1 | C11: 30.5 | D11: 30.6 | E11: 30.3 | F11: 30.7 | G11: 30.7 | H11: 30.8 | I11: 30.5 | J11: 30.7 | K11: 31.2 | L11: 31.1 | M11: 31.1 | N11: 31.1 | O11: 31.3 | P11: 31.5 | Q11: 31.3 | R11: 31.7 | S11: 31.9 | T11: 31.8 | U11: 31.9 | V11: 31.8 | W11: 32 | X11: 32.5
A12: Piemonte | B12: 30.7 | C12: 31 | D12: 30.8 | E12: 31 | F12: 30.9 | G12: 31 | H12: 31.1 | I12: 31.1 | J12: 31.2 | K12: 31.3 | L12: 31.4 | M12: 31.5 | N12: 31.5 | O12: 31.7 | P12: 31.8 | Q12: 31.8 | R12: 32 | S12: 32.1 | T12: 32.2 | U12: 32.3 | V12: 32.4 | W12: 32.5 | X12: 32.7
A13: Italia | B13: 30.5 | C13: 30.7 | D13: 30.7 | E13: 30.8 | F13: 30.9 | G13: 31 | H13: 31 | I13: 31.1 | J13: 31.2 | K13: 31.3 | L13: 31.4 | M13: 31.5 | N13: 31.5 | O13: 31.7 | P13: 31.8 | Q13: 31.9 | R13: 32 | S13: 32.1 | T13: 32.2 | U13: 32.4 | V13: 32.4 | W13: 32.5 | X13: 32.6
A14: Fonte: elaborazione su dati Istat
A15: Note: La media delle età al parto ponderata con i tassi specifici di fecondità per età della madre al parto (calcolati per anno di evento o per generazione). Il dato 2024 è stimato.

Sheet Indicatore 11_Numero medio di f
A1: Numero medio di figli per donna (2002-2024)
B3: 2002 | C3: 2003 | D3: 2004 | E3: 2005 | F3: 2006 | G3: 2007 | H3: 2008 | I3: 2009 | J3: 2010 | K3: 2011 | L3: 2012 | M3: 2013 | N3: 2014 | O3: 2015 | P3: 2016 | Q3: 2017 | R3: 2018 | S3: 2019 | T3: 2020 | U3: 2021 | V3: 2022 | W3: 2023 | X3: 2024
A4: Alessandria | B4: 1.08 | C4: 1.08 | D4: 1.18 | E4: 1.16 | F4: 1.26 | G4: 1.28 | H4: 1.34 | I4: 1.32 | J4: 1.32 | K4: 1.37 | L4: 1.36 | M4: 1.3 | N4: 1.31 | O4: 1.29 | P4: 1.3 | Q4: 1.27 | R4: 1.22 | S4: 1.17 | T4: 1.15 | U4: 1.13 | V4: 1.21 | W4: 1.16 | X4: 1.09
A5: Asti | B5: 1.28 | C5: 1.22 | D5: 1.29 | E5: 1.35 | F5: 1.38 | G5: 1.4 | H5: 1.45 | I5: 1.5 | J5: 1.42 | K5: 1.45 | L5: 1.48 | M5: 1.47 | N5: 1.4 | O5: 1.37 | P5: 1.4 | Q5: 1.41 | R5: 1.26 | S5: 1.28 | T5: 1.22 | U5: 1.22 | V5: 1.21 | W5: 1.18 | X5: 1.22
A6: Biella | B6: 1.14 | C6: 1.19 | D6: 1.14 | E6: 1.21 | F6: 1.24 | G6: 1.27 | H6: 1.29 | I6: 1.29 | J6: 1.25 | K6: 1.28 | L6: 1.32 | M6: 1.25 | N6: 1.32 | O6: 1.21 | P6: 1.27 | Q6: 1.19 | R6: 1.18 | S6: 1.17 | T6: 1.11 | U6: 1.16 | V6: 1.1 | W6: 1.12 | X6: 1.04
A7: Cuneo | B7: 1.29 | C7: 1.29 | D7: 1.38 | E7: 1.36 | F7: 1.41 | G7: 1.45 | H7: 1.51 | I7: 1.54 | J7: 1.52 | K7: 1.52 | L7: 1.54 | M7: 1.55 | N7: 1.54 | O7: 1.49 | P7: 1.5 | Q7: 1.48 | R7: 1.43 | S7: 1.4 | T7: 1.36 | U7: 1.4 | V7: 1.31 | W7: 1.3 | X7: 1.26
A8: Novara | B8: 1.23 | C8: 1.22 | D8: 1.25 | E8: 1.27 | F8: 1.36 | G8: 1.4 | H8: 1.42 | I8: 1.42 | J8: 1.47 | K8: 1.46 | L8: 1.46 | M8: 1.45 | N8: 1.43 | O8: 1.38 | P8: 1.39 | Q8: 1.38 | R8: 1.35 | S8: 1.32 | T8: 1.28 | U8: 1.27 | V8: 1.26 | W8: 1.2 | X8: 1.19
A9: Torino | B9: 1.2 | C9: 1.23 | D9: 1.27 | E9: 1.28 | F9: 1.32 | G9: 1.37 | H9: 1.41 | I9: 1.42 | J9: 1.43 | K9: 1.43 | L9: 1.42 | M9: 1.4 | N9: 1.4 | O9: 1.37 | P9: 1.33 | Q9: 1.34 | R9: 1.28 | S9: 1.25 | T9: 1.24 | U9: 1.23 | V9: 1.2 | W9: 1.14 | X9: 1.12
A10: VCO | B10: 1.06 | C10: 1.16 | D10: 1.19 | E10: 1.12 | F10: 1.24 | G10: 1.18 | H10: 1.25 | I10: 1.33 | J10: 1.33 | K10: 1.33 | L10: 1.35 | M10: 1.27 | N10: 1.37 | O10: 1.3 | P10: 1.24 | Q10: 1.2 | R10: 1.15 | S10: 1.1 | T10: 1.2 | U10: 1.24 | V10: 1.08 | W10: 1.07 | X10: 1.06
A11: Vercelli | B11: 1.15 | C11: 1.18 | D11: 1.21 | E11: 1.22 | F11: 1.24 | G11: 1.36 | H11: 1.29 | I11: 1.34 | J11: 1.34 | K11: 1.32 | L11: 1.42 | M11: 1.34 | N11: 1.37 | O11: 1.3 | P11: 1.32 | Q11: 1.3 | R11: 1.27 | S11: 1.26 | T11: 1.24 | U11: 1.25 | V11: 1.24 | W11: 1.19 | X11: 1.13
A12: Piemonte | B12: 1.2 | C12: 1.22 | D12: 1.26 | E12: 1.27 | F12: 1.32 | G12: 1.37 | H12: 1.41 | I12: 1.42 | J12: 1.42 | K12: 1.43 | L12: 1.43 | M12: 1.41 | N12: 1.41 | O12: 1.37 | P12: 1.36 | Q12: 1.35 | R12: 1.3 | S12: 1.27 | T12: 1.25 | U12: 1.24 | V12: 1.22 | W12: 1.17 | X12: 1.14
A13: Italia | B13: 1.27 | C13: 1.29 | D13: 1.34 | E13: 1.33 | F13: 1.37 | G13: 1.39 | H13: 1.44 | I13: 1.44 | J13: 1.44 | K13: 1.42 | L13: 1.42 | M13: 1.39 | N13: 1.38 | O13: 1.36 | P13: 1.36 | Q13: 1.34 | R13: 1.31 | S13: 1.27 | T13: 1.24 | U13: 1.25 | V13: 1.24 | W13: 1.2 | X13: 1.18
A14: Fonte: elaborazione su dati Istat
A15: Nota: In un anno di calendario (anno di evento) il numero medio di figli per donna è dato dalla somma dei tassi specifici di fecondità calcolati rapportando, per ogni età feconda, il numero di nati vivi all’ammontare medio annuo della popolazione femminile di quell'età. Il dato del 2024 è stimato.

Sheet Indicatore 12_Età media
A1: Età media della popolazione (2002-2025)
B3: 2002 | C3: 2003 | D3: 2004 | E3: 2005 | F3: 2006 | G3: 2007 | H3: 2008 | I3: 2009 | J3: 2010 | K3: 2011 | L3: 2012 | M3: 2013 | N3: 2014 | O3: 2015 | P3: 2016 | Q3: 2017 | R3: 2018 | S3: 2019 | T3: 2020 | U3: 2021 | V3: 2022 | W3: 2023 | X3: 2024 | Y3: 2025
A4: Alessandria | B4: 47 | C4: 47.1 | D4: 47 | E4: 47.1 | F4: 47.1 | G4: 47.2 | H4: 47.2 | I4: 47.2 | J4: 47.3 | K4: 47.4 | L4: 47.6 | M4: 47.6 | N4: 47.8 | O4: 48 | P4: 48.2 | Q4: 48.3 | R4: 48.5 | S4: 48.7 | T4: 48.9 | U4: 49 | V4: 49.2 | W4: 49.3 | X4: 49.4 | Y4: 49.4
A5: Asti | B5: 45.7 | C5: 45.8 | D5: 45.7 | E5: 45.8 | F5: 45.8 | G5: 45.9 | H5: 45.8 | I5: 45.8 | J5: 45.9 | K5: 46 | L5: 46.2 | M5: 46.3 | N5: 46.4 | O5: 46.7 | P5: 46.9 | Q5: 47.1 | R5: 47.3 | S5: 47.5 | T5: 47.8 | U5: 47.9 | V5: 48 | W5: 48.1 | X5: 48.3 | Y5: 48.8
A6: Biella | B6: 45.3 | C6: 45.4 | D6: 45.5 | E6: 45.7 | F6: 45.9 | G6: 46.2 | H6: 46.3 | I6: 46.6 | J6: 46.8 | K6: 47.1 | L6: 47.4 | M6: 47.6 | N6: 47.8 | O6: 48.1 | P6: 48.4 | Q6: 48.7 | R6: 48.9 | S6: 49.2 | T6: 49.5 | U6: 49.7 | V6: 49.9 | W6: 50 | X6: 50.2 | Y6: 50.3
A7: Cuneo | B7: 43.6 | C7: 43.8 | D7: 43.8 | E7: 43.9 | F7: 44.1 | G7: 44.2 | H7: 44.2 | I7: 44.3 | J7: 44.4 | K7: 44.5 | L7: 44.6 | M7: 44.8 | N7: 44.9 | O7: 45.1 | P7: 45.3 | Q7: 45.5 | R7: 45.7 | S7: 45.9 | T7: 46.1 | U7: 46.2 | V7: 46.4 | W7: 46.5 | X7: 46.7 | Y7: 46.8
A8: Novara | B8: 43.5 | C8: 43.6 | D8: 43.7 | E8: 43.8 | F8: 44 | G8: 44.1 | H8: 44.2 | I8: 44.2 | J8: 44.3 | K8: 44.5 | L8: 44.7 | M8: 44.8 | N8: 45.1 | O8: 45.3 | P8: 45.5 | Q8: 45.8 | R8: 46 | S8: 46.2 | T8: 46.4 | U8: 46.6 | V8: 46.8 | W8: 46.9 | X8: 47.1 | Y8: 47.3
A9: Torino | B9: 43.8 | C9: 44 | D9: 44.1 | E9: 44.3 | F9: 44.5 | G9: 44.7 | H9: 44.7 | I9: 44.8 | J9: 44.9 | K9: 45.1 | L9: 45.3 | M9: 45.5 | N9: 45.7 | O9: 45.9 | P9: 46.1 | Q9: 46.4 | R9: 46.6 | S9: 46.9 | T9: 47.1 | U9: 47.2 | V9: 47.5 | W9: 47.6 | X9: 47.8 | Y9: 47.9
A10: VCO | B10: 44.3 | C10: 44.6 | D10: 44.7 | E10: 44.9 | F10: 45.1 | G10: 45.3 | H10: 45.6 | I10: 45.8 | J10: 45.9 | K10: 46.2 | L10: 46.4 | M10: 46.7 | N10: 46.9 | O10: 47.2 | P10: 47.4 | Q10: 47.7 | R10: 47.9 | S10: 48.2 | T10: 48.5 | U10: 48.7 | V10: 48.7 | W10: 49.2 | X10: 49.4 | Y10: 49.6
A11: Vercelli | B11: 45.4 | C11: 45.6 | D11: 45.6 | E11: 45.8 | F11: 46 | G11: 46.2 | H11: 46.2 | I11: 46.4 | J11: 46.5 | K11: 46.7 | L11: 46.9 | M11: 47 | N11: 47.2 | O11: 47.5 | P11: 47.7 | Q11: 47.9 | R11: 48.1 | S11: 48.3 | T11: 48.5 | U11: 48.6 | V11: 48.7 | W11: 48.8 | X11: 48.8 | Y11: 48.9
A12: Piemonte | B12: 44.3 | C12: 44.5 | D12: 44.6 | E12: 44.7 | F12: 44.8 | G12: 45 | H12: 45 | I12: 45.1 | J12: 45.3 | K12: 45.4 | L12: 45.6 | M12: 45.8 | N12: 46 | O12: 46.2 | P12: 46.4 | Q12: 46.6 | R12: 46.9 | S12: 47.1 | T12: 47.3 | U12: 47.4 | V12: 47.6 | W12: 47.8 | X12: 47.9 | Y12: 48.1
A13: Italia | B13: 41.9 | C13: 42.2 | D13: 42.3 | E13: 42.5 | F13: 42.7 | G13: 42.9 | H13: 43.1 | I13: 43.2 | J13: 43.4 | K13: 43.6 | L13: 43.8 | M13: 44 | N13: 44.2 | O13: 44.5 | P13: 44.7 | Q13: 45 | R13: 45.2 | S13: 45.5 | T13: 45.7 | U13: 45.9 | V13: 46.2 | W13: 46.4 | X13: 46.6 | Y13: 46.8
A14: Fonte: elaborazione su dati Istat
A15: Note: Popolazione residente al 1° gennaio 2024. L'età media della popolazione residente a una certa data è espressa in anni e decimi di anno. È ottenuta come media ponderata con pesi pari all'ammontare della popolazione in ciascuna classe di età. I dati del 2025 sono previsionali.

Sheet Indicatore 13_Indice di vecchia
A1: Indice di vecchiaia, valori percentuali (2002-2025)
B3: 2002 | C3: 2003 | D3: 2004 | E3: 2005 | F3: 2006 | G3: 2007 | H3: 2008 | I3: 2009 | J3: 2010 | K3: 2011 | L3: 2012 | M3: 2013 | N3: 2014 | O3: 2015 | P3: 2016 | Q3: 2017 | R3: 2018 | S3: 2019 | T3: 2020 | U3: 2021 | V3: 2022 | W3: 2023 | X3: 2024 | Y3: 2025
A4: Alessandria | B4: 248.8 | C4: 246.4 | D4: 244.5 | E4: 242.8 | F4: 240.3 | G4: 238.6 | H4: 234.5 | I4: 231 | J4: 229.2 | K4: 227.2 | L4: 228.6 | M4: 229.2 | N4: 231.1 | O4: 234.9 | P4: 237.9 | Q4: 241.3 | R4: 244.4 | S4: 248.9 | T4: 255.4 | U4: 256.9 | V4: 262.9 | W4: 267.5 | X4: 273 | Y4: 279.2
A5: Asti | B5: 209.2 | C5: 206.3 | D5: 204 | E5: 202.4 | F5: 199.9 | G5: 197.4 | H5: 193.9 | I5: 189.9 | J5: 187.7 | K5: 186.6 | L5: 188.5 | M5: 189 | N5: 192.8 | O5: 197.4 | P5: 202 | Q5: 205.6 | R5: 210.5 | S5: 216.3 | T5: 222.3 | U5: 224.3 | V5: 229.6 | W5: 234.1 | X5: 241.9 | Y5: 249.1
A6: Biella | B6: 198.4 | C6: 198 | D6: 198.7 | E6: 201.1 | F6: 204.4 | G6: 207.1 | H6: 208.8 | I6: 210.6 | J6: 212.7 | K6: 215.6 | L6: 220.3 | M6: 224.6 | N6: 230.9 | O6: 237.1 | P6: 245.5 | Q6: 251.2 | R6: 259.2 | S6: 267.7 | T6: 276.2 | U6: 282 | V6: 290.7 | W6: 298.7 | X6: 306.6 | Y6: 314.6
A7: Cuneo | B7: 159.6 | C7: 159.7 | D7: 160.8 | E7: 161.6 | F7: 162.9 | G7: 163.7 | H7: 163.1 | I7: 161.5 | J7: 160.3 | K7: 159.4 | L7: 160.6 | M7: 163 | N7: 165.9 | O7: 168.7 | P7: 172 | Q7: 175.5 | R7: 178.5 | S7: 181.5 | T7: 185.4 | U7: 186.6 | V7: 190 | W7: 194.5 | X7: 199.6 | Y7: 206.2
A8: Novara | B8: 162.4 | C8: 162.7 | D8: 163.6 | E8: 164.6 | F8: 165.1 | G8: 164.2 | H8: 163.1 | I8: 160.6 | J8: 159.6 | K8: 158.7 | L8: 160.4 | M8: 162.1 | N8: 165.4 | O8: 169.2 | P8: 172.9 | Q8: 176.1 | R8: 180.1 | S8: 183.8 | T8: 188.6 | U8: 190.9 | V8: 195.2 | W8: 201.1 | X8: 207.5 | Y8: 215.4
A9: Torino | B9: 164.1 | C9: 165.8 | D9: 168.1 | E9: 170.9 | F9: 172.5 | G9: 173.6 | H9: 172.5 | I9: 172 | J9: 172.1 | K9: 172.1 | L9: 174.7 | M9: 177.4 | N9: 181 | O9: 185.2 | P9: 188.7 | Q9: 192.7 | R9: 196.8 | S9: 201.8 | T9: 207.3 | U9: 210.1 | V9: 215.4 | W9: 221.4 | X9: 228.9 | Y9: 236.6
A10: VCO | B10: 177.3 | C10: 179.3 | D10: 182.1 | E10: 183.7 | F10: 187.4 | G10: 190.2 | H10: 192 | I10: 192.3 | J10: 192.7 | K10: 193.2 | L10: 198.4 | M10: 203.1 | N10: 209.1 | O10: 213.6 | P10: 218.8 | Q10: 225.6 | R10: 230.2 | S10: 238.9 | T10: 248.1 | U10: 253.5 | V10: 261.9 | W10: 268.5 | X10: 277.3 | Y10: 288.3
A11: Vercelli | B11: 207.3 | C11: 208 | D11: 208.8 | E11: 210.3 | F11: 212.9 | G11: 213.9 | H11: 211.5 | I11: 209.5 | J11: 208.7 | K11: 207.7 | L11: 210.5 | M11: 211.8 | N11: 215.6 | O11: 220.1 | P11: 225.5 | Q11: 230.6 | R11: 234.7 | S11: 238.8 | T11: 242.8 | U11: 244 | V11: 246.9 | W11: 251.7 | X11: 256.5 | Y11: 263.9
A12: Piemonte | B12: 176.2 | C12: 176.9 | D12: 178.3 | E12: 180 | F12: 181.1 | G12: 181.7 | H12: 180.4 | I12: 179.2 | J12: 178.7 | K12: 178.4 | L12: 180.7 | M12: 183 | N12: 186.5 | O12: 190.5 | P12: 194.3 | Q12: 198.2 | R12: 202.2 | S12: 207 | T12: 212.4 | U12: 214.8 | V12: 219.9 | W12: 225.5 | X12: 232.3 | Y12: 239.8
A13: Italia | B13: 131.7 | C13: 133.5 | D13: 135.6 | E13: 138 | F13: 140.3 | G13: 142.1 | H13: 143.1 | I13: 143.7 | J13: 144.4 | K13: 145.2 | L13: 148.4 | M13: 151.1 | N13: 154.6 | O13: 158.3 | P13: 162 | Q13: 165.9 | R13: 169.5 | S13: 174 | T13: 179.4 | U13: 182.6 | V13: 187.6 | W13: 193.1 | X13: 199.8 | Y13: 207.6
A14: Fonte: elaborazione su dati Istat
A15: Note: L'indice esprime il rapporto tra la popolazione di 65 anni e oltre e la popolazione di età 0-14 anni, moltiplicato per 100. Il dato 2025 è previsionale.

Sheet Indicatore 14_Indice dipendenza
A1: Indice di dipendenza strutturale, valore percentuale (2002-2025)
B3: 2002 | C3: 2003 | D3: 2004 | E3: 2005 | F3: 2006 | G3: 2007 | H3: 2008 | I3: 2009 | J3: 2010 | K3: 2011 | L3: 2012 | M3: 2013 | N3: 2014 | O3: 2015 | P3: 2016 | Q3: 2017 | R3: 2018 | S3: 2019 | T3: 2020 | U3: 2021 | V3: 2022 | W3: 2023 | X3: 2024 | Y3: 2025
A4: Alessandria | B4: 55.5 | C4: 56.4 | D4: 56.5 | E4: 57.6 | F4: 58.4 | G4: 59.2 | H4: 59.2 | I4: 59.3 | J4: 59.7 | K4: 59.7 | L4: 60.8 | M4: 61.5 | N4: 62.2 | O4: 62.8 | P4: 63.2 | Q4: 63.5 | R4: 63.5 | S4: 63.6 | T4: 63.8 | U4: 64.1 | V4: 64.2 | W4: 64 | X4: 64.1 | Y4: 63.9
A5: Asti | B5: 55.9 | C5: 56.6 | D5: 56.2 | E5: 57.2 | F5: 57.8 | G5: 58.3 | H5: 58.1 | I5: 58.1 | J5: 58.3 | K5: 58.2 | L5: 59.2 | M5: 60.1 | N5: 61.1 | O5: 61.8 | P5: 62.3 | Q5: 62.5 | R5: 62.4 | S5: 62.6 | T5: 62.8 | U5: 63 | V5: 62.9 | W5: 62.8 | X5: 62.9 | Y5: 62.9
A6: Biella | B6: 53 | C6: 53.8 | D6: 54.6 | E6: 55.7 | F6: 56.9 | G6: 57.9 | H6: 58.4 | I6: 58.9 | J6: 59.4 | K6: 59.8 | L6: 60.8 | M6: 61.6 | N6: 62.8 | O6: 63.8 | P6: 64.4 | Q6: 64.9 | R6: 65.3 | S6: 65.5 | T6: 66.1 | U6: 66.4 | V6: 66.4 | W6: 66.4 | X6: 66.6 | Y6: 66.4
A7: Cuneo | B7: 53.1 | C7: 53.8 | D7: 54 | E7: 54.8 | F7: 55.6 | G7: 56.2 | H7: 56.1 | I7: 56.1 | J7: 56.4 | K7: 56.3 | L7: 56.9 | M7: 57.4 | N7: 58.1 | O7: 58.8 | P7: 59.2 | Q7: 59.5 | R7: 59.8 | S7: 60 | T7: 60.2 | U7: 60.2 | V7: 60.4 | W7: 60.3 | X7: 60.3 | Y7: 60.4
A8: Novara | B8: 48.8 | C8: 49.6 | D8: 49.7 | E8: 50.6 | F8: 51.5 | G8: 52.3 | H8: 52.5 | I8: 52.6 | J8: 53 | K8: 53.2 | L8: 54.2 | M8: 55 | N8: 55.8 | O8: 56.6 | P8: 57.1 | Q8: 57.4 | R8: 57.7 | S8: 57.9 | T8: 58.3 | U8: 58.7 | V8: 58.7 | W8: 58.4 | X8: 58.5 | Y8: 58.6
A9: Torino | B9: 47.4 | C9: 48.7 | D9: 49.5 | E9: 50.8 | F9: 52.3 | G9: 53.3 | H9: 53.7 | I9: 54.3 | J9: 55.1 | K9: 55.8 | L9: 57 | M9: 57.9 | N9: 58.9 | O9: 59.9 | P9: 60.3 | Q9: 60.6 | R9: 60.9 | S9: 61 | T9: 61.3 | U9: 61.4 | V9: 61.5 | W9: 61.2 | X9: 61 | Y9: 60.9
A10: VCO | B10: 49.1 | C10: 50.1 | D10: 50.8 | E10: 51.9 | F10: 53.1 | G10: 54.2 | H10: 54.7 | I10: 55.1 | J10: 55.7 | K10: 55.9 | L10: 57 | M10: 57.9 | N10: 58.8 | O10: 59.7 | P10: 60.2 | Q10: 60.5 | R10: 60.8 | S10: 61.1 | T10: 61.7 | U10: 62.3 | V10: 62.5 | W10: 62.4 | X10: 62.7 | Y10: 62.8
A11: Vercelli | B11: 53.7 | C11: 54.4 | D11: 54.9 | E11: 55.9 | F11: 56.8 | G11: 57.3 | H11: 57.5 | I11: 57.5 | J11: 57.8 | K11: 57.7 | L11: 58.6 | M11: 59.6 | N11: 60.5 | O11: 61.4 | P11: 61.9 | Q11: 62.2 | R11: 62.4 | S11: 62.8 | T11: 63.2 | U11: 63.5 | V11: 63.5 | W11: 63.4 | X11: 63.7 | Y11: 63.6
A12: Piemonte | B12: 50 | C12: 51.1 | D12: 51.6 | E12: 52.7 | F12: 53.9 | G12: 54.8 | H12: 55 | I12: 55.4 | J12: 56 | K12: 56.4 | L12: 57.4 | M12: 58.2 | N12: 59.2 | O12: 60 | P12: 60.4 | Q12: 60.8 | R12: 61 | S12: 61.2 | T12: 61.5 | U12: 61.6 | V12: 61.7 | W12: 61.5 | X12: 61.5 | Y12: 61.4
A13: Italia | B13: 49.1 | C13: 49.7 | D13: 50 | E13: 50.7 | F13: 51.4 | G13: 51.9 | H13: 52.1 | I13: 52.3 | J13: 52.6 | K13: 52.7 | L13: 53.5 | M13: 54.2 | N13: 54.8 | O13: 55.4 | P13: 55.8 | Q13: 56.1 | R13: 56.2 | S13: 56.4 | T13: 56.7 | U13: 57.3 | V13: 57.5 | W13: 57.4 | X13: 57.6 | Y13: 57.8
A14: Fonte: elaborazione su dati Istat
A15: Note: L'indice esprime il rapporto tra la popolazione in età non attiva (0-14 anni e 65 anni e oltre) e la popolazione in età attiva (15-64 anni), moltiplicato per 100. Il dato 2025 è previsionale.

Sheet Indicatore 15_Indice di dipende
A1: Indice di dipendenza degli anziani, valori percentuali (2002-2025)
B3: 2002 | C3: 2003 | D3: 2004 | E3: 2005 | F3: 2006 | G3: 2007 | H3: 2008 | I3: 2009 | J3: 2010 | K3: 2011 | L3: 2012 | M3: 2013 | N3: 2014 | O3: 2015 | P3: 2016 | Q3: 2017 | R3: 2018 | S3: 2019 | T3: 2020 | U3: 2021 | V3: 2022 | W3: 2023 | X3: 2024 | Y3: 2025
A4: Alessandria | B4: 39.6 | C4: 40.1 | D4: 40.1 | E4: 40.8 | F4: 41.3 | G4: 41.7 | H4: 41.5 | I4: 41.4 | J4: 41.6 | K4: 41.5 | L4: 42.3 | M4: 42.8 | N4: 43.4 | O4: 44 | P4: 44.5 | Q4: 44.9 | R4: 45 | S4: 45.4 | T4: 45.9 | U4: 46.1 | V4: 46.5 | W4: 46.6 | X4: 47 | Y4: 47
A5: Asti | B5: 37.8 | C5: 38.1 | D5: 37.7 | E5: 38.3 | F5: 38.5 | G5: 38.7 | H5: 38.3 | I5: 38.1 | J5: 38 | K5: 37.9 | L5: 38.7 | M5: 39.3 | N5: 40.2 | O5: 41 | P5: 41.7 | Q5: 42.1 | R5: 42.3 | S5: 42.8 | T5: 43.3 | U5: 43.5 | V5: 43.8 | W5: 44 | X5: 44.5 | Y5: 44.9
A6: Biella | B6: 35.2 | C6: 35.8 | D6: 36.3 | E6: 37.2 | F6: 38.2 | G6: 39 | H6: 39.5 | I6: 39.9 | J6: 40.4 | K6: 40.8 | L6: 41.8 | M6: 42.6 | N6: 43.8 | O6: 44.9 | P6: 45.8 | Q6: 46.4 | R6: 47.1 | S6: 47.7 | T6: 48.5 | U6: 49 | V6: 49.4 | W6: 49.7 | X6: 50.2 | Y6: 50.4
A7: Cuneo | B7: 32.7 | C7: 33.1 | D7: 33.3 | E7: 33.9 | F7: 34.4 | G7: 34.9 | H7: 34.8 | I7: 34.7 | J7: 34.7 | K7: 34.6 | L7: 35.1 | M7: 35.6 | N7: 36.3 | O7: 36.9 | P7: 37.4 | Q7: 37.9 | R7: 38.3 | S7: 38.7 | T7: 39.1 | U7: 39.2 | V7: 39.6 | W7: 39.8 | X7: 40.2 | Y7: 40.7
A8: Novara | B8: 30.2 | C8: 30.7 | D8: 30.9 | E8: 31.5 | F8: 32.1 | G8: 32.5 | H8: 32.5 | I8: 32.4 | J8: 32.6 | K8: 32.6 | L8: 33.4 | M8: 34 | N8: 34.8 | O8: 35.6 | P8: 36.2 | Q8: 36.6 | R8: 37.1 | S8: 37.5 | T8: 38.1 | U8: 38.5 | V8: 38.8 | W8: 39 | X8: 39.5 | Y8: 40
A9: Torino | B9: 29.5 | C9: 30.4 | D9: 31 | E9: 32.1 | F9: 33.1 | G9: 33.8 | H9: 34 | I9: 34.4 | J9: 34.9 | K9: 35.3 | L9: 36.2 | M9: 37 | N9: 37.9 | O9: 38.9 | P9: 39.4 | Q9: 39.9 | R9: 40.4 | S9: 40.8 | T9: 41.4 | U9: 41.6 | V9: 42 | W9: 42.2 | X9: 42.4 | Y9: 42.8
A10: VCO | B10: 31.4 | C10: 32.2 | D10: 32.8 | E10: 33.6 | F10: 34.6 | G10: 35.5 | H10: 36 | I10: 36.2 | J10: 36.7 | K10: 36.8 | L10: 37.9 | M10: 38.8 | N10: 39.8 | O10: 40.6 | P10: 41.3 | Q10: 41.9 | R10: 42.4 | S10: 43.1 | T10: 44 | U10: 44.7 | V10: 45.2 | W10: 45.5 | X10: 46.1 | Y10: 46.6
A11: Vercelli | B11: 36.2 | C11: 36.7 | D11: 37.1 | E11: 37.9 | F11: 38.6 | G11: 39 | H11: 39 | I11: 39 | J11: 39 | K11: 38.9 | L11: 39.7 | M11: 40.5 | N11: 41.3 | O11: 42.2 | P11: 42.9 | Q11: 43.4 | R11: 43.8 | S11: 44.2 | T11: 44.8 | U11: 45.1 | V11: 45.2 | W11: 45.4 | X11: 45.9 | Y11: 46.1
A12: Piemonte | B12: 31.9 | C12: 32.6 | D12: 33 | E12: 33.9 | F12: 34.7 | G12: 35.3 | H12: 35.4 | I12: 35.6 | J12: 35.9 | K12: 36.1 | L12: 37 | M12: 37.7 | N12: 38.5 | O12: 39.4 | P12: 39.9 | Q12: 40.4 | R12: 40.8 | S12: 41.3 | T12: 41.8 | U12: 42.1 | V12: 42.4 | W12: 42.6 | X12: 43 | Y12: 43.3
A13: Italia | B13: 27.9 | C13: 28.4 | D13: 28.8 | E13: 29.4 | F13: 30 | G13: 30.5 | H13: 30.6 | I13: 30.8 | J13: 31.1 | K13: 31.2 | L13: 32 | M13: 32.6 | N13: 33.3 | O13: 34 | P13: 34.5 | Q13: 35 | R13: 35.4 | S13: 35.8 | T13: 36.4 | U13: 37 | V13: 37.5 | W13: 37.8 | X13: 38.4 | Y13: 39
A14: Fonte: elaborazione su dati Istat
A15: Note: L'indice esprime il rapporto tra la popolazione di 65 anni e oltre e la popolazione in età attiva (15-64 anni), moltiplicato per 100. Il dato 2025 è previsionale.
