Workbook

Sheet 00_Introduzione
A1: VI Rapporto Annuale 2026 - OsservaBiella
A2: Dati socio-demografici | B2: Il Rapporto è introdotto da un capitolo che contiene i più significativi indicatori socio-demografici relativi alla Provincia di Biella, alla Regione Piemonte e all’Italia. Il capitolo è pensato per descrivere lo scenario locale nel suo complesso e provare a posizionarlo rispetto al contesto regionale e nazionale; si propone, inoltre, come chiave di lettura utile all'interpretazione degli indicatori contenuti negli altri capitoli. In questa prima sezione trovano spazio dati relativi alla popolazione residente e alla sua struttura demografica. Sono inoltre presenti i principali indicatori e indici statistici demografici relativi alla mortalità, alla fecondità, alla presenza di persone anziane e straniere.
A3: Elaborazione a cura del Laboratorio Percorsi di Secondo Welfare | B3: Celestina Valeria De Tommaso, valeria.detommaso@secondowelfare.it Franca Maino, franca.maino@secondowelfare.it Alice Sofia Fanelli, alice.fanelli@secondowelfare.it Simona Vinci, simona.vinci@secondowelfare.it
A4: Fondazione Cassa di Risparmio di Biella OsservaBiella – Osservatorio territoriale del Biellese) | B4: Cristina Garavoglia, cristina.garavoglia@fondazionecrbiella.it Sara Diritti, sara.diritti@fondazionecrbiella.it
A5: Come citare | B5: OsservaBiella – Osservatorio territoriale del Biellese (2026), VI Rapporto annuale 2026, Fondazione Cassa di Risparmio di Biella.
A7: Riepilogo degli indicatori del Capitolo Socio-Demo
A8: Numero indicatore | B8: Gruppo/categoria | C8: Indicatore | D8: Annualità di riferimento | E8: Fonte
A9: 1 | B9: Struttura della popolazione | C9: Popolazione residente | D9: 2019-2026 | E9: Istat
A10: 2 | C10: Densità della popolazione | D10: 2018-2026 | E10: Istat
A11: 3 | C11: Struttura demografica della popolazione | D11: 2019-2026 | E11: Istat
A12: 4 | C12: Cittadini stranieri residenti | D12: 2019-2026 | E12: Istat
A13: 5 | C13: Minori stranieri residenti | D13: 2019-2026 | E13: Istat
A14: 6 | C14: Stranieri residenti ogni 100 residenti | D14: 2019-2026 | E14: Istat
A15: 7 | B15: Indicatori demografici | C15: Tasso di mortalità | D15: 2002-2025 | E15: Istat
A16: 8 | C16: Tasso di natalità | D16: 2002-2025 | E16: Istat
A17: 9 | C17: Saldo migratorio | D17: 2002-2025 | E17: Istat
A18: 10 | C18: Età media delle donne al primo parto | D18: 2002-2025 | E18: Istat
A19: 11 | C19: Numero medio di figli per donna | D19: 2002-2025 | E19: Istat
A20: 12 | C20: Età media | D20: 2002-2026 | E20: Istat
A21: 13 | C21: Indice di vecchiaia | D21: 2002-2026 | E21: Istat
A22: 14 | C22: Indice di dipendenza strutturale | D22: 2002-2026 | E22: Istat
A23: 15 | C23: Indice di dipendenza degli anziani | D23: 2002-2026 | E23: Istat
A24: 16 | B24: Previsioni demografiche | C24: Previsioni provinciali della popolazione | D24: 2024-2050 | E24: Istat

Sheet Indicatore 1_Popolazione reside
A1: Popolazione residente - Italia, Piemonte, Provincia di Biella (2019 - 2026)
A2: Territorio | B2: 2019 | D2: 2020 | F2: 2021 | H2: 2022 | J2: 2023 | L2: 2024 | N2: 2025 | P2: 2026
B3: v.a. | C3: inc. % sul totale della popolazione italiana | D3: v.a. | E3: inc. % sul totale della popolazione italiana | F3: v.a. | G3: inc. % sul totale della popolazione italiana | H3: v.a. | I3: inc. % sul totale della popolazione italiana | J3: v.a. | K3: inc. % sul totale della popolazione italiana | L3: v.a. | M3: inc. % sul totale della popolazione italiana | N3: v.a. | O3: inc. % sul totale della popolazione italiana | P3: v.a. | Q3: inc. % sul totale della popolazione italiana
A4: Italia | B4: 59816673 | C4: 1 | D4: 59641488 | E4: 1 | F4: 59236213 | G4: 1 | H4: 58983122 | I4: 1 | J4: 58997201 | K4: 1 | L4: 58971230 | M4: 1 | N4: 58934177 | O4: =N4/N4 -> 1 | P4: 58942828 | Q4: =P4/P4 -> 1
A5: Piemonte | B5: 4328565 | C5: =B5/$B$4 -> 0.072363854 | D5: 4311217 | E5: =D5/$D$4 -> 0.072285537 | F5: 4274945 | G5: =F5/$F$4 -> 0.072167763 | H5: 4252279 | I5: =H5/H4 -> 0.072093149 | J5: 4251351 | K5: =J5/J4 -> 0.072060215 | L5: 4251623 | M5: =L5/L4 -> 0.072096563 | N5: 4255702 | O5: =N5/N4 -> 0.072211104 | P5: 4255006 | Q5: =P5/P4 -> 0.072188698
A6: Biella | B6: 175341 | C6: =B6/$B$4 -> 0.0029313065 | D6: 174170 | E6: =D6/$D$4 -> 0.0029202826 | F6: 170724 | G6: =F6/$F$4 -> 0.0028820884 | H6: 169560 | I6: =H6/H4 -> 0.0028747207 | J6: 169106 | K6: =J6/J4 -> 0.0028663394 | L6: 168583 | M6: =L6/L4 -> 0.002858733 | N6: 168257 | O6: =N6/N4 -> 0.0028549987 | P6: 168223 | Q6: =P6/P4 -> 0.0028540029
A7: Fonte: elaborazione su dati Istat.
A8: Note: Popolazione residente al 1° gennaio dell'anno di riferimento. Le incidenze percentuali della popolazione residente a livello provinciale e regionale sono calcolate sul totale della popolazione residente in Italia. I dati 2026 sono previsionali.
A10: Popolazione residente per genere - Italia, Piemonte, Provincia di Biella (2019 - 2026)
A11: Territorio | B11: 2019 | F11: 2020 | J11: 2021 | N11: 2022 | R11: 2023 | V11: 2024 | Z11: 2025 | AD11: 2026
B12: Uomini | D12: Donne | F12: Uomini | H12: Donne | J12: Uomini | L12: Donne | N12: Uomini | P12: Donne | R12: Uomini | T12: Donne | V12: Uomini | X12: Donne | Z12: Uomini | AB12: Donne | AD12: Uomini | AF12: Donne
B13: v.a. | C13: inc. % | D13: v.a. | E13: inc. % | F13: v.a. | G13: inc. % | H13: v.a. | I13: inc. % | J13: v.a. | K13: inc. % | L13: v.a. | M13: inc. % | N13: v.a. | O13: inc. % | P13: v.a. | Q13: inc. % | R13: v.a. | S13: inc. % | T13: v.a. | U13: inc. % | V13: v.a. | W13: inc. % | X13: v.a. | Y13: inc. % | Z13: v.a. | AA13: inc. % | AB13: v.a. | AC13: inc. % | AD13: v.a. | AE13: inc. % | AF13: v.a. | AG13: inc. %
A14: Italia | B14: 29131195 | C14: =B14/B4 -> 0.48700795 | D14: 30685478 | E14: =D14/B4 -> 0.51299205 | F14: 29050096 | G14: =F14/D4 -> 0.48707866 | H14: 30591392 | I14: =H14/D4 -> 0.51292134 | J14: 28866226 | K14: =J14/F4 -> 0.48730708 | L14: 30369987 | M14: =L14/F4 -> 0.51269292 | N14: 28747417 | O14: =N14/H4 -> 0.48738378 | P14: 30235705 | Q14: =P14/H4 -> 0.51261622 | R14: 28814832 | S14: =R14/J4 -> 0.48841015 | T14: 30182369 | U14: =T14/J4 -> 0.51158985 | V14: 28846728 | W14: =V14/L4 -> 0.48916612 | X14: 30124502 | Y14: =X14/L4 -> 0.51083388 | Z14: 28876799 | AA14: =Z14/N4 -> 0.48998392 | AB14: 30057378 | AC14: =AB14/N4 -> 0.51001608 | AD14: 28920635 | AE14: =AD14/P4 -> 0.49065571 | AF14: 30022193 | AG14: =AF14/P4 -> 0.50934429
A15: Piemonte | B15: 2103024 | C15: =B15/B5 -> 0.48584785 | D15: 2225541 | E15: =D15/B5 -> 0.51415215 | F15: 2095058 | G15: =F15/D5 -> 0.48595513 | H15: 2216159 | I15: =H15/D5 -> 0.51404487 | J15: 2079401 | K15: =J15/F5 -> 0.48641585 | L15: 2195544 | M15: =L15/F5 -> 0.51358415 | N15: 2068986 | O15: =N15/H5 -> 0.48655933 | P15: 2183293 | Q15: =P15/H5 -> 0.51344067 | R15: 2072771 | S15: =R15/J5 -> 0.48755584 | T15: 2178580 | U15: =T15/J5 -> 0.51244416 | V15: 2077302 | W15: =V15/L5 -> 0.48859036 | X15: 2174321 | Y15: =X15/L5 -> 0.51140964 | Z15: 2083188 | AA15: =Z15/N5 -> 0.48950514 | AB15: 2172514 | AC15: =AB15/N5 -> 0.51049486 | AD15: 2086022 | AE15: =AD15/P5 -> 0.49025125 | AF15: 2168984 | AG15: =AF15/P5 -> 0.50974875
A16: Biella | B16: 84295 | C16: =B16/B6 -> 0.48074894 | D16: 91046 | E16: =D16/B6 -> 0.51925106 | F16: 83781 | G16: =F16/D6 -> 0.48103003 | H16: 90389 | I16: =H16/D6 -> 0.51896997 | J16: 82112 | K16: =J16/F6 -> 0.48096343 | L16: 88612 | M16: =L16/F6 -> 0.51903657 | N16: 81730 | O16: =N16/H6 -> 0.48201227 | P16: 87830 | Q16: =P16/H6 -> 0.51798773 | R16: 81705 | S16: =R16/J6 -> 0.48315849 | T16: 87401 | U16: =T16/J6 -> 0.51684151 | V16: 81578 | W16: =V16/L6 -> 0.48390407 | X16: 87005 | Y16: =X16/L6 -> 0.51609593 | Z16: 81676 | AA16: =Z16/N6 -> 0.48542408 | AB16: 86581 | AC16: =AB16/N6 -> 0.51457592 | AD16: 81791 | AE16: =AD16/P6 -> 0.48620581 | AF16: 86432 | AG16: =AF16/P6 -> 0.51379419
A17: Fonte: elaborazione su dati Istat
A18: Note: Popolazione residente al 1° gennaio dell'anno di riferimento. Le incidenze percentuali della popolazione residente a livello provinciale e regionale sono calcolate sul totale della popolazione residente in Italia. I dati 2026 sono previsionali.

Sheet Indicatore 2_Densità popolazion
A1: Popolazione residente e densità della popolazione - Italia, Piemonte, province del Piemonte (2018 - 2026)
A2: Territorio | B2: 2018 | E2: 2019 | H2: 2020 | K2: 2021 | N2: 2022 | Q2: 2023 | T2: 2024 | W2: 2025 | Z2: 2026
B3: Popolazione residente | C3: Superficie territoriale (Kmq) | D3: Densità popolazione/kmq | E3: Popolazione residente | F3: Superficie territoriale (Kmq) | G3: Densità popolazione/kmq | H3: Popolazione residente | I3: Superficie territoriale (Kmq) | J3: Densità popolazione/kmq | K3: Popolazione residente | L3: Superficie territoriale (Kmq) | M3: Densità popolazione/kmq | N3: Popolazione residente | O3: Superficie territoriale (Kmq) | P3: Densità popolazione/kmq | Q3: Popolazione residente | R3: Superficie territoriale (Kmq) | S3: Densità popolazione/kmq | T3: Popolazione residente | U3: Superficie territoriale (Kmq) | V3: Densità popolazione/kmq | W3: Popolazione residente | X3: Superficie territoriale (Kmq) | Y3: Densità popolazione/kmq | Z3: Popolazione residente | AA3: Superficie territoriale (Kmq) | AB3: Densità popolazione/kmq
A5: Italia | B5: 59937769 | C5: 301340 | D5: =B5/C5 -> 198.90412 | E5: 59816673 | F5: 301340 | G5: =E5/F5 -> 198.50227 | H5: 59641488 | I5: 301340 | J5: =H5/I5 -> 197.92091 | K5: 58850717 | L5: 302068.26 | M5: =K5/L5 -> 194.82589 | N5: 59030133 | O5: 302068.26 | P5: =N5/O5 -> 195.41985 | Q5: 58997201 | R5: 302068.26 | S5: =Q5/R5 -> 195.31082 | T5: 58971230 | U5: 302109.57 | V5: =T5/U5 -> 195.19815 | W5: 58934177 | X5: 302109.57 | Y5: =W5/X5 -> 195.07551 | Z5: 58942828 | AA5: 302109.57 | AB5: =Z5/AA5 -> 195.10414
A6: Piemonte | B6: 4349911 | C6: 25387.069 | D6: =B6/C6 -> 171.34357 | E6: 4328565 | F6: 25387.069 | G6: =E6/F6 -> 170.50275 | H6: 4311217 | I6: 25387.069 | J6: =H6/I6 -> 169.81941 | K6: 4240736 | L6: 25386.7 | M6: =K6/L6 -> 167.04558 | N6: 4256350 | O6: 25386.7 | P6: =N6/O6 -> 167.66063 | Q6: 4251351 | R6: 25386.7 | S6: =Q6/R6 -> 167.46371 | T6: 4251623 | U6: 25386.728 | V6: =T6/U6 -> 167.47424 | W6: 4255702 | X6: 25386.728 | Y6: =W6/X6 -> 167.63492 | Z6: 4255006 | AA6: 25386.728 | AB6: =Z6/AA6 -> 167.6075
A7: Alessandria | B7: 423296 | C7: 3558.8268 | D7: =B7/C7 -> 118.94257 | E7: 420300 | F7: 3558.8268 | G7: =E7/F7 -> 118.10072 | H7: 417288 | I7: 3558.8268 | J7: =H7/I7 -> 117.25437 | K7: 405701 | L7: 3558.78 | M7: =K7/L7 -> 114.00002 | N7: 407264 | O7: 3558.78 | P7: =N7/O7 -> 114.43922 | Q7: 406494 | R7: 3558.78 | S7: =Q7/R7 -> 114.22285 | T7: 406385 | U7: 3558.7881 | V7: =T7/U7 -> 114.19196 | W7: 407029 | X7: 3558.7881 | Y7: =W7/X7 -> 114.37292 | Z7: 408063 | AA7: 3558.7881 | AB7: =Z7/AA7 -> 114.66347
A8: Asti | B8: 214897 | C8: 1510.1925 | D8: =B8/C8 -> 142.29775 | E8: 213504 | F8: 1510.1925 | G8: =E8/F8 -> 141.37535 | H8: 212010 | I8: 1510.1925 | J8: =H8/I8 -> 140.38608 | K8: 207446 | L8: 1510.17 | M8: =K8/L8 -> 137.36599 | N8: 208286 | O8: 1510.17 | P8: =N8/O8 -> 137.92222 | Q8: 207951 | R8: 1510.17 | S8: =Q8/R8 -> 137.70039 | T8: 207239 | U8: 1510.1731 | V8: =T8/U8 -> 137.22864 | W8: 207310 | X8: 1510.1731 | Y8: =W8/X8 -> 137.27565 | Z8: 207059 | AA8: 1510.1731 | AB8: =Z8/AA8 -> 137.10945
A9: Biella | B9: 176737 | C9: 913.2839 | D9: =B9/C9 -> 193.51814 | E9: 175341 | F9: 913.2839 | G9: =E9/F9 -> 191.98959 | H9: 174170 | I9: 913.2839 | J9: =H9/I9 -> 190.7074 | K9: 168823 | L9: 913.27 | M9: =K9/L9 -> 184.85552 | N9: 170027 | O9: 913.27 | P9: =N9/O9 -> 186.17386 | Q9: 169106 | R9: 913.27 | S9: =Q9/R9 -> 185.16539 | T9: 168583 | U9: 913.2699 | V9: =T9/U9 -> 184.59275 | W9: 168257 | X9: 913.2699 | Y9: =W9/X9 -> 184.23579 | Z9: 168223 | AA9: 913.2699 | AB9: =Z9/AA9 -> 184.19856
A10: Cuneo | B10: 588639 | C10: 6905 | D10: =B10/C10 -> 85.248226 | E10: 587213 | F10: 6905 | G10: =E10/F10 -> 85.041709 | H10: 586113 | I10: 6905 | J10: =H10/I10 -> 84.882404 | K10: 579948 | L10: 6894 | M10: =K10/L10 -> 84.123586 | N10: 580155 | O10: 6894 | P10: =N10/O10 -> 84.153612 | Q10: 580736 | R10: 6894 | S10: =Q10/R10 -> 84.237888 | T10: 581631 | U10: 6894.8232 | V10: =T10/U10 -> 84.357638 | W10: 581676 | X10: 6894.8232 | Y10: =W10/X10 -> 84.364165 | Z10: 582109 | AA10: 6894.8232 | AB10: =Z10/AA10 -> 84.426965
A11: Novara | B11: 366691 | C11: 1340.2835 | D11: =B11/C11 -> 273.59212 | E11: 365773 | F11: 1340.2835 | G11: =E11/F11 -> 272.90719 | H11: 364980 | I11: 1340.2835 | J11: =H11/I11 -> 272.31552 | K11: 361394 | L11: 1340.25 | M11: =K11/L11 -> 269.64671 | N11: 361916 | O11: 1340.25 | P11: =N11/O11 -> 270.03619 | Q11: 362502 | R11: 1340.25 | S11: =Q11/R11 -> 270.47342 | T11: 363482 | U11: 1340.2472 | V11: =T11/U11 -> 271.20519 | W11: 364478 | X11: 1340.2472 | Y11: =W11/X11 -> 271.94834 | Z11: 365930 | AA11: 1340.2472 | AB11: =Z11/AA11 -> 273.03172
A12: Torino | B12: 2249616 | C12: 6821 | D12: =B12/C12 -> 329.80736 | E12: 2238663 | F12: 6821 | G12: =E12/F12 -> 328.20158 | H12: 2230946 | I12: 6821 | J12: =H12/I12 -> 327.07022 | K12: 2198237 | L12: 6826.91 | M12: =K12/L12 -> 321.9959 | N12: 2208370 | O12: 6826.91 | P12: =N12/O12 -> 323.48017 | Q12: 2204632 | R12: 6826.91 | S12: =Q12/R12 -> 322.93263 | T12: 2204837 | U12: 6826.9298 | V12: =T12/U12 -> 322.96172 | W12: 2207873 | X12: 6826.9298 | Y12: =W12/X12 -> 323.40643 | Z12: 2204779 | AA12: 6826.9298 | AB12: =Z12/AA12 -> 322.95323
A13: Verbano C.O. | B13: 158131 | C13: 2260.909 | D13: =B13/C13 -> 69.941338 | E13: 157278 | F13: 2260.909 | G13: =E13/F13 -> 69.564056 | H13: 156320 | I13: 2260.909 | J13: =H13/I13 -> 69.140332 | K13: 153682 | L13: 2260.89 | M13: =K13/L13 -> 67.974116 | N13: 154249 | O13: 2260.89 | P13: =N13/O13 -> 68.224903 | Q13: 154038 | R13: 2260.89 | S13: =Q13/R13 -> 68.131577 | T13: 153762 | U13: 2260.8919 | V13: =T13/U13 -> 68.009444 | W13: 153201 | X13: 2260.8919 | Y13: =W13/X13 -> 67.761311 | Z13: 152677 | AA13: 2260.8919 | AB13: =Z13/AA13 -> 67.529544
A14: Vercelli | B14: 171904 | C14: 2081.6357 | D14: =B14/C14 -> 82.581212 | E14: 170493 | F14: 2081.6357 | G14: =E14/F14 -> 81.90338 | H14: 169390 | I14: 2081.6357 | J14: =H14/I14 -> 81.373508 | K14: 165505 | L14: 2081.6 | M14: =K14/L14 -> 79.508551 | N14: 166083 | O14: 2081.6 | P14: =N14/O14 -> 79.786222 | Q14: 165892 | R14: 2081.6 | S14: =Q14/R14 -> 79.694466 | T14: 165704 | U14: 2081.6048 | V14: =T14/U14 -> 79.603967 | W14: 165878 | X14: 2081.6048 | Y14: =W14/X14 -> 79.687556 | Z14: 166166 | AA14: 2081.6048 | AB14: =Z14/AA14 -> 79.825911
A15: Fonte: elaborazione su dati Istat

Sheet Indicatore 3_Struttura demograf
A1: Struttura demografica della popolazione per fascia di età - Italia, Piemonte e Provincia di Biella (2019 - 2026)
C2: 2019 | I2: 2020 | O2: 2021 | U2: 2022 | AA2: 2023 | AG2: 2024 | AM2: 2025 | AS2: 2026
C3: Uomini | E3: Donne | G3: Totale | I3: Uomini | K3: Donne | M3: Totale | O3: Uomini | Q3: Donne | S3: Totale | U3: Uomini | W3: Donne | Y3: Totale | AA3: Uomini | AC3: Donne | AE3: Totale | AG3: Uomini | AI3: Donne | AK3: Totale | AM3: Uomini | AO3: Donne | AQ3: Totale | AS3: Uomini | AU3: Donne | AW3: Totale
C4: v.a. | D4: inc. % | E4: v.a. | F4: inc. % | G4: v.a. | H4: % | I4: v.a. | J4: inc. % | K4: v.a. | L4: inc. % | M4: v.a. | N4: % | O4: v.a. | P4: inc. % | Q4: v.a. | R4: inc. % | S4: v.a. | T4: % | U4: v.a. | V4: inc. % | W4: v.a. | X4: inc. % | Y4: v.a. | Z4: % | AA4: v.a. | AB4: inc. % | AC4: v.a. | AD4: inc. % | AE4: v.a. | AF4: % | AG4: v.a. | AH4: inc. % | AI4: v.a. | AJ4: inc. % | AK4: v.a. | AL4: % | AM4: v.a. | AN4: inc. % | AO4: v.a. | AP4: inc. % | AQ4: v.a. | AR4: % | AS4: v.a. | AT4: inc. % | AU4: v.a. | AV4: inc. % | AW4: v.a. | AX4: %
A5: Italia | B5: 0-4 | C5: 1202154 | D5: =C5/$C$26 -> 0.041266896 | E5: 1136598 | F5: =E5/$E$26 -> 0.037040257 | G5: =SUM(C5,E5) -> 2338752 | H5: =G5/$G$26 -> 0.039098664 | I5: 1163198 | J5: =I5/$I$26 -> 0.040041107 | K5: 1101340 | L5: =K5/$K$26 -> 0.036001631 | M5: =SUM(I5,K5) -> 2264538 | N5: =M5/$M$26 -> 0.037969173 | O5: 1138845 | P5: =O5/$O$26 -> 0.039452508 | Q5: 1077665 | R5: =Q5/$Q$26 -> 0.035484539 | S5: =SUM(O5,Q5) -> 2216510 | T5: =S5/$S$26 -> 0.037418158 | U5: 1100738 | V5: =U5/$U$26 -> 0.038289979 | W5: 1040948 | X5: =W5/$W$26 -> 0.034427773 | Y5: =SUM(U5,W5) -> 2141686 | Z5: =Y5/$Y$26 -> 0.03631015 | AA5: 1070488 | AB5: =AA5/$AA$26 -> 0.037235195 | AC5: 1010980 | AD5: =AC5/$AC$26 -> 0.03358586 | AE5: 2081468 | AF5: =AE5/$AE$26 -> 0.035368609 | AG5: 1044103 | AH5: =AG5/$AG$26 -> 0.03619485 | AI5: 987373 | AJ5: =AI5/$AI$26 -> 0.032776409 | AK5: 2031476 | AL5: =AK5/$AK$26 -> 0.034448595 | AM5: 1021486 | AN5: =AM5/$AM$26 -> 0.035373935 | AO5: 961242 | AP5: =AO5/$AO$26 -> 0.031980235 | AQ5: 1982728 | AR5: =AQ5/$AQ$26 -> 0.033643093 | AS5: 996835 | AT5: =AS5/$AS$26 -> 0.03446795 | AU5: 938988 | AV5: =AU5/$AU$26 -> 0.031276463 | AW5: 1935823 | AX5: =AW5/$AW$26 -> 0.032842384
B6: 44444 | C6: 1384656 | D6: =C6/$C$26 -> 0.047531727 | E6: 1306617 | F6: =E6/$E$26 -> 0.042580956 | G6: =SUM(C6,E6) -> 2691273 | H6: =G6/$G$26 -> 0.044992021 | I6: 1352240 | J6: =I6/$I$26 -> 0.046548555 | K6: 1275716 | L6: =K6/$K$26 -> 0.041701796 | M6: =SUM(I6,K6) -> 2627956 | N6: =M6/$M$26 -> 0.044062549 | O6: 1326061 | P6: =O6/$O$26 -> 0.045938149 | Q6: 1252279 | R6: =Q6/$Q$26 -> 0.041234097 | S6: =SUM(O6,Q6) -> 2578340 | T6: =S6/$S$26 -> 0.043526415 | U6: 1296442 | V6: =U6/$O$26 -> 0.044912071 | W6: 1224714 | X6: =W6/$Q$26 -> 0.040326458 | Y6: =SUM(U6,W6) -> 2521156 | Z6: =Y6/$S$26 -> 0.04256106 | AA6: 1265463 | AB6: =AA6/$AA$26 -> 0.044017086 | AC6: 1195355 | AD6: =AC6/$AC$26 -> 0.039710999 | AE6: =SUM(AA6,AC6) -> 2460818 | AF6: =AE6/$AE$26 -> 0.04181458 | AG6: 1239204 | AH6: =AG6/$AG$26 -> 0.042958217 | AI6: 1170468 | AJ6: =AI6/$AI$26 -> 0.038854352 | AK6: 2409672 | AL6: =AK6/$AK$26 -> 0.040861824 | AM6: 1206391 | AN6: =AM6/$AM$26 -> 0.041777172 | AO6: 1136485 | AP6: =AO6/$AO$26 -> 0.037810517 | AQ6: 2342876 | AR6: =AQ6/$AQ$26 -> 0.039754114 | AS6: 1173172 | AT6: =AS6/$AS$26 -> 0.040565223 | AU6: 1103858 | AV6: =AU6/$AU$26 -> 0.036768067 | AW6: 2277030 | AX6: =AW6/$AW$26 -> 0.038631163
B7: 10-14 | C7: 1463509 | D7: =C7/$C$26 -> 0.05023855 | E7: 1378353 | F7: =E7/$E$26 -> 0.04491874 | G7: =SUM(C7,E7) -> 2841862 | H7: =G7/$G$26 -> 0.04750953 | I7: 1460449 | J7: =I7/$I$26 -> 0.050273466 | K7: 1374611 | L7: =K7/$K$26 -> 0.044934569 | M7: =SUM(I7,K7) -> 2835060 | N7: =M7/$M$26 -> 0.047535031 | O7: 1463873 | P7: =O7/$O$26 -> 0.05071231 | Q7: 1377822 | R7: =Q7/$Q$26 -> 0.045367882 | S7: =SUM(O7,Q7) -> 2841695 | T7: =S7/$S$26 -> 0.04797226 | U7: 1449329 | V7: =U7/$O$26 -> 0.050208469 | W7: 1364496 | X7: =W7/$Q$26 -> 0.044929094 | Y7: =SUM(U7,W7) -> 2813825 | Z7: =Y7/$S$26 -> 0.047501771 | AA7: 1437379 | AB7: =AA7/$AA$26 -> 0.049996906 | AC7: 1354509 | AD7: =AC7/$AC$26 -> 0.044998269 | AE7: =SUM(AA7,AC7) -> 2791888 | AF7: =AE7/$AE$26 -> 0.04744017 | AG7: 1413544 | AH7: =AG7/$AG$26 -> 0.049001883 | AI7: 1331575 | AJ7: =AI7/$AI$26 -> 0.04420239 | AK7: 2745119 | AL7: =AK7/$AK$26 -> 0.04655014 | AM7: 1388787 | AN7: =AM7/$AM$26 -> 0.048093523 | AO7: 1304774 | AP7: =AO7/$AO$26 -> 0.043409442 | AQ7: 2693561 | AR7: =AQ7/$AQ$26 -> 0.045704566 | AS7: 1360348 | AT7: =AS7/$AS$26 -> 0.04703728 | AU7: 1278824 | AV7: =AU7/$AU$26 -> 0.042595956 | AW7: 2639172 | AX7: =AW7/$AW$26 -> 0.044775117
B8: 15-19 | C8: 1491241 | D8: =C8/$C$26 -> 0.051190519 | E8: 1382435 | F8: =E8/$E$26 -> 0.045051767 | G8: =SUM(C8,E8) -> 2873676 | H8: =G8/$G$26 -> 0.048041388 | I8: 1485465 | J8: =I8/$I$26 -> 0.051134599 | K8: 1385591 | L8: =K8/$K$26 -> 0.045293493 | M8: =SUM(I8,K8) -> 2871056 | N8: =M8/$M$26 -> 0.048138571 | O8: 1476815 | P8: =O8/$O$26 -> 0.051160654 | Q8: 1380198 | R8: =Q8/$Q$26 -> 0.045446118 | S8: =SUM(O8,Q8) -> 2857013 | T8: =S8/$S$26 -> 0.048230852 | U8: 1478733 | V8: =U8/$O$26 -> 0.051227098 | W8: 1384852 | X8: =W8/$Q$26 -> 0.045599361 | Y8: =SUM(U8,W8) -> 2863585 | Z8: =Y8/$S$26 -> 0.048341797 | AA8: 1492248 | AB8: =AA8/$AA$26 -> 0.051905436 | AC8: 1395967 | AD8: =AC8/$AC$26 -> 0.046375549 | AE8: =SUM(AA8,AC8) -> 2888215 | AF8: =AE8/$AE$26 -> 0.049076972 | AG8: 1515176 | AH8: =AG8/$AG$26 -> 0.052525056 | AI8: 1406085 | AJ8: =AI8/$AI$26 -> 0.046675792 | AK8: 2921261 | AL8: =AK8/$AK$26 -> 0.049537054 | AM8: 1515055 | AN8: =AM8/$AM$26 -> 0.052466168 | AO8: 1407414 | AP8: =AO8/$AO$26 -> 0.046824244 | AQ8: 2922469 | AR8: =AQ8/$AQ$26 -> 0.049588696 | AS8: 1518821 | AT8: =AS8/$AS$26 -> 0.052516862 | AU8: 1407797 | AV8: =AU8/$AU$26 -> 0.046891878 | AW8: 2926618 | AX8: =AW8/$AW$26 -> 0.049651808
B9: 20-24 | C9: 1552308 | D9: =C9/$C$26 -> 0.053286794 | E9: 1409999 | F9: =E9/$E$26 -> 0.045950042 | G9: =SUM(C9,E9) -> 2962307 | H9: =G9/$G$26 -> 0.049523099 | I9: 1549020 | J9: =I9/$I$26 -> 0.053322371 | K9: 1406868 | L9: =K9/$K$26 -> 0.045989015 | M9: =SUM(I9,K9) -> 2955888 | N9: =M9/$M$26 -> 0.049560937 | O9: 1549500 | P9: =O9/$O$26 -> 0.053678649 | Q9: 1407840 | R9: =Q9/$Q$26 -> 0.046356292 | S9: =SUM(O9,Q9) -> 2957340 | T9: =S9/$S$26 -> 0.049924528 | U9: 1547114 | V9: =U9/$O$26 -> 0.053595991 | W9: 1412395 | X9: =W9/$Q$26 -> 0.046506276 | Y9: =SUM(U9,W9) -> 2959509 | Z9: =Y9/$S$26 -> 0.049961145 | AA9: 1531045 | AB9: =AA9/$AA$26 -> 0.053254926 | AC9: 1400512 | AD9: =AC9/$AC$26 -> 0.046526539 | AE9: =SUM(AA9,AC9) -> 2931557 | AF9: =AE9/$AE$26 -> 0.049813446 | AG9: 1544804 | AH9: =AG9/$AG$26 -> 0.053552139 | AI9: 1405555 | AJ9: =AI9/$AI$26 -> 0.046658199 | AK9: 2950359 | AL9: =AK9/$AK$26 -> 0.050030481 | AM9: 1564420 | AN9: =AM9/$AM$26 -> 0.054175672 | AO9: 1424340 | AP9: =AO9/$AO$26 -> 0.047387367 | AQ9: 2988760 | AR9: =AQ9/$AQ$26 -> 0.050713527 | AS9: 1581922 | AT9: =AS9/$AS$26 -> 0.05469873 | AU9: 1428844 | AV9: =AU9/$AU$26 -> 0.047592926 | AW9: 3010766 | AX9: =AW9/$AW$26 -> 0.051079429
B10: 25-29 | C10: 1627406 | D10: =C10/$C$26 -> 0.055864718 | E10: 1548193 | F10: =E10/$E$26 -> 0.050453605 | G10: =SUM(C10,E10) -> 3175599 | H10: =G10/$G$26 -> 0.05308886 | I10: 1605444 | J10: =I10/$I$26 -> 0.055264671 | K10: 1523050 | L10: =K10/$K$26 -> 0.049786881 | M10: =SUM(I10,K10) -> 3128494 | N10: =M10/$M$26 -> 0.052454996 | O10: 1566265 | P10: =O10/$O$26 -> 0.054259431 | Q10: 1479314 | R10: =Q10/$Q$26 -> 0.048709734 | S10: =SUM(O10,Q10) -> 3045579 | T10: =S10/$S$26 -> 0.051414141 | U10: 1563016 | V10: =U10/$O$26 -> 0.054146877 | W10: 1465143 | X10: =W10/$Q$26 -> 0.048243122 | Y10: =SUM(U10,W10) -> 3028159 | Z10: =Y10/$S$26 -> 0.051120064 | AA10: 1549405 | AB10: =AA10/$AA$26 -> 0.053893549 | AC10: 1438852 | AD10: =AC10/$AC$26 -> 0.047800235 | AE10: =SUM(AA10,AC10) -> 2988257 | AF10: =AE10/$AE$26 -> 0.0507769 | AG10: 1575454 | AH10: =AG10/$AG$26 -> 0.054614652 | AI10: 1436757 | AJ10: =AI10/$AI$26 -> 0.047693967 | AK10: 3012211 | AL10: =AK10/$AK$26 -> 0.051079331 | AM10: 1607509 | AN10: =AM10/$AM$26 -> 0.055667839 | AO10: 1444289 | AP10: =AO10/$AO$26 -> 0.048051064 | AQ10: 3051798 | AR10: =AQ10/$AQ$26 -> 0.051783161 | AS10: 1637969 | AT10: =AS10/$AS$26 -> 0.056636689 | AU10: 1456872 | AV10: =AU10/$AU$26 -> 0.048526502 | AW10: 3094841 | AX10: =AW10/$AW$26 -> 0.052505811
B11: 30-34 | C11: 1677573 | D11: =C11/$C$26 -> 0.057586824 | E11: 1642927 | F11: =E11/$E$26 -> 0.053540864 | G11: =SUM(C11,E11) -> 3320500 | H11: =G11/$G$26 -> 0.055511279 | I11: 1658749 | J11: =I11/$I$26 -> 0.057099605 | K11: 1623692 | L11: =K11/$K$26 -> 0.053076761 | M11: =SUM(I11,K11) -> 3282441 | N11: =M11/$M$26 -> 0.055036202 | O11: 1633887 | P11: =O11/$O$26 -> 0.05660203 | Q11: 1592259 | R11: =Q11/$Q$26 -> 0.052428702 | S11: =SUM(O11,Q11) -> 3226146 | T11: =S11/$S$26 -> 0.054462394 | U11: 1632947 | V11: =U11/$O$26 -> 0.056569466 | W11: 1583521 | X11: =W11/$Q$26 -> 0.052140984 | Y11: =SUM(U11,W11) -> 3216468 | Z11: =Y11/$S$26 -> 0.054299015 | AA11: 1638682 | AB11: =AA11/$AA$26 -> 0.056998906 | AC11: 1577298 | AD11: =AC11/$AC$26 -> 0.052399563 | AE11: =SUM(AA11,AC11) -> 3215980 | AF11: =AE11/$AE$26 -> 0.054646403 | AG11: 1643289 | AH11: =AG11/$AG$26 -> 0.056966218 | AI11: 1570048 | AJ11: =AI11/$AI$26 -> 0.052118638 | AK11: 3213337 | AL11: =AK11/$AK$26 -> 0.05448991 | AM11: 1651619 | AN11: =AM11/$AM$26 -> 0.057195363 | AO11: 1552073 | AP11: =AO11/$AO$26 -> 0.051637006 | AQ11: 3203692 | AR11: =AQ11/$AQ$26 -> 0.054360511 | AS11: 1651257 | AT11: =AS11/$AS$26 -> 0.057096153 | AU11: 1534663 | AV11: =AU11/$AU$26 -> 0.051117618 | AW11: 3185920 | AX11: =AW11/$AW$26 -> 0.05405102
B12: 35-39 | C12: 1833356 | D12: =C12/$C$26 -> 0.062934459 | E12: 1821377 | F12: =E12/$E$26 -> 0.059356318 | G12: =SUM(C12,E12) -> 3654733 | H12: =G12/$G$26 -> 0.061098901 | I12: 1792981 | J12: =I12/$I$26 -> 0.061720312 | K12: 1779210 | L12: =K12/$K$26 -> 0.058160479 | M12: =SUM(I12,K12) -> 3572191 | N12: =M12/$M$26 -> 0.059894398 | O12: 1747529 | P12: =O12/$O$26 -> 0.06053888 | Q12: 1735723 | R12: =Q12/$Q$26 -> 0.057152576 | S12: =SUM(O12,Q12) -> 3483252 | T12: =S12/$S$26 -> 0.058802746 | U12: 1712455 | V12: =U12/$O$26 -> 0.059323827 | W12: 1697451 | X12: =W12/$Q$26 -> 0.055892385 | Y12: =SUM(U12,W12) -> 3409906 | Z12: =Y12/$S$26 -> 0.057564551 | AA12: 1686199 | AB12: =AA12/$AA$26 -> 0.058651708 | AC12: 1661407 | AD12: =AC12/$AC$26 -> 0.055193756 | AE12: =SUM(AA12,AC12) -> 3347606 | AF12: =AE12/$AE$26 -> 0.056883011 | AG12: 1694951 | AH12: =AG12/$AG$26 -> 0.058757132 | AI12: 1662150 | AJ12: =AI12/$AI$26 -> 0.055176016 | AK12: 3357101 | AL12: =AK12/$AK$26 -> 0.056927776 | AM12: 1694853 | AN12: =AM12/$AM$26 -> 0.058692551 | AO12: 1647902 | AP12: =AO12/$AO$26 -> 0.054825208 | AQ12: 3342755 | AR12: =AQ12/$AQ$26 -> 0.056720144 | AS12: 1705463 | AT12: =AS12/$AS$26 -> 0.058970455 | AU12: 1644174 | AV12: =AU12/$AU$26 -> 0.054765286 | AW12: 3349637 | AX12: =AW12/$AW$26 -> 0.056828576
B13: 40-44 | C13: 2181460 | D13: =C13/$C$26 -> 0.074883986 | E13: 2190571 | F13: =E13/$E$26 -> 0.071387873 | G13: =SUM(C13,E13) -> 4372031 | H13: =G13/$G$26 -> 0.073090508 | I13: 2089198 | J13: =I13/$I$26 -> 0.071917077 | K13: 2098266 | L13: =K13/$K$26 -> 0.068590079 | M13: =SUM(I13,K13) -> 4187464 | N13: =M13/$M$26 -> 0.070210589 | O13: 2001502 | P13: =O13/$O$26 -> 0.069337155 | Q13: 2007068 | R13: =Q13/$Q$26 -> 0.06608722 | S13: =SUM(O13,Q13) -> 4008570 | T13: =S13/$S$26 -> 0.067670936 | U13: 1927924 | V13: =U13/$O$26 -> 0.066788225 | W13: 1934375 | X13: =W13/$Q$26 -> 0.063693639 | Y13: =SUM(U13,W13) -> 3862299 | Z13: =Y13/$S$26 -> 0.065201653 | AA13: 1880664 | AB13: =AA13/$AA$26 -> 0.065415858 | AC13: 1876439 | AD13: =AC13/$AC$26 -> 0.062337354 | AE13: =SUM(AA13,AC13) -> 3757103 | AF13: =AE13/$AE$26 -> 0.063841244 | AG13: 1844218 | AH13: =AG13/$AG$26 -> 0.063931618 | AI13: 1836635 | AJ13: =AI13/$AI$26 -> 0.060968145 | AK13: 3680853 | AL13: =AK13/$AK$26 -> 0.062417776 | AM13: 1815458 | AN13: =AM13/$AM$26 -> 0.062869087 | AO13: 1800474 | AP13: =AO13/$AO$26 -> 0.059901233 | AQ13: 3615932 | AR13: =AQ13/$AQ$26 -> 0.061355434 | AS13: 1792296 | AT13: =AS13/$AS$26 -> 0.061972913 | AU13: 1775735 | AV13: =AU13/$AU$26 -> 0.059147411 | AW13: 3568031 | AX13: =AW13/$AW$26 -> 0.06053376
B14: 45-49 | C14: 2372986 | D14: =C14/$C$26 -> 0.081458588 | E14: 2412294 | F14: =E14/$E$26 -> 0.078613538 | G14: =SUM(C14,E14) -> 4785280 | H14: =G14/$G$26 -> 0.0799991 | I14: 2356800 | J14: =I14/$I$26 -> 0.08112882 | K14: 2392965 | L14: =K14/$K$26 -> 0.078223475 | M14: =SUM(I14,K14) -> 4749765 | N14: =M14/$M$26 -> 0.079638607 | O14: 2329457 | P14: =O14/$O$26 -> 0.080698357 | Q14: 2363044 | R14: =Q14/$Q$26 -> 0.077808529 | S14: =SUM(O14,Q14) -> 4692501 | T14: =S14/$S$26 -> 0.079216762 | U14: 2280611 | V14: =U14/$O$26 -> 0.079006206 | W14: 2313721 | X14: =W14/$Q$26 -> 0.076184458 | Y14: =SUM(U14,W14) -> 4594332 | Z14: =Y14/$S$26 -> 0.077559516 | AA14: 2232491 | AB14: =AA14/$AA$26 -> 0.077653592 | AC14: 2256376 | AD14: =AC14/$AC$26 -> 0.074959276 | AE14: =SUM(AA14,AC14) -> 4488867 | AF14: =AE14/$AE$26 -> 0.076275485 | AG14: 2179772 | AH14: =AG14/$AG$26 -> 0.075563925 | AI14: 2201072 | AJ14: =AI14/$AI$26 -> 0.073065839 | AK14: 4380844 | AL14: =AK14/$AK$26 -> 0.074287818 | AM14: 2093852 | AN14: =AM14/$AM$26 -> 0.072509837 | AO14: 2113437 | AP14: =AO14/$AO$26 -> 0.070313419 | AQ14: 4207289 | AR14: =AQ14/$AQ$26 -> 0.071389628 | AS14: 2020515 | AT14: =AS14/$AS$26 -> 0.06986413 | AU14: 2035423 | AV14: =AU14/$AU$26 -> 0.067797279 | AW14: 4055938 | AX14: =AW14/$AW$26 -> 0.068811391
B15: 50-54 | C15: 2416404 | D15: =C15/$C$26 -> 0.082949017 | E15: 2484570 | F15: =E15/$E$26 -> 0.08096892 | G15: =SUM(C15,E15) -> 4900974 | H15: =G15/$G$26 -> 0.081933243 | I15: 2404144 | J15: =I15/$I$26 -> 0.082758556 | K15: 2472560 | L15: =K15/$K$26 -> 0.080825351 | M15: =SUM(I15,K15) -> 4876704 | N15: =M15/$M$26 -> 0.081766974 | O15: 2377041 | P15: =O15/$O$26 -> 0.082346788 | Q15: 2440634 | R15: =Q15/$Q$26 -> 0.080363353 | S15: =SUM(O15,Q15) -> 4817675 | T15: =S15/$S$26 -> 0.081329895 | U15: 2358358 | V15: =U15/$O$26 -> 0.081699561 | W15: 2425567 | X15: =W15/$Q$26 -> 0.079867239 | Y15: =SUM(U15,W15) -> 4783925 | Z15: =Y15/$S$26 -> 0.080760142 | AA15: 2362175 | AB15: =AA15/$AA$26 -> 0.082164441 | AC15: 2414762 | AD15: =AC15/$AC$26 -> 0.080221032 | AE15: =SUM(AA15,AC15) -> 4776937 | AF15: =AE15/$AE$26 -> 0.081170413 | AG15: 2358247 | AH15: =AG15/$AG$26 -> 0.081750935 | AI15: 2412280 | AJ15: =AI15/$AI$26 -> 0.080077008 | AK15: 4770527 | AL15: =AK15/$AK$26 -> 0.080895837 | AM15: 2344120 | AN15: =AM15/$AM$26 -> 0.081176587 | AO15: 2396679 | AP15: =AO15/$AO$26 -> 0.079736795 | AQ15: 4740799 | AR15: =AQ15/$AQ$26 -> 0.08044227 | AS15: 2328538 | AT15: =AS15/$AS$26 -> 0.08051476 | AU15: 2381272 | AV15: =AU15/$AU$26 -> 0.079317057 | AW15: 4709810 | AX15: =AW15/$AW$26 -> 0.079904717
B16: 55-59 | C16: 2135805 | D16: =C16/$C$26 -> 0.073316766 | E16: 2251612 | F16: =E16/$E$26 -> 0.07337712 | G16: =SUM(C16,E16) -> 4387417 | H16: =G16/$G$26 -> 0.073347727 | I16: 2213008 | J16: =I16/$I$26 -> 0.076179025 | K16: 2324483 | L16: =K16/$K$26 -> 0.075984872 | M16: =SUM(I16,K16) -> 4537491 | N16: =M16/$M$26 -> 0.07607944 | O16: 2261108 | P16: =O16/$O$26 -> 0.078330572 | Q16: 2362857 | R16: =Q16/$Q$26 -> 0.077802371 | S16: =SUM(O16,Q16) -> 4623965 | T16: =S16/$S$26 -> 0.078059767 | U16: 2305184 | V16: =U16/$O$26 -> 0.079857478 | W16: 2401972 | X16: =W16/$Q$26 -> 0.07909032 | Y16: =SUM(U16,W16) -> 4707156 | Z16: =Y16/$S$26 -> 0.079464162 | AA16: 2355923 | AB16: =AA16/$AA$26 -> 0.081946975 | AC16: 2439739 | AD16: =AC16/$AC$26 -> 0.081050795 | AE16: =SUM(AA16,AC16) -> 4795662 | AF16: =AE16/$AE$26 -> 0.081488591 | AG16: 2382140 | AH16: =AG16/$AG$26 -> 0.08257921 | AI16: 2466848 | AJ16: =AI16/$AI$26 -> 0.081888424 | AK16: 4848988 | AL16: =AK16/$AK$26 -> 0.082226333 | AM16: 2369918 | AN16: =AM16/$AM$26 -> 0.082069969 | AO16: 2456863 | AP16: =AO16/$AO$26 -> 0.081739099 | AQ16: 4826781 | AR16: =AQ16/$AQ$26 -> 0.08190122 | AS16: 2356817 | AT16: =AS16/$AS$26 -> 0.081492574 | AU16: 2445873 | AV16: =AU16/$AU$26 -> 0.081468832 | AW16: 4802690 | AX16: =AW16/$AW$26 -> 0.081480481
B17: 60-64 | C17: 1837266 | D17: =C17/$C$26 -> 0.063068679 | E17: 1981788 | F17: =E17/$E$26 -> 0.064583905 | G17: =SUM(C17,E17) -> 3819054 | H17: =G17/$G$26 -> 0.063845978 | I17: 1874922 | J17: =I17/$I$26 -> 0.064540992 | K17: 2018428 | L17: =K17/$K$26 -> 0.06598026 | M17: =SUM(I17,K17) -> 3893350 | N17: =M17/$M$26 -> 0.065279223 | O17: 1901209 | P17: =O17/$O$26 -> 0.065862749 | Q17: 2044887 | R17: =Q17/$Q$26 -> 0.067332495 | S17: =SUM(O17,Q17) -> 3946096 | T17: =S17/$S$26 -> 0.066616277 | U17: 1944715 | V17: =U17/$O$26 -> 0.067369908 | W17: 2090042 | X17: =W17/$Q$26 -> 0.068819325 | Y17: =SUM(U17,W17) -> 4034757 | Z17: =Y17/$S$26 -> 0.068113014 | AA17: 2009181 | AB17: =AA17/$AA$26 -> 0.069886115 | AC17: 2139733 | AD17: =AC17/$AC$26 -> 0.071084268 | AE17: =SUM(AA17,AC17) -> 4148914 | AF17: =AE17/$AE$26 -> 0.070498954 | AG17: 2079202 | AH17: =AG17/$AG$26 -> 0.072077568 | AI17: 2213544 | AJ17: =AI17/$AI$26 -> 0.073479854 | AK17: 4292746 | AL17: =AK17/$AK$26 -> 0.072793903 | AM17: 2154975 | AN17: =AM17/$AM$26 -> 0.074626519 | AO17: 2286589 | AP17: =AO17/$AO$26 -> 0.076074134 | AQ17: 4441564 | AR17: =AQ17/$AQ$26 -> 0.075364826 | AS17: 2218183 | AT17: =AS17/$AS$26 -> 0.076698973 | AU17: 2347869 | AV17: =AU17/$AU$26 -> 0.078204447 | AW17: 4566052 | AX17: =AW17/$AW$26 -> 0.077465778
B18: 65-69 | C18: 1652883 | D18: =C18/$C$26 -> 0.056739279 | E18: 1815826 | F18: =E18/$E$26 -> 0.059175418 | G18: =SUM(C18,E18) -> 3468709 | H18: =G18/$G$26 -> 0.057988999 | I18: 1652740 | J18: =I18/$I$26 -> 0.056892755 | K18: 1818274 | L18: =K18/$K$26 -> 0.059437439 | M18: =SUM(I18,K18) -> 3471014 | N18: =M18/$M$26 -> 0.058197978 | O18: 1652948 | P18: =O18/$O$26 -> 0.057262352 | Q18: 1821385 | R18: =Q18/$Q$26 -> 0.05997319 | S18: =SUM(O18,Q18) -> 3474333 | T18: =S18/$S$26 -> 0.05865218 | U18: 1672443 | V18: =U18/$O$26 -> 0.057937709 | W18: 1845564 | X18: =W18/$Q$26 -> 0.060769338 | Y18: =SUM(U18,W18) -> 3518007 | Z18: =Y18/$S$26 -> 0.059389465 | AA18: 1713300 | AB18: =AA18/$AA$26 -> 0.059594372 | AC18: 1875973 | AD18: =AC18/$AC$26 -> 0.062321873 | AE18: =SUM(AA18,AC18) -> 3589273 | AF18: =AE18/$AE$26 -> 0.060989452 | AG18: 1751451 | AH18: =AG18/$AG$26 -> 0.06071576 | AI18: 1920620 | AJ18: =AI18/$AI$26 -> 0.063756075 | AK18: 3672071 | AL18: =AK18/$AK$26 -> 0.062268856 | AM18: 1787108 | AN18: =AM18/$AM$26 -> 0.06188733 | AO18: 1954612 | AP18: =AO18/$AO$26 -> 0.065029358 | AQ18: 3741720 | AR18: =AQ18/$AQ$26 -> 0.063489815 | AS18: 1831939 | AT18: =AS18/$AS$26 -> 0.063343664 | AU18: 1999129 | AV18: =AU18/$AU$26 -> 0.066588373 | AW18: 3831068 | AX18: =AW18/$AW$26 -> 0.064996338
... B25: 100 e più | C25: 2175 | D25: =C25/$C$26 -> 7.4662231e-05 | E25: 11957 | F25: =E25/$E$26 -> 0.00038966315 | G25: =SUM(C25,E25) -> 14132 | H25: =G25/$G$26 -> 0.0002362552 | I25: 2332 | J25: =I25/$I$26 -> 8.0275122e-05 | K25: 12472 | L25: =K25/$K$26 -> 0.00040769639 | M25: =SUM(I25,K25) -> 14804 | N25: =M25/$M$26 -> 0.00024821648 | O25: 2847 | P25: =O25/$O$26 -> 9.8627372e-05 | Q25: 14330 | R25: =Q25/$Q$26 -> 0.00047184742 | S25: =SUM(O25,Q25) -> 17177 | T25: =S25/$S$26 -> 0.00028997465 | U25: 3390 | V25: =U25/$O$26 -> 0.00011743828 | W25: 16769 | X25: =W25/$Q$26 -> 0.00055215697 | Y25: =SUM(U25,W25) -> 20159 | Z25: =Y25/$S$26 -> 0.00034031548 | AA25: 3730 | AB25: =AA25/$AA$26 -> 0.00012974202 | AC25: 18142 | AD25: =AC25/$AC$26 -> 0.00060269706 | AE25: =SUM(AA25,AC25) -> 21872 | AF25: =AE25/$AE$26 -> 0.00037165223 | AG25: 3600 | AH25: =AG25/$AG$26 -> 0.00012479752 | AI25: 17611 | AJ25: =AI25/$AI$26 -> 0.00058460717 | AK25: 21211 | AL25: =AK25/$AK$26 -> 0.00035968387 | AM25: 4104 | AN25: =AM25/$AM$26 -> 0.00014212102 | AO25: 19444 | AP25: =AO25/$AO$26 -> 0.00064689608 | AQ25: 23548 | AR25: =AQ25/$AQ$26 -> 0.00039956442 | AS25: 4332 | AT25: =AS25/$AS$26 -> 0.00014978924 | AU25: 20378 | AV25: =AU25/$AU$26 -> 0.00067876454 | AW25: 24710 | AX25: =AW25/$AW$26 -> 0.00041921979
B26: Totale | C26: =SUM(C5:C25) -> 29131195 | D26: =C26/$C$26 -> 1 | E26: =SUM(E5:E25) -> 30685478 | F26: =E26/$E$26 -> 1 | G26: =SUM(C26,E26) -> 59816673 | H26: =G26/$G$26 -> 1 | I26: =SUM(I5:I25) -> 29050096 | J26: =I26/$I$26 -> 1 | K26: =SUM(K5:K25) -> 30591392 | L26: =K26/$K$26 -> 1 | M26: =SUM(I26,K26) -> 59641488 | N26: =M26/$M$26 -> 1 | O26: =SUM(O5:O25) -> 28866226 | P26: =O26/$O$26 -> 1 | Q26: =SUM(Q5:Q25) -> 30369987 | R26: =Q26/$Q$26 -> 1 | S26: =SUM(O26,Q26) -> 59236213 | T26: =S26/$S$26 -> 1 | U26: =SUM(U5:U25) -> 28747417 | V26: =U26/$U$26 -> 1 | W26: =SUM(W5:W25) -> 30235705 | X26: =W26/$W$26 -> 1 | Y26: =SUM(U26,W26) -> 58983122 | Z26: =Y26/$Y$26 -> 1 | AA26: =SUM(AA5:AA25) -> 28749359 | AB26: =AA26/$AA$26 -> 1 | AC26: =SUM(AC5:AC25) -> 30101358 | AD26: =AC26/$AC$26 -> 1 | AE26: =SUM(AA26,AC26) -> 58850717 | AF26: =AE26/$AE$26 -> 1 | AG26: 28846728 | AH26: =AG26/$AG$26 -> 1 | AI26: 30124502 | AJ26: =AI26/$AI$26 -> 1 | AK26: 58971230 | AL26: =AK26/$AK$26 -> 1 | AM26: =SUM(AM5:AM25) -> 28876799 | AN26: =AM26/$AM$26 -> 1 | AO26: =SUM(AO5:AO25) -> 30057378 | AP26: =AO26/$AO$26 -> 1 | AQ26: =SUM(AQ5:AQ25) -> 58934177 | AR26: =AQ26/$AQ$26 -> 1 | AS26: 28920635 | AT26: =AS26/$AS$26 -> 1 | AU26: 30022193 | AV26: =AU26/$AU$26 -> 1 | AW26: 58942828 | AX26: =AW26/$AW$26 -> 1
A27: Piemonte | B27: 0-4 | C27: 80986 | D27: =C27/$C$48 -> 0.038509309 | E27: 77265 | F27: =E27/$E$48 -> 0.034717401 | G27: =SUM(C27,E27) -> 158251 | H27: =G27/$G$48 -> 0.036559691 | I27: 78002 | J27: =I27/$I$48 -> 0.037231427 | K27: 74498 | L27: =K27/$K$48 -> 0.033615819 | M27: =SUM(I27,K27) -> 152500 | N27: =M27/$M$48 -> 0.035372843 | O27: 75858 | P27: =O27/$O$48 -> 0.036480698 | Q27: 72643 | R27: =Q27/$Q$48 -> 0.033086561 | S27: =SUM(O27,Q27) -> 148501 | T27: =S27/$S$48 -> 0.034737523 | U27: 73206 | V27: =U27/$U$48 -> 0.03538255 | W27: 70014 | X27: =W27/$W$48 -> 0.032068073 | Y27: =SUM(U27,W27) -> 143220 | Z27: =Y27/$Y$48 -> 0.033680763 | AA27: 71210 | AB27: =AA27/$AA$48 -> 0.034431872 | AC27: 67805 | AD27: =AC27/$AC$48 -> 0.031209237 | AE27: 139015 | AF27: =AE27/$AE$48 -> 0.032780866 | AG27: 69574 | AH27: =AG27/$AG$48 -> 0.033492482 | AI27: 66036 | AJ27: =AI27/$AI$48 -> 0.030370861 | AK27: 135610 | AL27: =AK27/$AK$48 -> 0.031896055 | AM27: 68319 | AN27: =AM27/$AM$48 -> 0.0332471 | AO27: 64651 | AP27: =AO27/$AO$48 -> 0.030144781 | AQ27: 132970 | AR27: =AQ27/$AQ$48 -> 0.031641164 | AS27: 66713 | AT27: =AS27/$AS$48 -> 0.031980967 | AU27: 63031 | AV27: =AU27/$AU$48 -> 0.02906015 | AW27: 129744 | AX27: =AW27/$AW$48 -> 0.030492084
B28: 44444 | C28: 95226 | D28: =C28/$C$48 -> 0.04528051 | E28: 89433 | F28: =E28/$E$48 -> 0.040184836 | G28: =SUM(C28,E28) -> 184659 | H28: =G28/$G$48 -> 0.042660558 | I28: 92706 | J28: =I28/$I$48 -> 0.044249849 | K28: 87229 | L28: =K28/$K$48 -> 0.039360443 | M28: =SUM(I28,K28) -> 179935 | N28: =M28/$M$48 -> 0.041736475 | O28: 90917 | P28: =O28/$O$48 -> 0.043722687 | Q28: 85261 | R28: =Q28/$Q$48 -> 0.038833656 | S28: =SUM(O28,Q28) -> 176178 | T28: =S28/$S$48 -> 0.041211758 | U28: 88736 | V28: =U28/$U$48 -> 0.042888642 | W28: 83633 | X28: =W28/$W$48 -> 0.038305898 | Y28: =SUM(U28,W28) -> 172369 | Z28: =Y28/$Y$48 -> 0.040535675 | AA28: 86251 | AB28: =AA28/$AA$48 -> 0.041704583 | AC28: 81462 | AD28: =AC28/$AC$48 -> 0.037495271 | AE28: 167713 | AF28: =AE28/$AE$48 -> 0.039548088 | AG28: 83486 | AH28: =AG28/$AG$48 -> 0.040189631 | AI28: 79576 | AJ28: =AI28/$AI$48 -> 0.036598092 | AK28: 163062 | AL28: =AK28/$AK$48 -> 0.038352883 | AM28: 81444 | AN28: =AM28/$AM$48 -> 0.039634315 | AO28: 77002 | AP28: =AO28/$AO$48 -> 0.035903674 | AQ28: 158446 | AR28: =AQ28/$AQ$48 -> 0.037703361 | AS28: 78955 | AT28: =AS28/$AS$48 -> 0.037849553 | AU28: 75061 | AV28: =AU28/$AU$48 -> 0.034606525 | AW28: 154016 | AX28: =AW28/$AW$48 -> 0.036196424
B29: 10-14 | C29: 99282 | D29: =C29/$C$48 -> 0.047209162 | E29: 93143 | F29: =E29/$E$48 -> 0.041851846 | G29: =SUM(C29,E29) -> 192425 | H29: =G29/$G$48 -> 0.044454686 | I29: 99401 | J29: =I29/$I$48 -> 0.047445465 | K29: 93602 | L29: =K29/$K$48 -> 0.042236139 | M29: =SUM(I29,K29) -> 193003 | N29: =M29/$M$48 -> 0.044767638 | O29: 99477 | P29: =O29/$O$48 -> 0.047839258 | Q29: 93708 | R29: =Q29/$Q$48 -> 0.042680994 | S29: =SUM(O29,Q29) -> 193185 | T29: =S29/$S$48 -> 0.045190055 | U29: 99142 | V29: =U29/$U$48 -> 0.047918159 | W29: 92892 | X29: =W29/$W$48 -> 0.04254674 | Y29: =SUM(U29,W29) -> 192034 | Z29: =Y29/$Y$48 -> 0.045160254 | AA29: 98488 | AB29: =AA29/$AA$48 -> 0.047621488 | AC29: 92289 | AD29: =AC29/$AC$48 -> 0.042478714 | AE29: 190777 | AF29: =AE29/$AE$48 -> 0.044986766 | AG29: 97149 | AH29: =AG29/$AG$48 -> 0.046766912 | AI29: 91164 | AJ29: =AI29/$AI$48 -> 0.041927572 | AK29: 188313 | AL29: =AK29/$AK$48 -> 0.044292027 | AM29: 95461 | AN29: =AM29/$AM$48 -> 0.046455618 | AO29: 89676 | AP29: =AO29/$AO$48 -> 0.041813172 | AQ29: 185137 | AR29: =AQ29/$AQ$48 -> 0.044054676 | AS29: 93978 | AT29: =AS29/$AS$48 -> 0.045051299 | AU29: 87820 | AV29: =AU29/$AU$48 -> 0.040489003 | AW29: 181798 | AX29: =AW29/$AW$48 -> 0.042725674
B30: 15-19 | C30: 99295 | D30: =C30/$C$48 -> 0.047215343 | E30: 92366 | F30: =E30/$E$48 -> 0.041502718 | G30: =SUM(C30,E30) -> 191661 | H30: =G30/$G$48 -> 0.044278185 | I30: 99034 | J30: =I30/$I$48 -> 0.04727029 | K30: 92698 | L30: =K30/$K$48 -> 0.041828226 | M30: =SUM(I30,K30) -> 191732 | N30: =M30/$M$48 -> 0.044472825 | O30: 98217 | P30: =O30/$O$48 -> 0.047233314 | Q30: 92189 | R30: =Q30/$Q$48 -> 0.041989138 | S30: 190406 | T30: =S30/$S$48 -> 0.044539988 | U30: 98951 | V30: =U30/$U$48 -> 0.047825843 | W30: 92845 | X30: =W30/$W$48 -> 0.042525213 | Y30: =SUM(U30,W30) -> 191796 | Z30: =Y30/$Y$48 -> 0.045104284 | AA30: 100640 | AB30: =AA30/$AA$48 -> 0.048662036 | AC30: 94081 | AD30: =AC30/$AC$48 -> 0.043303535 | AE30: 194721 | AF30: =AE30/$AE$48 -> 0.045916794 | AG30: 102698 | AH30: =AG30/$AG$48 -> 0.049438165 | AI30: 95028 | AJ30: =AI30/$AI$48 -> 0.043704678 | AK30: 197726 | AL30: =AK30/$AK$48 -> 0.046506005 | AM30: 103428 | AN30: =AM30/$AM$48 -> 0.050332719 | AO30: 96245 | AP30: =AO30/$AO$48 -> 0.044876096 | AQ30: 199673 | AR30: =AQ30/$AQ$48 -> 0.047513621 | AS30: 103875 | AT30: =AS30/$AS$48 -> 0.049795736 | AU30: 96340 | AV30: =AU30/$AU$48 -> 0.04441711 | AW30: 200215 | AX30: =AW30/$AW$48 -> 0.047053988
B31: 20-24 | C31: 103756 | D31: =C31/$C$48 -> 0.049336574 | E31: 93451 | F31: =E31/$E$48 -> 0.04199024 | G31: =SUM(C31,E31) -> 197207 | H31: =G31/$G$48 -> 0.045559441 | I31: 104404 | J31: =I31/$I$48 -> 0.049833465 | K31: 93714 | L31: =K31/$K$48 -> 0.042286677 | M31: =SUM(I31,K31) -> 198118 | N31: =M31/$M$48 -> 0.045954077 | O31: 105840 | P31: =O31/$O$48 -> 0.050899273 | Q31: 94783 | R31: =Q31/$Q$48 -> 0.043170622 | S31: =SUM(O31,Q31) -> 200623 | T31: =S31/$S$48 -> 0.046929961 | U31: 105132 | V31: =U31/$U$48 -> 0.050813297 | W31: 95197 | X31: =W31/$W$48 -> 0.043602485 | Y31: =SUM(U31,W31) -> 200329 | Z31: =Y31/$Y$48 -> 0.047110973 | AA31: 104110 | AB31: =AA31/$AA$48 -> 0.05033987 | AC31: 94718 | AD31: =AC31/$AC$48 -> 0.043596733 | AE31: 198828 | AF31: =AE31/$AE$48 -> 0.046885258 | AG31: 106458 | AH31: =AG31/$AG$48 -> 0.051248206 | AI31: 95710 | AJ31: =AI31/$AI$48 -> 0.04401834 | AK31: 202168 | AL31: =AK31/$AK$48 -> 0.047550782 | AM31: 107704 | AN31: =AM31/$AM$48 -> 0.052413613 | AO31: 97168 | AP31: =AO31/$AO$48 -> 0.045306463 | AQ31: 204872 | AR31: =AQ31/$AQ$48 -> 0.048750761 | AS31: 109145 | AT31: =AS31/$AS$48 -> 0.052322075 | AU31: 97870 | AV31: =AU31/$AU$48 -> 0.045122509 | AW31: 207015 | AX31: =AW31/$AW$48 -> 0.048652105
B32: 25-29 | C32: 107779 | D32: =C32/$C$48 -> 0.051249534 | E32: 100917 | F32: =E32/$E$48 -> 0.04534493 | G32: =SUM(C32,E32) -> 208696 | H32: =G32/$G$48 -> 0.048213669 | I32: 107637 | J32: =I32/$I$48 -> 0.051376621 | K32: 100435 | L32: =K32/$K$48 -> 0.045319402 | M32: =SUM(I32,K32) -> 208072 | N32: =M32/$M$48 -> 0.048262938 | O32: 106681 | P32: =O32/$O$48 -> 0.051303717 | Q32: 98766 | R32: =Q32/$Q$48 -> 0.044984751 | S32: =SUM(O32,Q32) -> 205447 | T32: =S32/$S$48 -> 0.048058396 | U32: 106933 | V32: =U32/$U$48 -> 0.051683772 | W32: 98120 | X32: =W32/$W$48 -> 0.044941288 | Y32: =SUM(U32,W32) -> 205053 | Z32: =Y32/$Y$48 -> 0.048221906 | AA32: 107133 | AB32: =AA32/$AA$48 -> 0.051801569 | AC32: 97856 | AD32: =AC32/$AC$48 -> 0.045041089 | AE32: 204989 | AF32: =AE32/$AE$48 -> 0.048338072 | AG32: 112143 | AH32: =AG32/$AG$48 -> 0.053984929 | AI32: 99597 | AJ32: =AI32/$AI$48 -> 0.045806024 | AK32: 211740 | AL32: =AK32/$AK$48 -> 0.049802158 | AM32: 115618 | AN32: =AM32/$AM$48 -> 0.056264922 | AO32: 100992 | AP32: =AO32/$AO$48 -> 0.047089477 | AQ32: 216610 | AR32: =AQ32/$AQ$48 -> 0.051543902 | AS32: 118608 | AT32: =AS32/$AS$48 -> 0.056858461 | AU32: 102904 | AV32: =AU32/$AU$48 -> 0.047443411 | AW32: 221512 | AX32: =AW32/$AW$48 -> 0.052059151
B33: 30-34 | C33: 111861 | D33: =C33/$C$48 -> 0.053190548 | E33: 108915 | F33: =E33/$E$48 -> 0.048938663 | G33: =SUM(C33,E33) -> 220776 | H33: =G33/$G$48 -> 0.051004432 | I33: 111511 | J33: =I33/$I$48 -> 0.053225734 | K33: 107779 | L33: =K33/$K$48 -> 0.048633243 | M33: =SUM(I33,K33) -> 219290 | N33: =M33/$M$48 -> 0.050864988 | O33: 111252 | P33: =O33/$O$48 -> 0.053501946 | Q33: 106282 | R33: =Q33/$Q$48 -> 0.048408048 | S33: =SUM(O33,Q33) -> 217534 | T33: =S33/$S$48 -> 0.050885801 | U33: 111594 | V33: =U33/$U$48 -> 0.053936566 | W33: 105817 | X33: =W33/$W$48 -> 0.048466697 | Y33: =SUM(U33,W33) -> 217411 | Z33: =Y33/$Y$48 -> 0.051128113 | AA33: 113077 | AB33: =AA33/$AA$48 -> 0.054675646 | AC33: 106173 | AD33: =AC33/$AC$48 -> 0.048869232 | AE33: 219250 | AF33: =AE33/$AE$48 -> 0.051700931 | AG33: 115065 | AH33: =AG33/$AG$48 -> 0.055391561 | AI33: 107203 | AJ33: =AI33/$AI$48 -> 0.049304128 | AK33: 222268 | AL33: =AK33/$AK$48 -> 0.052278389 | AM33: 117587 | AN33: =AM33/$AM$48 -> 0.057223126 | AO33: 107671 | AP33: =AO33/$AO$48 -> 0.05020369 | AQ33: 225258 | AR33: =AQ33/$AQ$48 -> 0.053601755 | AS33: 118344 | AT33: =AS33/$AS$48 -> 0.056731904 | AU33: 107594 | AV33: =AU33/$AU$48 -> 0.049605714 | AW33: 225938 | AX33: =AW33/$AW$48 -> 0.053099338
B34: 35-39 | C34: 123536 | D34: =C34/$C$48 -> 0.058742078 | E34: 122647 | F34: =E34/$E$48 -> 0.055108848 | G34: =SUM(C34,E34) -> 246183 | H34: =G34/$G$48 -> 0.056874045 | I34: 120239 | J34: =I34/$I$48 -> 0.057391729 | K34: 119838 | L34: =K34/$K$48 -> 0.05407464 | M34: =SUM(I34,K34) -> 240077 | N34: =M34/$M$48 -> 0.055686596 | O34: 117626 | P34: =O34/$O$48 -> 0.056567252 | Q34: 116747 | R34: =Q34/$Q$48 -> 0.053174521 | S34: =SUM(O34,Q34) -> 234373 | T34: =S34/$S$48 -> 0.054824799 | U34: 115942 | V34: =U34/$U$48 -> 0.056038079 | W34: 114449 | X34: =W34/$W$48 -> 0.052420358 | Y34: =SUM(U34,W34) -> 230391 | Z34: =Y34/$Y$48 -> 0.054180594 | AA34: 114619 | AB34: =AA34/$AA$48 -> 0.055421243 | AC34: 112133 | AD34: =AC34/$AC$48 -> 0.051612496 | AE34: 226752 | AF34: =AE34/$AE$48 -> 0.053469964 | AG34: 115783 | AH34: =AG34/$AG$48 -> 0.055737201 | AI34: 112300 | AJ34: =AI34/$AI$48 -> 0.051648308 | AK34: 228083 | AL34: =AK34/$AK$48 -> 0.053646102 | AM34: 117347 | AN34: =AM34/$AM$48 -> 0.057106331 | AO34: 112344 | AP34: =AO34/$AO$48 -> 0.052382567 | AQ34: 229691 | AR34: =AQ34/$AQ$48 -> 0.054656619 | AS34: 119116 | AT34: =AS34/$AS$48 -> 0.057101986 | AU34: 112427 | AV34: =AU34/$AU$48 -> 0.051833946 | AW34: 231543 | AX34: =AW34/$AW$48 -> 0.05441661
B35: 40-44 | C35: 152458 | D35: =C35/$C$48 -> 0.072494655 | E35: 153647 | F35: =E35/$E$48 -> 0.069038045 | G35: =SUM(C35,E35) -> 306105 | H35: =G35/$G$48 -> 0.070717432 | I35: 144473 | J35: =I35/$I$48 -> 0.06895895 | K35: 145580 | L35: =K35/$K$48 -> 0.065690233 | M35: =SUM(I35,K35) -> 290053 | N35: =M35/$M$48 -> 0.067278683 | O35: 137203 | P35: =O35/$O$48 -> 0.065981982 | Q35: 137994 | R35: =Q35/$Q$48 -> 0.062851849 | S35: =SUM(O35,Q35) -> 275197 | T35: =S35/$S$48 -> 0.064374395 | U35: 131442 | V35: =U35/$U$48 -> 0.063529671 | W35: 132137 | X35: =W35/$W$48 -> 0.060521881 | Y35: =SUM(U35,W35) -> 263579 | Z35: =Y35/$Y$48 -> 0.06198535 | AA35: 128061 | AB35: =AA35/$AA$48 -> 0.061920797 | AC35: 127669 | AD35: =AC35/$AC$48 -> 0.058763395 | AE35: 255730 | AF35: =AE35/$AE$48 -> 0.060303212 | AG35: 125062 | AH35: =AG35/$AG$48 -> 0.060204053 | AI35: 124538 | AJ35: =AI35/$AI$48 -> 0.057276731 | AK35: 249600 | AL35: =AK35/$AK$48 -> 0.058706993 | AM35: 123573 | AN35: =AM35/$AM$48 -> 0.060136183 | AO35: 122668 | AP35: =AO35/$AO$48 -> 0.057196332 | AQ35: 246241 | AR35: =AQ35/$AQ$48 -> 0.058594811 | AS35: 122322 | AT35: =AS35/$AS$48 -> 0.058638883 | AU35: 120976 | AV35: =AU35/$AU$48 -> 0.055775423 | AW35: 243298 | AX35: =AW35/$AW$48 -> 0.057179238
B36: 45-49 | C36: 173348 | D36: =C36/$C$48 -> 0.08242797 | E36: 174382 | F36: =E36/$E$48 -> 0.078354881 | G36: =SUM(C36,E36) -> 347730 | H36: =G36/$G$48 -> 0.080333783 | I36: 170828 | J36: =I36/$I$48 -> 0.081538554 | K36: 171864 | L36: =K36/$K$48 -> 0.077550392 | M36: =SUM(I36,K36) -> 342692 | N36: =M36/$M$48 -> 0.07948846 | O36: 167766 | P36: =O36/$O$48 -> 0.080679965 | Q36: 169056 | R36: =Q36/$Q$48 -> 0.076999596 | S36: =SUM(O36,Q36) -> 336822 | T36: =S36/$S$48 -> 0.078789786 | U36: 162878 | V36: =U36/$U$48 -> 0.078723587 | W36: 164421 | X36: =W36/$W$48 -> 0.075308719 | Y36: =SUM(U36,W36) -> 327299 | Z36: =Y36/$Y$48 -> 0.076970255 | AA36: 158068 | AB36: =AA36/$AA$48 -> 0.076429955 | AC36: 159451 | AD36: =AC36/$AC$48 -> 0.073391991 | AE36: 317519 | AF36: =AE36/$AE$48 -> 0.07487356 | AG36: 152650 | AH36: =AG36/$AG$48 -> 0.073484741 | AI36: 154709 | AJ36: =AI36/$AI$48 -> 0.071152787 | AK36: 307359 | AL36: =AK36/$AK$48 -> 0.072292158 | AM36: 145535 | AN36: =AM36/$AM$48 -> 0.07082388 | AO36: 147493 | AP36: =AO36/$AO$48 -> 0.068771469 | AQ36: 293028 | AR36: =AQ36/$AQ$48 -> 0.069728113 | AS36: 139305 | AT36: =AS36/$AS$48 -> 0.066780216 | AU36: 140961 | AV36: =AU36/$AU$48 -> 0.064989414 | AW36: 280266 | AX36: =AW36/$AW$48 -> 0.065867357
B37: 50-54 | C37: 177591 | D37: =C37/$C$48 -> 0.084445541 | E37: 181108 | F37: =E37/$E$48 -> 0.081377067 | G37: =SUM(C37,E37) -> 358699 | H37: =G37/$G$48 -> 0.082867879 | I37: 177034 | J37: =I37/$I$48 -> 0.084500763 | K37: 180245 | L37: =K37/$K$48 -> 0.081332161 | M37: =SUM(I37,K37) -> 357279 | N37: =M37/$M$48 -> 0.082871959 | O37: 175068 | P37: =O37/$O$48 -> 0.084191553 | Q37: 178231 | R37: =Q37/$Q$48 -> 0.081178514 | S37: =SUM(O37,Q37) -> 353299 | T37: =S37/$S$48 -> 0.082644104 | U37: 173352 | V37: =U37/$U$48 -> 0.083785971 | W37: 177191 | X37: =W37/$W$48 -> 0.081157682 | Y37: =SUM(U37,W37) -> 350543 | Z37: =Y37/$Y$48 -> 0.082436501 | AA37: 173326 | AB37: =AA37/$AA$48 -> 0.083807592 | AC37: 176157 | AD37: =AC37/$AC$48 -> 0.081081417 | AE37: 349483 | AF37: =AE37/$AE$48 -> 0.082410931 | AG37: 172098 | AH37: =AG37/$AG$48 -> 0.082846885 | AI37: 174530 | AJ37: =AI37/$AI$48 -> 0.080268737 | AK37: 346628 | AL37: =AK37/$AK$48 -> 0.081528395 | AM37: 170411 | AN37: =AM37/$AM$48 -> 0.082929661 | AO37: 172418 | AP37: =AO37/$AO$48 -> 0.080393233 | AQ37: 342829 | AR37: =AQ37/$AQ$48 -> 0.081578617 | AS37: 168232 | AT37: =AS37/$AS$48 -> 0.08064728 | AU37: 170608 | AV37: =AU37/$AU$48 -> 0.078658026 | AW37: 338840 | AX37: =AW37/$AW$48 -> 0.07963326
B38: 55-59 | C38: 156885 | D38: =C38/$C$48 -> 0.074599719 | E38: 163825 | F38: =E38/$E$48 -> 0.073611315 | G38: =SUM(C38,E38) -> 320710 | H38: =G38/$G$48 -> 0.074091529 | I38: 162045 | J38: =I38/$I$48 -> 0.077346307 | K38: 169374 | L38: =K38/$K$48 -> 0.076426827 | M38: =SUM(I38,K38) -> 331419 | N38: =M38/$M$48 -> 0.076873653 | O38: 165677 | P38: =O38/$O$48 -> 0.079675349 | Q38: 172154 | R38: =Q38/$Q$48 -> 0.078410635 | S38: =SUM(O38,Q38) -> 337831 | T38: =S38/$S$48 -> 0.079025812 | U38: 168935 | V38: =U38/$U$48 -> 0.081651108 | W38: 174891 | X38: =W38/$W$48 -> 0.080104228 | Y38: =SUM(U38,W38) -> 343826 | Z38: =Y38/$Y$48 -> 0.080856877 | AA38: 172830 | AB38: =AA38/$AA$48 -> 0.083567763 | AC38: 177755 | AD38: =AC38/$AC$48 -> 0.081816943 | AE38: 350585 | AF38: =AE38/$AE$48 -> 0.082670791 | AG38: 174968 | AH38: =AG38/$AG$48 -> 0.084228485 | AI38: 179657 | AJ38: =AI38/$AI$48 -> 0.082626714 | AK38: 354625 | AL38: =AK38/$AK$48 -> 0.083409324 | AM38: 174576 | AN38: =AM38/$AM$48 -> 0.084956538 | AO38: 179448 | AP38: =AO38/$AO$48 -> 0.083671107 | AQ38: 354024 | AR38: =AQ38/$AQ$48 -> 0.084242548 | AS38: 173497 | AT38: =AS38/$AS$48 -> 0.083171223 | AU38: 178504 | AV38: =AU38/$AU$48 -> 0.08229844 | AW38: 352001 | AX38: =AW38/$AW$48 -> 0.082726323
B39: 60-64 | C39: 139550 | D39: =C39/$C$48 -> 0.066356827 | E39: 147996 | F39: =E39/$E$48 -> 0.066498887 | G39: =SUM(C39,E39) -> 287546 | H39: =G39/$G$48 -> 0.066429868 | I39: 141625 | J39: =I39/$I$48 -> 0.06759956 | K39: 149462 | L39: =K39/$K$48 -> 0.067441912 | M39: =SUM(I39,K39) -> 291087 | N39: =M39/$M$48 -> 0.067518522 | O39: 142439 | P39: =O39/$O$48 -> 0.068500015 | Q39: 150823 | R39: =Q39/$Q$48 -> 0.068695048 | S39: =SUM(O39,Q39) -> 293262 | T39: =S39/$S$48 -> 0.068600181 | U39: 144927 | V39: =U39/$U$48 -> 0.070047357 | W39: 153601 | X39: =W39/$W$48 -> 0.070352903 | Y39: =SUM(U39,W39) -> 298528 | Z39: =Y39/$Y$48 -> 0.070204236 | AA39: 148163 | AB39: =AA39/$AA$48 -> 0.071640632 | AC39: 156390 | AD39: =AC39/$AC$48 -> 0.071983076 | AE39: 304553 | AF39: =AE39/$AE$48 -> 0.071816072 | AG39: 152396 | AH39: =AG39/$AG$48 -> 0.073362467 | AI39: 160793 | AJ39: =AI39/$AI$48 -> 0.073950902 | AK39: 313189 | AL39: =AK39/$AK$48 -> 0.073663399 | AM39: 157638 | AN39: =AM39/$AM$48 -> 0.076713745 | AO39: 166492 | AP39: =AO39/$AO$48 -> 0.077630121 | AQ39: 324130 | AR39: =AQ39/$AQ$48 -> 0.077129056 | AS39: 162328 | AT39: =AS39/$AS$48 -> 0.077817012 | AU39: 170701 | AV39: =AU39/$AU$48 -> 0.078700903 | AW39: 333029 | AX39: =AW39/$AW$48 -> 0.078267575
B40: 65-69 | C40: 128727 | D40: =C40/$C$48 -> 0.061210428 | E40: 140341 | F40: =E40/$E$48 -> 0.063059274 | G40: =SUM(C40,E40) -> 269068 | H40: =G40/$G$48 -> 0.062161016 | I40: 127678 | J40: =I40/$I$48 -> 0.060942466 | K40: 139466 | L40: =K40/$K$48 -> 0.062931405 | M40: =SUM(I40,K40) -> 267144 | N40: =M40/$M$48 -> 0.06196487 | O40: 126957 | P40: =O40/$O$48 -> 0.061054602 | Q40: 138306 | R40: =Q40/$Q$48 -> 0.062993955 | S40: =SUM(O40,Q40) -> 265263 | T40: =S40/$S$48 -> 0.062050623 | U40: 128061 | V40: =U40/$U$48 -> 0.061895537 | W40: 139409 | X40: =W40/$W$48 -> 0.06385263 | Y40: =SUM(U40,W40) -> 267470 | Z40: =Y40/$Y$48 -> 0.062900388 | AA40: 129834 | AB40: =AA40/$AA$48 -> 0.062778088 | AC40: 140602 | AD40: =AC40/$AC$48 -> 0.064716187 | AE40: 270436 | AF40: =AE40/$AE$48 -> 0.063771006 | AG40: 132183 | AH40: =AG40/$AG$48 -> 0.063632057 | AI40: 143035 | AJ40: =AI40/$AI$48 -> 0.065783755 | AK40: 275218 | AL40: =AK40/$AK$48 -> 0.064732456 | AM40: 108895 | AN40: =AM40/$AM$48 -> 0.052993207 | AO40: 116781 | AP40: =AO40/$AO$48 -> 0.054451404 | AQ40: 225676 | AR40: =AQ40/$AQ$48 -> 0.053701221 | AS40: 136640 | AT40: =AS40/$AS$48 -> 0.065502665 | AU40: 147120 | AV40: =AU40/$AU$48 -> 0.067828993 | AW40: 283760 | AX40: =AW40/$AW$48 -> 0.066688508
B41: 70-74 | C41: 119307 | D41: =C41/$C$48 -> 0.056731164 | E41: 134591 | F41: =E41/$E$48 -> 0.060475633 | G41: =SUM(C41,E41) -> 253898 | H41: =G41/$G$48 -> 0.058656391 | I41: 122703 | J41: =I41/$I$48 -> 0.05856783 | K41: 138288 | L41: =K41/$K$48 -> 0.062399855 | M41: =SUM(I41,K41) -> 260991 | N41: =M41/$M$48 -> 0.060537663 | O41: 126341 | P41: =O41/$O$48 -> 0.060758363 | Q41: 143230 | R41: =Q41/$Q$48 -> 0.065236679 | S41: =SUM(O41,Q41) -> 269571 | T41: =S41/$S$48 -> 0.063058355 | U41: 123119 | V41: =U41/$U$48 -> 0.059506928 | W41: 140350 | X41: =W41/$W$48 -> 0.06428363 | Y41: =SUM(U41,W41) -> 263469 | Z41: =Y41/$Y$48 -> 0.061959481 | AA41: 120513 | AB41: =AA41/$AA$48 -> 0.058271144 | AC41: 136678 | AD41: =AC41/$AC$48 -> 0.062910051 | AE41: 257191 | AF41: =AE41/$AE$48 -> 0.060647727 | AG41: 118184 | AH41: =AG41/$AG$48 -> 0.056893028 | AI41: 133469 | AJ41: =AI41/$AI$48 -> 0.061384221 | AK41: 251653 | AL41: =AK41/$AK$48 -> 0.059189867 | AM41: 117383 | AN41: =AM41/$AM$48 -> 0.05712385 | AO41: 132503 | AP41: =AO41/$AO$48 -> 0.061782091 | AQ41: 249886 | AR41: =AQ41/$AQ$48 -> 0.059462164 | AS41: 117620 | AT41: =AS41/$AS$48 -> 0.056384832 | AU41: 132257 | AV41: =AU41/$AU$48 -> 0.060976476 | AW41: 249877 | AX41: =AW41/$AW$48 -> 0.058725417
B42: 75-79 | C42: 99777 | D42: =C42/$C$48 -> 0.047444537 | E42: 124128 | F42: =E42/$E$48 -> 0.055774304 | G42: =SUM(C42,E42) -> 223905 | H42: =G42/$G$48 -> 0.051727305 | I42: 96728 | J42: =I42/$I$48 -> 0.046169605 | K42: 119697 | L42: =K42/$K$48 -> 0.054011016 | M42: =SUM(I42,K42) -> 216425 | N42: =M42/$M$48 -> 0.050200442 | O42: 91853 | P42: =O42/$O$48 -> 0.044172817 | Q42: 113205 | R42: =Q42/$Q$48 -> 0.051561253 | S42: =SUM(O42,Q42) -> 205058 | T42: =S42/$S$48 -> 0.047967401 | U42: 94687 | V42: =U42/$U$48 -> 0.04576493 | W42: 115591 | X42: =W42/$W$48 -> 0.052943421 | Y42: =SUM(U42,W42) -> 210278 | Z42: =Y42/$Y$48 -> 0.049450659 | AA42: 98371 | AB42: =AA42/$AA$48 -> 0.047564916 | AC42: 118967 | AD42: =AC42/$AC$48 -> 0.054758045 | AE42: 217338 | AF42: =AE42/$AE$48 -> 0.051250066 | AG42: 103605 | AH42: =AG42/$AG$48 -> 0.04987479 | AI42: 124076 | AJ42: =AI42/$AI$48 -> 0.057064251 | AK42: 227681 | AL42: =AK42/$AK$48 -> 0.05355155 | AM42: 106714 | AN42: =AM42/$AM$48 -> 0.051931835 | AO42: 127314 | AP42: =AO42/$AO$48 -> 0.059362619 | AQ42: 234028 | AR42: =AQ42/$AQ$48 -> 0.05568864 | AS42: 110568 | AT42: =AS42/$AS$48 -> 0.053004235 | AU42: 132484 | AV42: =AU42/$AU$48 -> 0.061081133 | AW42: 243052 | AX42: =AW42/$AW$48 -> 0.057121424
... B47: 100 e più | C47: 138 | D47: =C47/$C$48 -> 6.5619793e-05 | E47: 967 | F47: =E47/$E$48 -> 0.00043450109 | G47: =SUM(C47,E47) -> 1105 | H47: =G47/$G$48 -> 0.00025528091 | I47: 142 | J47: =I47/$I$48 -> 6.7778553e-05 | K47: 954 | L47: =K47/$K$48 -> 0.00043047453 | M47: =SUM(I47,K47) -> 1096 | N47: =M47/$M$48 -> 0.00025422056 | O47: 151 | P47: =O47/$O$48 -> 7.2617066e-05 | Q47: 1058 | R47: =Q47/$Q$48 -> 0.00048188513 | S47: =SUM(O47,Q47) -> 1209 | T47: =S47/$S$48 -> 0.00028281066 | U47: 194 | V47: =U47/$U$48 -> 9.3765738e-05 | W47: 1274 | X47: =W47/$W$48 -> 0.00058352223 | Y47: =SUM(U47,W47) -> 1468 | Z47: =Y47/$Y$48 -> 0.00034522664 | AA47: 225 | AB47: =AA47/$AA$48 -> 0.0001087933 | AC47: 1357 | AD47: =AC47/$AC$48 -> 0.00062459898 | AE47: 1582 | AF47: =AE47/$AE$48 -> 0.00037304845 | AG47: 248 | AH47: =AG47/$AG$48 -> 0.00011938563 | AI47: 1322 | AJ47: =AI47/$AI$48 -> 0.0006080059 | AK47: 1570 | AL47: =AK47/$AK$48 -> 0.00036927075 | AM47: 273 | AN47: =AM47/$AM$48 -> 0.00013285409 | AO47: 1460 | AP47: =AO47/$AO$48 -> 0.00068075329 | AQ47: 1733 | AR47: =AQ47/$AQ$48 -> 0.00041237977 | AS47: 282 | AT47: =AS47/$AS$48 -> 0.00013518553 | AU47: 1539 | AV47: =AU47/$AU$48 -> 0.0007095488 | AW47: 1821 | AX47: =AW47/$AW$48 -> 0.00042796649
B48: Totale | C48: =SUM(C27:C47) -> 2103024 | D48: =C48/$C$48 -> 1 | E48: =SUM(E27:E47) -> 2225541 | F48: =E48/$E$48 -> 1 | G48: =SUM(C48,E48) -> 4328565 | H48: =G48/$G$48 -> 1 | I48: =SUM(I27:I47) -> 2095058 | J48: =I48/$I$48 -> 1 | K48: =SUM(K27:K47) -> 2216159 | L48: =K48/$K$48 -> 1 | M48: =SUM(I48,K48) -> 4311217 | N48: =M48/$M$48 -> 1 | O48: =SUM(O27:O47) -> 2079401 | P48: =O48/$O$48 -> 1 | Q48: =SUM(Q27:Q47) -> 2195544 | R48: =Q48/$Q$48 -> 1 | S48: =SUM(O48,Q48) -> 4274945 | T48: =S48/$S$48 -> 1 | U48: =SUM(U27:U47) -> 2068986 | V48: =U48/$U$48 -> 1 | W48: =SUM(W27:W47) -> 2183293 | X48: =W48/$W$48 -> 1 | Y48: =SUM(U48,W48) -> 4252279 | Z48: =Y48/$Y$48 -> 1 | AA48: 2068142 | AB48: =AA48/$AA$48 -> 1 | AC48: 2172594 | AD48: =AC48/$AC$48 -> 1 | AE48: 4240736 | AF48: =AE48/$AE$48 -> 1 | AG48: 2077302 | AH48: =AG48/$AG$48 -> 1 | AI48: 2174321 | AJ48: =AI48/AI48 -> 1 | AK48: 4251623 | AL48: =AK48/$AK$48 -> 1 | AM48: =SUM(AM27:AM47) -> 2054886 | AN48: =AM48/$AM$48 -> 1 | AO48: =SUM(AO27:AO47) -> 2144683 | AP48: =AO48/$AO$48 -> 1 | AQ48: =SUM(AQ27:AQ47) -> 4202437 | AR48: =AQ48/$AQ$48 -> 1 | AS48: 2086022 | AT48: =AS48/$AS$48 -> 1 | AU48: 2168984 | AV48: =AU48/$AU$48 -> 1 | AW48: 4255006 | AX48: =AW48/$AW$48 -> 1
A49: Biella | B49: 0-4 | C49: 2703 | D49: =C49/$C$70 -> 0.032065959 | E49: 2576 | F49: =E49/$E$70 -> 0.02829339 | G49: =SUM(C49,E49) -> 5279 | H49: =G49/$G$70 -> 0.030107049 | I49: 2562 | J49: =I49/$I$70 -> 0.030579726 | K49: 2500 | L49: =K49/$K$70 -> 0.027658233 | M49: =SUM(I49,K49) -> 5062 | N49: =M49/$M$70 -> 0.029063559 | O49: 2464 | P49: =O49/$O$70 -> 0.030007794 | Q49: 2402 | R49: =Q49/$Q$70 -> 0.027106938 | S49: =SUM(O49,Q49) -> 4866 | T49: =S49/$S$70 -> 0.028502144 | U49: 2370 | V49: =U49/$U$70 -> 0.02899792 | W49: 2334 | X49: =W49/$W$70 -> 0.026574064 | Y49: =SUM(U49,W49) -> 4704 | Z49: =Y49/$Y$70 -> 0.027742392 | AA49: 2326 | AB49: =AA49/$AA$70 -> 0.028518532 | AC49: 2287 | AD49: =AC49/$AC$70 -> 0.02620843 | AE49: 4613 | AF49: =AE49/$AE$70 -> 0.027324476 | AG49: 2307 | AH49: =AG49/$AG$70 -> 0.028279683 | AI49: 2205 | AJ49: =AI49/$AI$70 -> 0.025343371 | AK49: 4512 | AL49: =AK49/$AK$70 -> 0.026764264 | AM49: 2306 | AN49: =AM49/$AM$70 -> 0.028233508 | AO49: 2120 | AP49: =AO49/$AO$70 -> 0.024485742 | AQ49: 4426 | AR49: =AQ49/$AQ$70 -> 0.026304998 | AS49: 2264 | AT49: =AS49/$AS$70 -> 0.027680307 | AU49: 2065 | AV49: =AU49/$AU$70 -> 0.023891614 | AW49: 4329 | AX49: =AW49/$AW$70 -> 0.025733699
