Workbook

Sheet 00_Introduzione
A1: VI Rapporto Annuale 2026 - OsservaBiella
A2: Goal 8 | B2: Il Goal 8 intende: - perseguire una maggior produttività economica attraverso la diversificazione, l’aggiornamento tecnologico e l’innovazione; - favorire la formalizzazione e la crescita delle micro, piccole e medie imprese; - migliorare l’efficienza nel consumo e nella produzione nel tentativo di scindere la crescita economica dal degrado ambientale; - garantire piena e dignitosa occupazione per tutti e tutte (in particolare a giovani e persone con disabilità) e pari retribuzione per lavoro di pari valore; - ridurre il numero di giovani NEET; - proteggere i diritti del lavoro e promuovere un ambiente di lavoro sicuro e protetto per tutti i lavoratori, compresi i lavoratori migranti; - promuovere forme di turismo sostenibile.
A3: Elaborazione a cura del Laboratorio Percorsi di secondo welfare | B3: Celestina Valeria De Tommaso, valeria.detommaso@secondowelfare.it Franca Maino, franca.maino@secondowelfare.it Alice Sofia Fanelli, alice.fanelli@secondowelfare.it Simona Vinci, simona.vinci@secondowelfare.it
A4: Fondazione Cassa di Risparmio di Biella OsservaBiella – Osservatorio territoriale del Biellese) | B4: Cristina Garavoglia, cristina.garavoglia@fondazionecrbiella.it Sara Diritti, sara.diritti@fondazionecrbiella.it
A5: Come citare | B5: OsservaBiella – Osservatorio territoriale del Biellese (2026), VI Rapporto annuale 2026, Fondazione Cassa di Risparmio di Biella.
A7: Riepilogo degli indicatori del Capitolo 8
A8: Numero indicatore | B8: Gruppo/categoria | C8: Indicatore | D8: Annualità di riferimento | E8: Fonte
A9: 1 | B9: Mercato del lavoro in prospettiva comparata: scenario nazionale, regionale e provinciale | C9: Tasso di disoccupazione | D9: 2019-2025 | E9: Istat
A10: 2 | C10: Tasso di disoccupazione giovanile | D10: 2019-2025 | E10: Istat
A11: 3 | C11: Tasso di disoccupazione lunga durata | D11: 2019-2025 | E11: Ires Piemonte - Sisreg
A12: 4 | C12: Tasso di occupazione | D12: 2019-2025 | E12: Istat
A13: 5 | C13: Tasso di attività | D13: 2019-2025 | E13: Istat
A14: 6 | C14: Tasso di inattività | D14: 2019-2025 | E14: Istat
A15: 7 | C15: NEET | D15: 2019-2025 | E15: Anpal - Tableau Public ed Eurostat
A16: 8 | C16: Lavoro a termine | D16: 2019-2025 | E16: Ires Piemonte - Sisreg
A17: 9 | B17: Mercato del lavoro: scenario locale | C17: Attivazioni | D17: 2022-2025 | E17: APL
A18: 10 | C18: Inserimenti | D18: 2020-2024 | E18: APL
A19: 11 | C19: Trasformazioni in part-time | D19: 2020-2025 | E19: APL
A20: 12 | C20: Attivazioni full-time e part-time | D20: 2020-2025 | E20: APL
A21: 13 | C21: Infortuni sul lavoro | D21: 2019-2025 | E21: Regione Piemonte
A22: 14 | C22: Cessazioni | D22: 2022-2025 | E22: APL
A23: 15 | C23: Addetti per settore | D23: 2020-2025 | E23: Camera di Commercio
A24: 16 | B24: Prestazioni di welfare: disoccupazione, invalidità e pensione | C24: Percettori di Naspi | D24: 2018-2024 | E24: Regione Piemonte
A25: 17 | C25: Pensioni | D25: 2022-2026 | E25: Inps
A26: 18 | C26: Attivazioni/cessazioni stranieri per nazionalita' e settore | D26: 2024-2025 | E26: APL
A27: 19 | C27: Attivazioni per fascia d'eta' over 55 (55-64) | D27: 2024-2025 | E27: APL - Cob CPI

Sheet Indicatore 1_ Tasso di disoccup
A1: Tasso di disoccupazione, 15-64 anni - Italia, Piemonte, provincia di Biella (2019-2025)
B4: 2019 | E4: 2020 | H4: 2021 | K4: 2022 | N4: 2023 | Q4: 2024 | T4: 2025
B5: Uomini | C5: Donne | D5: Totale | E5: Uomini | F5: Donne | G5: Totale | H5: Uomini | I5: Donne | J5: Totale | K5: Uomini | L5: Donne | M5: Totale | N5: Uomini | O5: Donne | P5: Totale | Q5: Uomini | R5: Donne | S5: Totale | T5: Uomini | U5: Donne | V5: Totale
A6: Italia | B6: 9.3 | C6: 11.2 | D6: 10.1 | E6: 8.8 | F6: 10.5 | G6: 9.5 | H6: 8.9 | I6: 10.8 | J6: 9.7 | K6: 7.3 | L6: 9.5 | M6: 8.2 | N6: 7 | O6: 8.9 | P6: 7.8 | Q6: 6 | R6: 7.5 | S6: 6.6 | T6: 5.8 | U6: 6.9 | V6: 6.3
A7: Piemonte | B7: 6.5 | C7: 9.3 | D7: 7.8 | E7: 6.9 | F7: 9 | G7: 7.8 | H7: 6.3 | I7: 8.9 | J7: 7.5 | K7: 6 | L7: 7.3 | M7: 6.6 | N7: 5.5 | O7: 7.2 | P7: 6.3 | Q7: 5 | R7: 6.1 | S7: 5.5 | T7: 5.6 | U7: 6.8 | V7: 6.2
A8: Biella | B8: 7.3 | C8: 9.1 | D8: 8.2 | E8: 6.4 | F8: 7.2 | G8: 6.7 | H8: 5.5 | I8: 7 | J8: 6.2 | K8: 3.1 | L8: 4.7 | M8: 3.9 | N8: 4.2 | O8: 3.9 | P8: 4.1 | Q8: 2.9 | R8: 4 | S8: 3.4 | T8: 4.9 | U8: 3.6 | V8: 4.3
A9: Fonte: elaborazione su dati Istat
A10: Note: Rapporto percentuale tra gli occupati di una determinata classe d’età (in genere 15-64 anni) e la popolazione residente totale della stessa classe d’età.

Sheet Indicatore 2_Tasso di disoccupa
A1: Tasso di disoccupazione giovanile, 15-24 anni - Italia, Piemonte, provincia di Biella (2019-2025)
B4: 2019 | E4: 2020 | H4: 2021 | K4: 2022 | N4: 2023 | Q4: 2024 | T4: 2025
B5: Uomini | C5: Donne | D5: Totale | E5: Uomini | F5: Donne | G5: Totale | H5: Uomini | I5: Donne | J5: Totale | K5: Uomini | L5: Donne | M5: Totale | N5: Uomini | O5: Donne | P5: Totale | Q5: Uomini | R5: Donne | S5: Totale | T5: Uomini | U5: Donne | V5: Totale
A6: Italia | B6: 27.8 | C6: 31.1 | D6: 29.2 | E6: 28.4 | F6: 32.1 | G6: 29.8 | H6: 27.7 | I6: 32.8 | J6: 29.7 | K6: 22.3 | L6: 25.8 | M6: 23.7 | N6: 21.1 | O6: 25.2 | P6: 22.7 | Q6: 19.2 | R6: 22.2 | S6: 20.3 | T6: 19.5 | U6: 22.2 | V6: 20.6
A7: Piemonte | B7: 21.4 | C7: 33.4 | D7: 26.8 | E7: 22.9 | F7: 27.9 | G7: 24.9 | H7: 20.3 | I7: 27.7 | J7: 23.4 | K7: 22.9 | L7: 17.6 | M7: 20.6 | N7: 18.6 | O7: 23.3 | P7: 20.3 | Q7: 17.1 | R7: 20.5 | S7: 18.3 | T7: 16.7 | U7: 22.9 | V7: 19.3
A8: Biella | B8: 26.2 | C8: 28.1 | D8: 27.1 | E8: 13.8 | F8: 5.1 | G8: 10.1 | H8: 19.2 | I8: 25.6 | J8: 22.3 | K8: 17.4 | L8: 22.5 | M8: 19.5 | N8: 20.3 | O8: 11.2 | P8: 17.2 | Q8: 15 | R8: 9.5 | S8: 12.8 | T8: 11.6 | U8: 11.6 | V8: 11.6
A9: Fonte: elaborazione su dati Istat
A10: Note: Rapporto percentuale tra i disoccupati di 15-24 anni e l’insieme di occupati e disoccupati (forze lavoro) della stessa classe di età.

Sheet Indicatore 3_Tasso di disoccupa
A1: Disoccupazione di lunga durata, 15-64 anni - Italia, Piemonte, provincia di Biella (2019-2025)
B4: 2019 | E4: 2020 | H4: 2021 | K4: 2022 | N4: 2023 | Q4: 2024 | T4: 2025
B5: Uomini | C5: Donne | D5: Totale | E5: Uomini | F5: Donne | G5: Totale | H5: Uomini | I5: Donne | J5: Totale | K5: Uomini | L5: Donne | M5: Totale | N5: Uomini | O5: Donne | P5: Totale | Q5: Uomini | R5: Donne | S5: Totale | T5: Uomini | U5: Donne | V5: Totale
A6: Italia | B6: n.d. | C6: n.d. | D6: 56 | E6: 52.1 | F6: 52 | G6: =AVERAGE(E6:F6) -> 52.05 | H6: 57.8 | I6: 55.7 | J6: 56.8 | K6: 58.6 | L6: 55.9 | M6: 57.3 | N6: 55.3 | O6: 54.3 | P6: 54.8 | Q6: 50.9 | R6: 49.5 | S6: 50.2 | T6: 50.5 | U6: 50.1 | V6: 50.3
A7: Piemonte | B7: n.d. | C7: n.d. | D7: 53.7 | E7: 53 | F7: 53 | G7: =AVERAGE(E7:F7) -> 53 | H7: 54.1 | I7: 57.4 | J7: 55.9 | K7: 51.9 | L7: 58.9 | M7: 55.4 | N7: 51 | O7: 50.7 | P7: 50.8 | Q7: 43.8 | R7: 46.3 | S7: 45 | T7: 42.8 | U7: 47.1 | V7: 45
A8: Biella | B8: 50 | C8: 45.8 | D8: =AVERAGE(B8:C8) -> 47.9 | E8: 53.9 | F8: 30.7 | G8: =AVERAGE(E8:F8) -> 42.3 | H8: 48.2 | I8: 57.1 | J8: 53 | K8: 79.5 | L8: 46.1 | M8: 59.8 | N8: 56.8 | O8: 54.5 | P8: 55.8 | Q8: 50.4 | R8: 40 | S8: 44.7 | T8: n.d. | U8: n.d. | V8: n.d.
A9: Fonte: elaborazione su dati Ires Piemonte - Sisreg
A10: Nota: La disoccupazione di lunga durata esprime la percentuale di persone disoccupate da più di 12 mesi sul totale dei disoccupati.

Sheet Indicatore 4_Tasso di occupazio
A1: Tasso di occupazione (15-64) - Italia, Piemonte, provincia di Biella (2019-2025)
B3: 2019 | E3: 2020 | H3: 2021 | K3: 2022 | N3: 2023 | Q3: 2024 | T3: 2025
B4: Uomini | C4: Donne | D4: Totale | E4: Uomini | F4: Donne | G4: Totale | H4: Uomini | I4: Donne | J4: Totale | K4: Uomini | L4: Donne | M4: Totale | N4: Uomini | O4: Donne | P4: Totale | Q4: Uomini | R4: Donne | S4: Totale | T4: Uomini | U4: Donne | V4: Totale
A5: Italia | B5: 68 | C5: 50.2 | D5: 59 | E5: 66.6 | F5: 48.4 | G5: 57.5 | H5: 67.1 | I5: 49.4 | J5: 58.2 | K5: 69.2 | L5: 51.1 | M5: 60.1 | N5: 70.4 | O5: 52.5 | P5: 61.5 | Q5: 71.1 | R5: 53.3 | S5: 62.2 | T5: 71.2 | U5: 53.8 | V5: 62.5
A6: Piemonte | B6: 72.8 | C6: 59.2 | D6: 66 | E6: 70.8 | F6: 57.5 | G6: 64.1 | H6: 71.9 | I6: 58.2 | J6: 65 | K6: 72.9 | L6: 59.7 | M6: 66.3 | N6: 74.3 | O6: 60 | P6: 67.1 | Q6: 75.6 | R6: 62.3 | S6: 69 | T6: 74.8 | U6: 63 | V6: 68.9
A7: Biella | B7: 70.3 | C7: 60.8 | D7: 65.5 | E7: 69.6 | F7: 62.4 | G7: 66 | H7: 69.8 | I7: 60.5 | J7: 65.2 | K7: 70.7 | L7: 62.1 | M7: 66.4 | N7: 74.2 | O7: 66.4 | P7: 70.3 | Q7: 74.9 | R7: 65.8 | S7: 70.3 | T7: 73.9 | U7: 67.1 | V7: 70.5
A8: Fonte: elaborazione su dati Istat
A9: Nota: Il tasso di occupazione esprime il rapporto tra gli occupati e la corrispondente popolazione di riferimento.

Sheet Indicatore 5_Tasso di attività
A1: Tasso di attività (15-64 anni) - Italia, Piemonte, provincia di Biella (2019-2025)
B3: 2019 | E3: 2020 | H3: 2021 | K3: 2022 | N3: 2023 | Q3: 2024 | T3: 2025
B4: Uomini | C4: Donne | D4: Totale | E4: Uomini | F4: Donne | G4: Totale | H4: Uomini | I4: Donne | J4: Totale | K4: Uomini | L4: Donne | M4: Totale | N4: Uomini | O4: Donne | P4: Totale | Q4: Uomini | R4: Donne | S4: Totale | T4: Uomini | U4: Donne | V4: Totale
A5: Italia | B5: 74.9 | C5: 56.5 | D5: 65.7 | E5: 72.9 | F5: 54.1 | G5: 63.5 | H5: 73.6 | I5: 55.4 | J5: 64.5 | K5: 74.6 | L5: 56.4 | M5: 65.5 | N5: 75.7 | O5: 57.7 | P5: 66.7 | Q5: 75.6 | R5: 57.6 | S5: 66.6 | T5: 75.6 | U5: 57.8 | V5: 66.7
A6: Piemonte | B6: 77.9 | C6: 65.3 | D6: 71.6 | E6: 76 | F6: 63.1 | G6: 69.6 | H6: 76.7 | I6: 63.9 | J6: 70.3 | K6: 77.5 | L6: 64.4 | M6: 71 | N6: 78.6 | O6: 64.6 | P6: 71.6 | Q6: 79.6 | R6: 66.3 | S6: 73 | T6: 79.3 | U6: 67.6 | V6: 73.5
A7: Biella | B7: 75.9 | C7: 66.9 | D7: 71.3 | E7: 74.3 | F7: 67.2 | G7: 70.8 | H7: 73.9 | I7: 65 | J7: 69.5 | K7: 72.9 | L7: 65.2 | M7: 69.1 | N7: 77.4 | O7: 69.1 | P7: 73.3 | Q7: 77.1 | R7: 68.5 | S7: 72.8 | T7: 77.7 | U7: 69.5 | V7: 73.7
A8: Fonte: elaborazione su dati Istat
A9: Note: Il tasso di attività esprime il rapporto tra le persone appartenenti alle forze di lavoro (la somma tra occupati e disoccupati) e la corrispondente popolazione di riferimento.

Sheet Indicatore 6_Tasso di inattivit
A1: Tasso di inattività (15-64 anni) - Italia, Piemonte e provincia di Biella (2019-2025)
B3: 2019 | E3: 2020 | H3: 2021 | K3: 2022 | N3: 2023 | Q3: 2024 | T3: 2025
B4: Uomini | C4: Donne | D4: Totale | E4: Uomini | F4: Donne | G4: Totale | H4: Uomini | I4: Donne | J4: Totale | K4: Uomini | L4: Donne | M4: Totale | N4: Uomini | O4: Donne | P4: Totale | Q4: Uomini | R4: Donne | S4: Totale | T4: Uomini | U4: Donne | V4: Totale
A5: Italia | B5: 25.1 | C5: 43.5 | D5: 34.3 | E5: 27.1 | F5: 45.9 | G5: 36.5 | H5: 26.4 | I5: 44.6 | J5: 35.5 | K5: 25.4 | L5: 43.6 | M5: 34.5 | N5: 24.3 | O5: 42.3 | P5: 33.3 | Q5: 24.4 | R5: 42.4 | S5: 33.4 | T5: 24.4 | U5: 42.2 | V5: 33.3
A6: Piemonte | B6: 22.1 | C6: 34.7 | D6: 28.4 | E6: 24 | F6: 36.9 | G6: 30.4 | H6: 23.3 | I6: 36.1 | J6: 29.7 | K6: 22.5 | L6: 35.6 | M6: 29 | N6: 21.4 | O6: 35.4 | P6: 28.4 | Q6: 20.4 | R6: 33.7 | S6: 27 | T6: 20.7 | U6: 32.4 | V6: 26.5
A7: Biella | B7: 24.1 | C7: 33.1 | D7: 28.7 | E7: 25.7 | F7: 32.8 | G7: 29.2 | H7: 26.1 | I7: 35 | J7: 30.5 | K7: 27.1 | L7: 34.8 | M7: 30.9 | N7: 22.6 | O7: 30.9 | P7: 26.7 | Q7: 22.9 | R7: 31.5 | S7: 27.2 | T7: 22.3 | U7: 30.5 | V7: 26.3
A8: Fonte: elaborazione su dati Istat
A9: Note: Il tasso di inattività esprime il rapporto tra le persone non appartenenti alle forze di lavoro e la corrispondente popolazione di riferimento.

Sheet Indicatore 7_Neet
A1: Percentuale di giovani (15-29 anni) che non lavorano e non studiano (NEET) - Italia, Piemonte, provincia di Biella (2019-2025)
B3: 2019 | E3: 2020 | H3: 2021 | K3: 2022 | N3: 2023 | Q3: 2024 | T3: 2025
B4: Uomini | C4: Donne | D4: Totale | E4: Uomini | F4: Donne | G4: Totale | H4: Uomini | I4: Donne | J4: Totale | K4: Uomini | L4: Donne | M4: Totale | N4: Uomini | O4: Donne | P4: Totale | Q4: Uomini | R4: Donne | S4: Totale | T4: Uomini | U4: Donne | V4: Totale
A5: Italia | B5: 20.2 | C5: 24.3 | D5: 22.2 | E5: 21.4 | F5: 25.4 | G5: 23.3 | H5: 21.2 | I5: 25 | J5: 23.1 | K5: 17.7 | L5: 20.5 | M5: 19 | N5: 14.4 | O5: 17.8 | P5: 16.1 | Q5: 13.8 | R5: 16.6 | S5: 15.2 | T5: 11.8 | U5: 14.9 | V5: 13.3
A6: Piemonte | B6: 14.2 | C6: 19.2 | D6: 16.6 | E6: 16.5 | F6: 23.4 | G6: 19.8 | H6: 11.5 | I6: 12.3 | J6: 11.9 | K6: 13.7 | L6: 17.2 | M6: 15.4 | N6: 10 | O6: 13.5 | P6: 11.7 | Q6: 9.2 | R6: 10.5 | S6: 9.8 | T6: 7.8 | U6: 11 | V6: 9.3
A7: Biella | B7: 15.4 | C7: 14.7 | D7: 15.1 | E7: 17.8 | F7: 20.8 | G7: 19.3 | H7: 11.6 | I7: 6.7 | J7: 8.9 | K7: 17.3 | L7: 6 | M7: 11.9 | N7: n.d. | O7: n.d. | P7: n.d. | Q7: n.d. | R7: n.d. | S7: n.d. | T7: n.d. | U7: n.d. | V7: n.d.
A8: Fonte: i dati nazionali e regionali sono un'elaborazione su dati Istat, il dato provinciale è un'elaborazione su dati Anpal - Tableau Public.
A9: Note: Per gli anni 2021 e 2022, la fonte del dato nazionale è Eurostat. Quella del dato regionale è Anpal - Tableau Public.

Sheet Indicatore 8_Lavoro a termine
A1: Occupati (15-64 anni) con lavoro a termine (dati in %) - Italia, Piemonte, provincia di Biella (2019-2025)
B3: 2019 | E3: 2020 | H3: 2021 | K3: 2022 | N3: 2023 | Q3: 2024 | T3: 2025
B4: Uomini | C4: Donne | D4: Totale | E4: Uomini | F4: Donne | G4: Totale | H4: Uomini | I4: Donne | J4: Totale | K4: Uomini | L4: Donne | M4: Totale | N4: Uomini | O4: Donne | P4: Totale | Q4: Uomini | R4: Donne | S4: Totale | T4: Uomini | U4: Donne | V4: Totale
A5: Italia | B5: 16.7 | C5: 17.3 | D5: 17 | E5: 14.9 | F5: 15.3 | G5: 15.1 | H5: 14.9 | I5: 15.4 | J5: 15.1 | K5: 15.7 | L5: 18.1 | M5: 16.8 | N5: 14.8 | O5: 17.5 | P5: 16 | Q5: 13.5 | R5: 16.1 | S5: 14.7 | T5: 12.1 | U5: 15.1 | V5: 13.5
A6: Piemonte | B6: 14.7 | C6: 13.7 | D6: 14.2 | E6: 13.3 | F6: 12.2 | G6: 12.8 | H6: 13.2 | I6: 12.2 | J6: 13.8 | K6: 12.1 | L6: 14.1 | M6: 13.4 | N6: 11.3 | O6: 13.4 | P6: 12.3 | Q6: 9.1 | R6: 12.1 | S6: 10.5 | T6: 7.7 | U6: 10.6 | V6: 9.1
A7: Biella | B7: 13.2 | C7: 12.5 | D7: 12.9 | E7: 13.5 | F7: 12.3 | G7: 12.9 | H7: 6.8 | I7: 14.5 | J7: 10.7 | K7: 8.7 | L7: 17.5 | M7: 13.1 | N7: 11.1 | O7: 16.1 | P7: 13.5 | Q7: 11.6 | R7: 13 | S7: 12.3 | T7: n.d. | U7: n.d. | V7: n.d.
A8: Fonte: elaborazione su dati Ires Piemonte - Sisreg
A9: Nota: Il valore è calcolato come la percentuale di occupati dipendenti con contratto a tempo determinato sul totale degli occupati dipendenti.

Sheet Indicatore 9_Attivazioni
A1: Attivazioni per tipologia contrattuale su scala provinciale (anno 2022)
B3: Totale | C3: Tempo Indeterminato | E3: Apprendistato | G3: Tempo determinato | I3: Somministrazione | K3: Altro
B4: v.a. | C4: v.a. | D4: % | E4: v.a. | F4: % | G4: v.a. | H4: % | I4: v.a. | J4: % | K4: v.a. | L4: %
A5: Totale | B5: 22230 | C5: 3554 | D5: =C5/$B$5 -> 0.15987404 | E5: 841 | F5: =E5/$B$5 -> 0.037831759 | G5: 11091 | H5: =G5/$B$5 -> 0.49892038 | I5: 3551 | J5: =I5/$B$5 -> 0.15973909 | K5: 3193 | L5: =K5/$B$5 -> 0.14363473
A6: di cui Donne | B6: 12114 | C6: 1659 | D6: =C6/$B$6 -> 0.13694898 | E6: 361 | F6: =E6/$B$6 -> 0.029800231 | G6: 6232 | H6: =G6/$B$6 -> 0.5144461 | I6: 1809 | J6: =I6/$B$6 -> 0.14933135 | K6: 2053 | L6: =K6/$B$6 -> 0.16947334
A7: di cui Giovani fino a 29 | B7: 7574 | C7: 640 | D7: =C7/$B$7 -> 0.084499604 | E7: 808 | F7: =E7/$B$7 -> 0.10668075 | G7: 3617 | H7: =G7/$B$7 -> 0.47755479 | I7: 1212 | J7: =I7/$B$7 -> 0.16002112 | K7: 1297 | L7: =K7/$B$7 -> 0.17124373
A8: di cui 50 e oltre | B8: 4827 | C8: 1038 | D8: =C8/$B$8 -> 0.2150404 | E8: 2 | F8: =E8/$B$8 -> 0.00041433603 | G8: 2094 | H8: =G8/$B$8 -> 0.43380982 | I8: 733 | J8: =I8/$B$8 -> 0.15185415 | K8: 960 | L8: =K8/$B$8 -> 0.19888129
A9: di cui Straniero | B9: 2851 | C9: 331 | D9: =C9/$B$9 -> 0.11609961 | E9: 70 | F9: =E9/$B$9 -> 0.024552788 | G9: 1154 | H9: =G9/$B$9 -> 0.40477026 | I9: 566 | J9: =I9/$B$9 -> 0.19852683 | K9: 730 | L9: =K9/$B$9 -> 0.25605051
A10: Qualifica Alta | B10: 5020 | C10: 740 | D10: =C10/$B$10 -> 0.14741036 | E10: 97 | F10: =E10/$B$10 -> 0.019322709 | G10: 3244 | H10: =G10/$B$10 -> 0.64621514 | I10: 465 | J10: =I10/$B$10 -> 0.092629482 | K10: 474 | L10: =K10/$B$10 -> 0.094422311
A11: Qualifica Media | B11: 9848 | C11: 1739 | D11: =C11/$B$11 -> 0.17658408 | E11: 619 | F11: =E11/$B$11 -> 0.062855402 | G11: 3935 | H11: =G11/$B$11 -> 0.39957352 | I11: 1374 | J11: =I11/$B$11 -> 0.13952071 | K11: 2181 | L11: =K11/$B$11 -> 0.22146629
A12: Qualifica Bassa | B12: 7362 | C12: 1075 | D12: =C12/$B$12 -> 0.1460201 | E12: 125 | F12: =E12/$B$12 -> 0.016979082 | G12: 3912 | H12: =G12/$B$12 -> 0.53137734 | I12: 1712 | J12: =I12/$B$12 -> 0.2325455 | K12: 538 | L12: =K12/$B$12 -> 0.073077968
A13: Agricoltura | B13: 834 | C13: 34 | D13: =C13/$B$13 -> 0.040767386 | E13: 1 | F13: =E13/$B$13 -> 0.0011990408 | G13: 794 | H13: =G13/$B$13 -> 0.95203837 | I13: 0 | J13: =I13/$B$13 -> 0 | K13: 5 | L13: =K13/$B$13 -> 0.0059952038
A14: Industria | B14: 4976 | C14: 1311 | D14: =C14/$B$14 -> 0.26346463 | E14: 296 | F14: =E14/$B$14 -> 0.059485531 | G14: 1669 | H14: =G14/$B$14 -> 0.33540997 | I14: 1603 | J14: =I14/$B$14 -> 0.3221463 | K14: 97 | L14: =K14/$B$14 -> 0.019493569
A15: Edilizia | B15: 1138 | C15: 243 | D15: =C15/$B$15 -> 0.21353251 | E15: 98 | F15: =E15/$B$15 -> 0.086115993 | G15: 569 | H15: =G15/$B$15 -> 0.5 | I15: 210 | J15: =I15/$B$15 -> 0.18453427 | K15: 18 | L15: =K15/$B$15 -> 0.015817223
A16: Commercio | B16: 1877 | C16: 366 | D16: =C16/$B$16 -> 0.19499201 | E16: 153 | F16: =E16/$B$16 -> 0.081513053 | G16: 896 | H16: =G16/$B$16 -> 0.47735749 | I16: 233 | J16: =I16/$B$16 -> 0.12413426 | K16: 229 | L16: =K16/$B$16 -> 0.1220032
A17: Alberghi e Ristorazione | B17: 2591 | C17: 178 | D17: =C17/$B$17 -> 0.068699344 | E17: 98 | F17: =E17/$B$17 -> 0.037823234 | G17: 947 | H17: =G17/$B$17 -> 0.36549595 | I17: 203 | J17: =I17/$B$17 -> 0.078348128 | K17: 1165 | L17: =K17/$B$17 -> 0.44963335
A18: Altri Servizi | B18: 10814 | C18: 1422 | D18: =C18/$B$18 -> 0.13149621 | E18: 195 | F18: =E18/$B$18 -> 0.018032181 | G18: 6216 | H18: =G18/$B$18 -> 0.57481043 | I18: 1302 | J18: =I18/$B$18 -> 0.12039948 | K18: 1679 | L18: =K18/$B$18 -> 0.1552617
A19: Fonte: elaborazione su dati APL, Cronache del lavoro
A22: Attivazioni per tipologia contrattuale su scala provinciale (anno 2023)
B24: Totale | C24: Tempo Indeterminato | E24: Apprendistato | G24: Tempo determinato | I24: Somministrazione | K24: Altro
B25: v.a. | C25: v.a. | D25: % | E25: v.a. | F25: % | G25: v.a. | H25: % | I25: v.a. | J25: % | K25: v.a. | L25: %
A26: Totale | B26: 20677 | C26: 3266.966 | D26: 0.158 | E26: 765.049 | F26: 0.037 | G26: 10462.56 | H26: 0.506 | I26: 3142.904 | J26: 0.152 | K26: 3039.519 | L26: 0.147
A27: di cui Donne | B27: 11351 | C27: 1611.842 | D27: 0.142 | E27: 340.53 | F27: 0.03 | G27: 5845.765 | H27: 0.515 | I27: 1657.246 | J27: 0.146 | K27: 1895.617 | L27: 0.167
A28: di cui Giovani fino a 29 | B28: 7339 | C28: 718.928 | D28: 0.098 | E28: 740.936 | F28: 0.101 | G28: 3491.936 | H28: 0.476 | I28: 1173.76 | J28: 0.16 | K28: 1210.44 | L28: 0.165
A29: di cui 50 e oltre | B29: 4542 | C29: 849.354 | D29: 0.187 | E29: 0 | F29: 0 | G29: 2098.404 | H29: 0.462 | I29: 654.048 | J29: 0.144 | K29: 940.194 | L29: 0.207
A30: di cui Straniero | B30: 2920 | C30: 321.2 | D30: 0.11 | E30: 52.56 | F30: 0.018 | G30: 1270.2 | H30: 0.435 | I30: 505.16 | J30: 0.173 | K30: 773.8 | L30: 0.265
A31: Qualifica Alta | B31: 4625 | C31: 772.375 | D31: 0.167 | E31: 64.75 | F31: 0.014 | G31: 2793.5 | H31: 0.604 | I31: 564.25 | J31: 0.122 | K31: 425.5 | L31: 0.092
A32: Qualifica Media | B32: 9535 | C32: 1716.3 | D32: 0.18 | E32: 581.635 | F32: 0.061 | G32: 3957.025 | H32: 0.415 | I32: 1239.55 | J32: 0.13 | K32: 2040.49 | L32: 0.214
A33: Qualifica Bassa | B33: 6517 | C33: 782.04 | D33: 0.12 | E33: 110.789 | F33: 0.017 | G33: 3714.69 | H33: 0.57 | I33: 1335.985 | J33: 0.205 | K33: 573.496 | L33: 0.088
A34: Agricoltura | B34: 673 | C34: 24.228 | D34: 0.036 | E34: 0 | F34: 0 | G34: 640.696 | H34: 0.952 | I34: 0.673 | J34: 0.001 | K34: 6.73 | L34: 0.01
A35: Industria | B35: 4070 | C35: 1005.29 | D35: 0.247 | E35: 231.99 | F35: 0.057 | G35: 1505.9 | H35: 0.37 | I35: 1245.42 | J35: 0.306 | K35: 81.4 | L35: 0.02
A36: Edilizia | B36: 1073 | C36: 212.454 | D36: 0.198 | E36: 92.278 | F36: 0.086 | G36: 580.493 | H36: 0.541 | I36: 180.264 | J36: 0.168 | K36: 7.511 | L36: 0.007
A37: Commercio | B37: 1851 | C37: 403.518 | D37: 0.218 | E37: 172.143 | F37: 0.093 | G37: 903.288 | H37: 0.488 | I37: 205.461 | J37: 0.111 | K37: 164.739 | L37: 0.089
... A39: Altri Servizi | B39: 10258 | C39: 1374.572 | D39: 0.134 | E39: 174.386 | F39: 0.017 | G39: 5764.996 | H39: 0.562 | I39: 1251.476 | J39: 0.122 | K39: 1692.57 | L39: 0.165
A40: Fonte: elaborazione su dati APL, Cronache del lavoro
A42: Attivazioni per tipologia contrattuale su scala provinciale (anno 2024)
B44: Totale | C44: Tempo Indeterminato | E44: Apprendistato | G44: Tempo determinato | I44: Somministrazione | K44: Altro
B45: v.a. | C45: v.a. | D45: % | E45: v.a. | F45: % | G45: v.a. | H45: % | I45: v.a. | J45: % | K45: v.a. | L45: %
A46: Totale | B46: 22360 | C46: =B46*D46 -> 3331.64 | D46: 0.149 | E46: =F46*B46 -> 725 | F46: 0.032423971 | G46: =H46*B46 -> 11090.56 | H46: 0.496 | I46: =J46*B46 -> 3002 | J46: 0.1342576 | K46: =L46*B46 -> 4215 | L46: 0.18850626
A47: di cui Donne | B47: 12165 | C47: =B47*D47 -> 1471.965 | D47: 0.121 | E47: =F47*B47 -> 350 | F47: 0.028771065 | G47: =H47*B47 -> 6240.645 | H47: 0.513 | I47: =J47*B47 -> 1686 | J47: 0.13859433 | K47: =L47*B47 -> 2407 | L47: 0.19786272
...

Sheet Indicatore 10_Inserimenti L.N. 
A1: Avviamenti ai sensi della L.N. 68/99, Assunzioni persone con disabilità - Provincia di Biella (2020-2024)
B3: Totale
B4: v.a. | C4: var. % rispetto all'annualità precedente
A5: 2020 | B5: 56 | C5: -
A6: 2021 | B6: 26 | C6: =(B6-B5)/B5 -> -0.53571429
A7: 2022 | B7: 138 | C7: =(B7-B6)/B6 -> 4.3076923
A8: 2023 | B8: 138 | C8: =(B8-B7)/B7 -> 0
A9: 2024 | B9: 148 | C9: =(B9-B8)/B8 -> 0.072463768
A10: Fonte: elaborazione su dati APL
A12: Avviamenti ai sensi della L.N. 68/99, Assunzioni persone con disabilità per genere - Provincia di Biella (2020-2024)
A13: Per genere | B13: Uomini | D13: Donne | F13: Totale
B14: v.a. | C14: % | D14: v.a. | E14: % | F14: v.a. | G14: %
A15: 2020 | B15: 28 | C15: =B15/F15 -> 0.5 | D15: 28 | E15: =D15/F15 -> 0.5 | F15: =SUM(B15,D15) -> 56 | G15: =SUM(C15,E15) -> 1
A16: 2021 | B16: 4 | C16: =B16/F16 -> 0.15384615 | D16: 22 | E16: =D16/F16 -> 0.84615385 | F16: 26 | G16: =F16/F16 -> 1
A17: 2022 | B17: 69 | C17: =B17/F17 -> 0.5 | D17: 69 | E17: =D17/F17 -> 0.5 | F17: 138 | G17: =F17/F17 -> 1
A18: 2023 | B18: 68 | C18: =B18/F18 -> 0.49275362 | D18: 70 | E18: =D18/F18 -> 0.50724638 | F18: 138 | G18: =F18/F18 -> 1
A19: 2024 | B19: 76 | C19: =B19/F19 -> 0.51351351 | D19: 72 | E19: =D19/F19 -> 0.48648649 | F19: 148 | G19: =F19/F19 -> 1
A20: Fonte: elaborazione su dati APL
A22: Avviamenti ai sensi della L.N. 68/99, Assunzioni persone con disabilità per qualifica- Provincia di Biella (2020-2024)
A23: Per qualifica | B23: Qualifica bassa | D23: Qualifica media | F23: Qualifica alta | H23: Totale
B24: v.a. | C24: % | D24: v.a. | E24: % | F24: v.a. | G24: % | H24: v.a. | I24: %
A25: 2020 | B25: 34 | C25: =B25/$H$25 -> 0.60714286 | D25: 18 | E25: =D25/$H$25 -> 0.32142857 | F25: 4 | G25: =F25/$H$25 -> 0.071428571 | H25: =SUM(B25,D25,F25) -> 56 | I25: =H25/$H$25 -> 1
A26: 2021 | B26: 3 | C26: =B26/$H$26 -> 0.11538462 | D26: 17 | E26: =D26/$H$26 -> 0.65384615 | F26: 6 | G26: =F26/$H$26 -> 0.23076923 | H26: 26 | I26: =H26/$H$26 -> 1
A27: 2022 | B27: 9 | C27: =B27/$H$27 -> 0.065217391 | D27: 77 | E27: =D27/$H$27 -> 0.55797101 | F27: 52 | G27: =F27/$H$27 -> 0.37681159 | H27: =SUM(B27,D27,F27) -> 138 | I27: =H27/$H$27 -> 1
A28: 2023 | B28: 51 | C28: =B28/H28 -> 0.36956522 | D28: 79 | E28: =D28/H28 -> 0.57246377 | F28: 8 | G28: =F28/H28 -> 0.057971014 | H28: 138 | I28: =H28/H28 -> 1
A29: 2024 | B29: 51 | C29: =B29/H29 -> 0.34459459 | D29: 88 | E29: =D29/H29 -> 0.59459459 | F29: 9 | G29: =F29/H29 -> 0.060810811 | H29: 148 | I29: =H29/H29 -> 1
A30: Fonte: elaborazione su dati APL
A32: Avviamenti ai sensi della L.N. 68/99, Assunzioni persone con disabilità per settore - Provincia di Biella (2020-2024)
A33: Per settore | B33: Industria | D33: Commercio | F33: Alloggio e Ristorazione | H33: Servizi | J33: Costruzioni | L33: Totale
B34: v.a. | C34: % | D34: v.a. | E34: % | F34: v.a. | G34: % | H34: v.a. | I34: % | J34: v.a. | K34: % | L34: v.a. | M34: %
A35: 2020 | B35: 24 | C35: =B35/$L$35 -> 0.42857143 | D35: 12 | E35: =D35/$L$35 -> 0.21428571 | F35: 1 | G35: =F35/$L$35 -> 0.017857143 | H35: 19 | I35: =H35/$L$35 -> 0.33928571 | J35: - | K35: 0 | L35: =SUM(B35,D35,F35,H35,J35) -> 56 | M35: =L35/$L$35 -> 1
A36: 2021 | B36: 25 | C36: =B36/$L$36 -> 0.96153846 | D36: 1 | E36: =D36/$L$36 -> 0.038461538 | F36: 0 | G36: =F36/$L$36 -> 0 | H36: 0 | I36: =H36/$L$36 -> 0 | J36: - | K36: 0 | L36: =SUM(B36,D36,F36,H36,J36) -> 26 | M36: =L36/$L$36 -> 1
A37: 2022 | B37: 63 | C37: =B37/$L$37 -> 0.45652174 | D37: 18 | E37: =D37/$L$37 -> 0.13043478 | F37: 8 | G37: =F37/$L$37 -> 0.057971014 | H37: 45 | I37: =H37/$L$37 -> 0.32608696 | J37: 4 | K37: =J37/$L$37 -> 0.028985507 | L37: =SUM(B37,D37,F37,H37,J37) -> 138 | M37: =L37/$L$37 -> 1
A38: 2023 | B38: 75 | C38: =B38/L38 -> 0.54347826 | D38: 17 | E38: =D38/L38 -> 0.12318841 | F38: 7 | G38: =F38/L38 -> 0.050724638 | H38: 35 | I38: =H38/L38 -> 0.25362319 | J38: 4 | K38: =J38/L38 -> 0.028985507 | L38: 138 | M38: =L38/L38 -> 1
A39: 2024 | B39: 71 | C39: =B39/L39 -> 0.47972973 | D39: 29 | E39: =D39/L39 -> 0.19594595 | F39: 5 | G39: =F39/L39 -> 0.033783784 | H39: 36 | I39: =H39/L39 -> 0.24324324 | J39: 6 | K39: =J39/L39 -> 0.040540541 | L39: 148 | M39: =L39/L39 -> 1
A40: Fonte: elaborazione su dati APL
A41: Nota: in tabella sono inseriti i soli inserimenti ai sensi della L.n.68/99, che rappresentano una parte delle assunzioni registrate nel 2020 (v. su Flusso di assunzioni); gli inserimenti lavorativi delle persone con disabilità possono avvenire anche attraverso canali ordinari, pertanto il dato non è da considerarsi indicativo ed esaustivo del numero di persone con disabilità occupate nella Provincia di Biella.

Sheet Indicatore 11_Trasformazioni 
A1: Trasformazioni in part-time - Provincia di Biella (2020-2024)
B2: Totale
B3: v.a. | C3: %
A4: 2020 | B4: 1144 | C4: -%
A5: 2021 | B5: 879 | C5: =(B5-B4)/B4 -> -0.23164336
A6: 2022 | B6: 1188 | C6: =(B6-B5)/B5 -> 0.35153584
A7: 2023 | B7: 1157 | C7: =(B7-B6)/B6 -> -0.026094276
A8: 2024 | B8: 456 | C8: =(B8-B7)/B7 -> -0.60587727
A9: Fonte: elaborazione su dati APL
A11: Trasformazioni in part-time per genere - Provincia di Biella (2020-2024)
A12: Per genere | B12: Uomini | D12: Donne | F12: Totale
B13: v.a. | C13: % | D13: v.a. | E13: % | F13: v.a. | G13: %
A14: 2020 | B14: 371 | C14: =B14/F14 -> 0.3243007 | D14: 773 | E14: =D14/F14 -> 0.6756993 | F14: 1144 | G14: 1
A15: 2021 | B15: 605 | C15: =B15/F15 -> 0.68828214 | D15: 274 | E15: =D15/F15 -> 0.31171786 | F15: 879 | G15: =F15/F15 -> 1
A16: 2022 | B16: 837 | C16: =B16/F16 -> 0.70454545 | D16: 351 | E16: =D16/F16 -> 0.29545455 | F16: =SUM(B16,D16) -> 1188 | G16: =F16/F16 -> 1
A17: 2023 | B17: 367 | C17: =B17/F17 -> 0.31719965 | D17: 790 | E17: =D17/F17 -> 0.68280035 | F17: 1157 | G17: =F17/F17 -> 1
A18: 2024 | B18: 116 | C18: =B18/F18 -> 0.25438596 | D18: 340 | E18: =D18/F18 -> 0.74561404 | F18: 456 | G18: =F18/F18 -> 1
A19: Fonte: elaborazione su dati APL
A21: Trasformazioni in part-time per qualifica - Provincia di Biella (2020-2024)
A22: Per qualifica | B22: Qualifica bassa | D22: Qualifica media | F22: Qualifica alta | H22: Dato non disponibile
B23: v.a. | C23: % | D23: v.a. | E23: % | F23: v.a. | G23: % | H23: v.a. | I23: %
A24: 2020 | B24: 425 | C24: =B24/B4 -> 0.3715035 | D24: 425 | E24: =D24/B4 -> 0.3715035 | F24: 90 | G24: =F24/B4 -> 0.078671329 | H24: =F14-B24-D24-F24 -> 204 | I24: =H24/B4 -> 0.17832168
A25: 2021 | B25: 357 | C25: =B25/B5 -> 0.40614334 | D25: 295 | E25: =D25/B5 -> 0.33560865 | F25: 58 | G25: =F25/B5 -> 0.065984073 | H25: 168 | I25: =H25/B5 -> 0.19112628
A26: 2022 | B26: 153 | C26: =B26/B6 -> 0.12878788 | D26: 822 | E26: =D26/B6 -> 0.69191919 | F26: 213 | G26: =F26/B6 -> 0.17929293 | H26: 0 | I26: =H26/B6 -> 0
A27: 2023 | B27: 204 | C27: =B27/B7 -> 0.17631806 | D27: 819 | E27: =D27/B7 -> 0.70786517 | F27: 134 | G27: =F27/B7 -> 0.11581677 | H27: 0 | I27: =H27/B7 -> 0
A28: 2024 | B28: 55 | C28: =B28/B8 -> 0.12061404 | D28: 306 | E28: =D28/B8 -> 0.67105263 | F28: 95 | G28: =F28/B8 -> 0.20833333 | H28: 0 | I28: =H28/B8 -> 0
A29: Fonte: elaborazione su dati APL
A30: Note: Qualifica bassa: licenza elementare, licenza media oppure scuola dell'obbligo, nessun titolo; qualifica media: diploma e istruzione professionale; qualifica alta: diploma extra-universitario, diploma universitario, laurea (primo o secondo livello). Nel 2020, il totale non è pari a 1.144 perchè in 204 casi questo dato non è stato registrato. Nel 2021, il totale non è pari a 879 perchè in 168 casi questo dato non è stato registrato.
A32: Trasformazioni in part-time per settore- Provincia di Biella (2020-2024)
A33: Per settore | B33: Agricoltura | D33: Industria | F33: Costruzioni | H33: Commercio | J33: Alloggio e Ristorazione | L33: Servizi
B34: v.a. | C34: % | D34: v.a. | E34: % | F34: v.a. | G34: % | H34: v.a. | I34: % | J34: v.a. | K34: % | L34: v.a. | M34: %
A35: 2020 | B35: 2 | C35: =2/1144 -> 0.0017482517 | D35: 184 | E35: =184/1144 -> 0.16083916 | F35: 24 | G35: =24/1144 -> 0.020979021 | H35: 301 | I35: =301/1144 -> 0.26311189 | J35: 119 | K35: =J35/1144 -> 0.10402098 | L35: 514 | M35: =514/1144 -> 0.4493007
A36: 2021 | B36: 3 | C36: =B36/879 -> 0.0034129693 | D36: 107 | E36: =D36/879 -> 0.12172924 | F36: 17 | G36: =F36/879 -> 0.019340159 | H36: 224 | I36: =H36/879 -> 0.25483504 | J36: 107 | K36: =J36/879 -> 0.12172924 | L36: 421 | M36: =L36/879 -> 0.47895336
A37: 2022 | B37: 3 | C37: =B37/1188 -> 0.0025252525 | D37: 178 | E37: =D37/1144 -> 0.15559441 | F37: 22 | G37: =F37/1144 -> 0.019230769 | H37: 296 | I37: =H37/1144 -> 0.25874126 | J37: 185 | K37: =J37/1144 -> 0.16171329 | L37: 504 | M37: =L37/1144 -> 0.44055944
A38: 2023 | B38: 6 | C38: =B38/B7 -> 0.0051858254 | D38: 152 | E38: =D38/B7 -> 0.13137424 | F38: 24 | G38: =F38/B7 -> 0.020743302 | H38: 253 | I38: =H38/B7 -> 0.21866897 | J38: 196 | K38: =J38/B7 -> 0.16940363 | L38: 526 | M38: =L38/B7 -> 0.45462403
A39: 2024 | B39: 6 | C39: =B39/B8 -> 0.013157895 | D39: 76 | E39: =D39/B8 -> 0.16666667 | F39: 11 | G39: =F39/B8 -> 0.024122807 | H39: 125 | I39: =H39/B8 -> 0.27412281 | J39: 29 | K39: =J39/B8 -> 0.063596491 | L39: 209 | M39: =L39/B8 -> 0.45833333
A40: Fonte: elaborazione su dati APL
A41: Nota: Sono disponibili i soli dati sul numero di rapporti trasformati da full-time a part-time; non sono disponibili dati sulle motivazioni, sul monte ore specifico e sulla volontarietà della trasformazione da parte del lavoratore/rice.

Sheet Indicatore 12_Attivazioni full-
A1: Attivazioni full-time e part-time - provincia di Biella (2020-2025)
B3: 2020 | G3: 2021 | L3: 2022 | Q3: 2023 | V3: 2024 | AA3: 2025
B4: Full-time | D4: Part-time | F4: Totale | G4: Full-time | I4: Part-time | K4: Totale | L4: Full-time | N4: Part-time | P4: Totale | Q4: Full-time | S4: Part-time | U4: Totale | V4: Full-time | X4: Part-time | Z4: Totale | AA4: Full-time | AC4: Part-time | AE4: Totale
B5: v.a. | C5: % | D5: v.a. | E5: % | F5: v.a. | G5: v.a. | H5: % | I5: v.a. | J5: % | K5: v.a. | L5: v.a. | M5: % | N5: v.a. | O5: % | P5: v.a. | Q5: v.a. | R5: % | S5: v.a. | T5: % | U5: v.a. | V5: v.a. | W5: % | X5: v.a. | Y5: % | Z5: v.a. | AA5: v.a. | AB5: % | AC5: v.a. | AD5: % | AE5: v.a.
A6: Totale | B6: 10579 | C6: =B6/F6 -> 0.65350877 | D6: 5609 | E6: =D6/F6 -> 0.34649123 | F6: =SUM(B6,D6) -> 16188 | G6: 13878 | H6: =G6/$K6 -> 0.68388114 | I6: 6415 | J6: =I6/$K6 -> 0.31611886 | K6: =SUM(G6,I6) -> 20293 | L6: =22230*M6 -> 15805.53 | M6: =100%-O6 -> 0.711 | N6: =22230*O6 -> 6424.47 | O6: 0.289 | P6: =SUM(L6,N6) -> 22230 | Q6: =R6*20677 -> 13874.267 | R6: =100%-T6 -> 0.671 | S6: =T6*20677 -> 6802.733 | T6: 0.329 | U6: =SUM(Q6,S6) -> 20677 | V6: =W6*'Indicatore 9_Attivazioni'!B46 -> 14457.976 | W6: 0.6466 | X6: =Y6*'Indicatore 9_Attivazioni'!B46 -> 7901.5629 | Y6: 0.35337938 | Z6: =SUM(V6,X6) -> 22359.539 | AA6: 15913 | AB6: =AA6/AE6 -> 0.6909683 | AC6: 7117 | AD6: =AC6/AE6 -> 0.3090317 | AE6: =SUM(AA6,AC6) -> 23030
A7: di cui donne | B7: 5048 | C7: =B7/F7 -> 0.5679568 | D7: 3840 | E7: =D7/F7 -> 0.4320432 | F7: =SUM(B7,D7) -> 8888 | G7: 6633 | H7: =G7/$K7 -> 0.60608553 | I7: 4311 | J7: =I7/$K7 -> 0.39391447 | K7: =SUM(G7,I7) -> 10944 | L7: =12114*M7 -> 7777.188 | M7: =100%-O7 -> 0.642 | N7: =12114*O7 -> 4336.812 | O7: 0.358 | P7: =SUM(L7,N7) -> 12114 | Q7: =R7*11351 -> 6674.388 | R7: =100%-T7 -> 0.588 | S7: =T7*11351 -> 4676.612 | T7: 0.412 | U7: =SUM(Q7,S7) -> 11351 | V7: =W7*'Indicatore 9_Attivazioni'!B47 -> 6797.802 | W7: 0.5588 | X7: =Y7*'Indicatore 9_Attivazioni'!B47 -> 5367.4614 | Y7: 0.44122165 | Z7: =SUM(V7,X7) -> 12165.263 | AA7: 7608 | AB7: =AA7/AE7 -> 0.62803368 | AC7: 4506 | AD7: =AC7/AE7 -> 0.37196632 | AE7: =SUM(AA7,AC7) -> 12114
A8: di cui giovani fino a 29 | B8: 3512 | C8: =B8/F8 -> 0.66002631 | D8: 1809 | E8: =D8/F8 -> 0.33997369 | F8: =SUM(B8,D8) -> 5321 | G8: 4953 | H8: =G8/$K8 -> 0.68563123 | I8: 2271 | J8: =I8/$K8 -> 0.31436877 | K8: =SUM(G8,I8) -> 7224 | L8: =7574*M8 -> 5422.984 | M8: =100%-O8 -> 0.716 | N8: =7574*O8 -> 2151.016 | O8: 0.284 | P8: =SUM(L8,N8) -> 7574 | Q8: =R8*7739 -> 5192.869 | R8: =100%-T8 -> 0.671 | S8: =T8*7739 -> 2546.131 | T8: 0.329 | U8: =SUM(Q8,S8) -> 7739 | V8: =W8*'Indicatore 9_Attivazioni'!B48 -> 4795.875 | W8: 0.609 | X8: =Y8*'Indicatore 9_Attivazioni'!B48 -> 3079.3796 | Y8: 0.39103233 | Z8: =SUM(V8,X8) -> 7875.2546 | AA8: 5836 | AB8: =AA8/AE8 -> 0.68902007 | AC8: 2634 | AD8: =AC8/AE8 -> 0.31097993 | AE8: =SUM(AA8,AC8) -> 8470
A9: di cui over 50 | B9: 2199 | C9: =B9/F9 -> 0.62990547 | D9: 1292 | E9: =D9/F9 -> 0.37009453 | F9: =SUM(B9,D9) -> 3491 | G9: 2819 | H9: =G9/$K9 -> 0.66407538 | I9: 1426 | J9: =I9/$K9 -> 0.33592462 | K9: =SUM(G9,I9) -> 4245 | L9: =4827*M9 -> 3345.111 | M9: =100%-O9 -> 0.693 | N9: =4827*O9 -> 1481.889 | O9: 0.307 | P9: =SUM(L9,N9) -> 4827 | Q9: =R9*4542 -> 2929.59 | R9: =100%-T9 -> 0.645 | S9: =T9*4542 -> 1612.41 | T9: 0.355 | U9: =SUM(Q9,S9) -> 4542 | V9: =W9*'Indicatore 9_Attivazioni'!B49 -> 3262.5846 | W9: 0.6218 | X9: =Y9*'Indicatore 9_Attivazioni'!B49 -> 1984.4492 | Y9: 0.37820644 | Z9: =SUM(V9,X9) -> 5247.0338 | AA9: 3574 | AB9: =AA9/AE9 -> 0.67715044 | AC9: 1704 | AD9: =AC9/AE9 -> 0.32284956 | AE9: =SUM(AA9,AC9) -> 5278
A10: di cui stranieri | B10: 1918 | C10: =B10/F10 -> 0.81686542 | D10: 430 | E10: =D10/F10 -> 0.18313458 | F10: =SUM(B10,D10) -> 2348 | G10: 1393 | H10: =G10/$K10 -> 0.58677338 | I10: 981 | J10: =I10/$K10 -> 0.41322662 | K10: =SUM(G10,I10) -> 2374 | L10: =2851*M10 -> 1853.15 | M10: =100%-O10 -> 0.65 | N10: =2851*O10 -> 997.85 | O10: 0.35 | P10: =SUM(L10,N10) -> 2851 | Q10: =R10*2920 -> 1737.4 | R10: =100%-T10 -> 0.595 | S10: =T10*2920 -> 1182.6 | T10: 0.405 | U10: =SUM(Q10,S10) -> 2920 | V10: =W10*'Indicatore 9_Attivazioni'!B50 -> 1841.0348 | W10: 0.5522 | X10: =Y10*'Indicatore 9_Attivazioni'!B50 -> 1492.9961 | Y10: 0.44780928 | Z10: =SUM(V10,X10) -> 3334.0309 | AA10: 2151 | AB10: =AA10/AE10 -> 0.57822581 | AC10: 1569 | AD10: =AC10/AE10 -> 0.42177419 | AE10: =SUM(AA10,AC10) -> 3720
A11: Qualifica alta | B11: 2666 | C11: =B11/F11 -> 0.77409988 | D11: 778 | E11: =D11/F11 -> 0.22590012 | F11: =SUM(B11,D11) -> 3444 | G11: 3092 | H11: =G11/$K11 -> 0.76800795 | I11: 934 | J11: =I11/$K11 -> 0.23199205 | K11: =SUM(G11,I11) -> 4026 | L11: =5020*M11 -> 3950.74 | M11: =100%-O11 -> 0.787 | N11: =5020*O11 -> 1069.26 | O11: 0.213 | P11: =SUM(L11,N11) -> 5020 | Q11: =R11*4625 -> 3237.5 | R11: =100%-T11 -> 0.7 | S11: =T11*4625 -> 1387.5 | T11: 0.3 | U11: =SUM(Q11,S11) -> 4625 | V11: =W11*'Indicatore 9_Attivazioni'!B51 -> 3392.0704 | W11: 0.6709 | X11: =Y11*'Indicatore 9_Attivazioni'!B51 -> 1663.9311 | Y11: 0.3291003 | Z11: =SUM(V11,X11) -> 5056.0015 | AA11: 3531 | AB11: =AA11/AE11 -> 0.75031874 | AC11: 1175 | AD11: =AC11/AE11 -> 0.24968126 | AE11: =SUM(AA11,AC11) -> 4706
A12: Qualifica media | B12: 4334 | C12: =B12/F12 -> 0.58401833 | D12: 3087 | E12: =D12/F12 -> 0.41598167 | F12: =SUM(B12,D12) -> 7421 | G12: 5727 | H12: =G12/$K12 -> 0.60970936 | I12: 3666 | J12: =I12/$K12 -> 0.39029064 | K12: =SUM(G12,I12) -> 9393 | L12: =9848*M12 -> 6194.392 | M12: =100%-O12 -> 0.629 | N12: =9848*O12 -> 3653.608 | O12: 0.371 | P12: =SUM(L12,N12) -> 9848 | Q12: =R12*9535 -> 5606.58 | R12: =100%-T12 -> 0.588 | S12: =T12*9535 -> 3928.42 | T12: 0.412 | U12: =SUM(Q12,S12) -> 9535 | V12: =W12*'Indicatore 9_Attivazioni'!B52 -> 6316.2639 | W12: 0.5697 | X12: =Y12*'Indicatore 9_Attivazioni'!B52 -> 4771.2426 | Y12: 0.43034568 | Z12: =SUM(V12,X12) -> 11087.506 | AA12: 7100 | AB12: =AA12/AE12 -> 0.63705698 | AC12: 4045 | AD12: =AC12/AE12 -> 0.36294302 | AE12: =SUM(AA12,AC12) -> 11145
A13: Qualifica bassa | B13: 3519 | C13: =B13/F13 -> 0.67003046 | D13: 1733 | E13: =D13/F13 -> 0.32996954 | F13: =SUM(B13,D13) -> 5252 | G13: 5059 | H13: =G13/$K13 -> 0.73596159 | I13: 1815 | J13: =I13/$K13 -> 0.26403841 | K13: =SUM(G13,I13) -> 6874 | L13: =7362*M13 -> 5661.378 | M13: =100%-O13 -> 0.769 | N13: =7362*O13 -> 1700.622 | O13: 0.231 | P13: =SUM(L13,N13) -> 7362 | Q13: =R13*6517 -> 5024.607 | R13: =100%-T13 -> 0.771 | S13: =T13*6517 -> 1492.393 | T13: 0.229 | U13: =SUM(Q13,S13) -> 6517 | V13: =W13*'Indicatore 9_Attivazioni'!B53 -> 4676.9184 | W13: 0.7524 | X13: =Y13*'Indicatore 9_Attivazioni'!B53 -> 1538.8823 | Y13: 0.24756793 | Z13: =SUM(V13,X13) -> 6215.8007 | AA13: 5291 | AB13: =AA13/AE13 -> 0.73701073 | AC13: 1888 | AD13: =AC13/AE13 -> 0.26298927 | AE13: =SUM(AA13,AC13) -> 7179
A14: Agricoltura | B14: =798-466 -> 332 | C14: =B14/F14 -> 0.4160401 | D14: 466 | E14: =D14/F14 -> 0.5839599 | F14: =SUM(B14,D14) -> 798 | G14: 771 | H14: =G14/$K14 -> 0.94485294 | I14: 45 | J14: =I14/$K14 -> 0.055147059 | K14: =SUM(G14,I14) -> 816 | L14: =834*M14 -> 792.3 | M14: =100%-O14 -> 0.95 | N14: =834*O14 -> 41.7 | O14: 0.05 | P14: =SUM(L14,N14) -> 834 | Q14: =R14*673 -> 625.89 | R14: =100%-T14 -> 0.93 | S14: =T14*673 -> 47.11 | T14: 0.07 | U14: =SUM(Q14,S14) -> 673 | V14: =W14*'Indicatore 9_Attivazioni'!B54 -> 778.9725 | W14: 0.9725 | X14: =Y14*'Indicatore 9_Attivazioni'!B54 -> 22.0275 | Y14: 0.0275 | Z14: =SUM(V14,X14) -> 801 | AA14: 691 | AB14: =AA14/AE14 -> 0.95048143 | AC14: 36 | AD14: =AC14/AE14 -> 0.049518569 | AE14: =SUM(AA14,AC14) -> 727
A15: Industria | B15: 2174 | C15: =B15/F15 -> 0.83486943 | D15: 430 | E15: =D15/F15 -> 0.16513057 | F15: =SUM(B15,D15) -> 2604 | G15: 3639 | H15: =G15/$K15 -> 0.86211798 | I15: 582 | J15: =I15/$K15 -> 0.13788202 | K15: =SUM(G15,I15) -> 4221 | L15: =4976*M15 -> 4423.664 | M15: =100%-O15 -> 0.889 | N15: =4976*O15 -> 552.336 | O15: 0.111 | P15: =SUM(L15,N15) -> 4976 | Q15: =R15*4070 -> 3601.95 | R15: =100%-T15 -> 0.885 | S15: =T15*4070 -> 468.05 | T15: 0.115 | U15: =SUM(Q15,S15) -> 4070 | V15: =W15*'Indicatore 9_Attivazioni'!B55 -> 3014.2784 | W15: 0.8824 | X15: =Y15*'Indicatore 9_Attivazioni'!B55 -> 401.58028 | Y15: 0.11755863 | Z15: =SUM(V15,X15) -> 3415.8587 | AA15: 3366 | AB15: =AA15/AE15 -> 0.89189189 | AC15: 408 | AD15: =AC15/AE15 -> 0.10810811 | AE15: =SUM(AA15,AC15) -> 3774
A16: Edilizia | B16: 783 | C16: =B16/F16 -> 0.82594937 | D16: 165 | E16: =D16/F16 -> 0.17405063 | F16: =SUM(B16,D16) -> 948 | G16: 1068 | H16: =G16/$K16 -> 0.87756779 | I16: 149 | J16: =I16/$K16 -> 0.12243221 | K16: =SUM(G16,I16) -> 1217 | L16: =1138*M16 -> 965.024 | M16: =100%-O16 -> 0.848 | N16: =1138*O16 -> 172.976 | O16: 0.152 | P16: =SUM(L16,N16) -> 1138 | Q16: =R16*1073 -> 948.532 | R16: =100%-T16 -> 0.884 | S16: =T16*1073 -> 124.468 | T16: 0.116 | U16: =SUM(Q16,S16) -> 1073 | V16: =W16*'Indicatore 9_Attivazioni'!B56 -> 1002.0505 | W16: 0.8987 | X16: =Y16*'Indicatore 9_Attivazioni'!B56 -> 112.91139 | Y16: 0.10126582 | Z16: =SUM(V16,X16) -> 1114.9619 | AA16: 1053 | AB16: =AA16/AE16 -> 0.92206655 | AC16: 89 | AD16: =AC16/AE16 -> 0.07793345 | AE16: =SUM(AA16,AC16) -> 1142
A17: Commercio | B17: 684 | C17: =B17/F17 -> 0.51082898 | D17: 655 | E17: =D17/F17 -> 0.48917102 | F17: =SUM(B17,D17) -> 1339 | G17: 973 | H17: =G17/$K17 -> 0.556 | I17: 777 | J17: =I17/$K17 -> 0.444 | K17: =SUM(G17,I17) -> 1750 | L17: =1877*M17 -> 1167.494 | M17: =100%-O17 -> 0.622 | N17: =1877*O17 -> 709.506 | O17: 0.378 | P17: =SUM(L17,N17) -> 1877 | Q17: =R17*1851 -> 1023.603 | R17: =100%-T17 -> 0.553 | S17: =T17*1851 -> 827.397 | T17: 0.447 | U17: =SUM(Q17,S17) -> 1851 | V17: =W17*'Indicatore 9_Attivazioni'!B57 -> 920.8665 | W17: 0.4759 | X17: =Y17*'Indicatore 9_Attivazioni'!B57 -> 1014.0464 | Y17: 0.52405498 | Z17: =SUM(V17,X17) -> 1934.9129 | AA17: 1183 | AB17: =AA17/AE17 -> 0.50991379 | AC17: 1137 | AD17: =AC17/AE17 -> 0.49008621 | AE17: =SUM(AA17,AC17) -> 2320
A18: Alberghi e ristorazione | B18: 936 | C18: =B18/F18 -> 0.54386984 | D18: 785 | E18: =D18/F18 -> 0.45613016 | F18: =SUM(B18,D18) -> 1721 | G18: 1383 | H18: =G18/$K18 -> 0.57409714 | I18: 1026 | J18: =I18/$K18 -> 0.42590286 | K18: =SUM(G18,I18) -> 2409 | L18: =2591*M18 -> 1562.373 | M18: =100%-O18 -> 0.603 | N18: =2591*O18 -> 1028.627 | O18: 0.397 | P18: =SUM(L18,N18) -> 2591 | Q18: =R18*2752 -> 1337.472 | R18: =100%-T18 -> 0.486 | S18: =T18*2752 -> 1414.528 | T18: 0.514 | U18: =SUM(Q18,S18) -> 2752 | V18: =W18*'Indicatore 9_Attivazioni'!B58 -> 362.4702 | W18: 0.1167 | X18: =Y18*'Indicatore 9_Attivazioni'!B58 -> 2743.3948 | Y18: 0.88325653 | Z18: =SUM(V18,X18) -> 3105.865 | AA18: 2025 | AB18: =AA18/AE18 -> 0.56929997 | AC18: 1532 | AD18: =AC18/AE18 -> 0.43070003 | AE18: =SUM(AA18,AC18) -> 3557
A19: Altri servizi | B19: 5174 | C19: =B19/F19 -> 0.59409806 | D19: 3535 | E19: =D19/F19 -> 0.40590194 | F19: =SUM(B19,D19) -> 8709 | G19: 6044 | H19: =G19/$K19 -> 0.61174089 | I19: 3836 | J19: =I19/$K19 -> 0.38825911 | K19: =SUM(G19,I19) -> 9880 | L19: =10814*M19 -> 6899.332 | M19: =100%-O19 -> 0.638 | N19: =10814*O19 -> 3914.668 | O19: 0.362 | P19: =SUM(L19,N19) -> 10814 | Q19: =R19*10258 -> 6329.186 | R19: =100%-T19 -> 0.617 | S19: =T19*10258 -> 3928.814 | T19: 0.383 | U19: =SUM(Q19,S19) -> 10258 | V19: =W19*'Indicatore 9_Attivazioni'!B59 -> 9227.5926 | W19: 0.7698 | X19: =Y19*'Indicatore 9_Attivazioni'!B59 -> 2759.4074 | Y19: 0.2302 | Z19: =SUM(V19,X19) -> 11987 | AA19: 7604 | AB19: =AA19/AE19 -> 0.66064292 | AC19: 3906 | AD19: =AC19/AE19 -> 0.33935708 | AE19: =SUM(AA19,AC19) -> 11510
A20: Fonte: elaborazione su dati APL
A21: Nota: i dati relativi alla qualifica professionale e al settore economico talvolta non vengono registrati nella procedura, pertanto i totali possono differire di qualche unità.

Sheet Indicatore 13_Infortuni sul lav
A1: Numero e media degli infortuni mortali registrati sul lavoro - Piemonte e provincia di Biella (2019-2025)
B3: 2019 | C3: 2020 | D3: 2021 | E3: 2022 | F3: 2023 | G3: 2024 | H3: 2025
A4: Piemonte | B4: 51 | C4: 39 | D4: 46 | E4: 38 | F4: 17 | G4: 24 | H4: 19
A5: Media provinciale in Piemonte | B5: 6.4 | C5: 4.9 | D5: 4.18 | E5: 4.75 | F5: 1.25 | G5: 3 | H5: 2.37
A6: Biella | B6: 0 | C6: 0 | D6: 1 | E6: 0 | F6: 1 | G6: 0 | H6: 0
A7: Fonte: elaborazione su dati Regione Piemonte (Centro Regionale di Documentazione per la Promozione della Salute)
A8: Note: I dati 2025 sono riferiti al periodo compreso tra l'1 gennaio 2025 e il 16 luglio 2025.

Sheet Indicatore 14_Cessazioni
A1: Cessazioni rapporti di lavoro - provincia di Biella (2022-2025)
A3: Cessazioni nella Provincia di Biella (2022-2025)
B4: v.a. | C4: val. %
A5: 2022 | B5: 22791
A6: 2023 | B6: 20304 | C6: =(B6-B5)/B5 -> -0.10912202
A7: 2024 | B7: 21828 | C7: =(B7-B6)/B6 -> 0.075059102
A8: 2025 | B8: 22336 | C8: =(B8-B7)/B7 -> 0.023272861
A9: Fonte: elaborazioni su dati APL
A10: Note: A partire dal 2025 sono stati adottati nuovi metodi di calcolo per le COB; di conseguenza, i dati relativi a tale anno non risultano pienamente confrontabili con quelli degli anni precedenti.
A12: Cessazioni per tipologia - provincia di Biella (2022-2025)
B13: 2022 | D13: 2023 | F13: 2024 | H13: 2025
B14: v.a. | C14: val. % | D14: v.a. | E14: val. % | F14: v.a. | G14: val. % | H14: v.a. | I14: val. %
A15: Cessazioni volontarie | B15: 6523 | C15: =B15/$B17 -> 0.28620947 | D15: 5921 | E15: =D15/$D$17 -> 0.29161742 | F15: 5427 | G15: =F15/$F$17 -> 0.24862562 | H15: 5411 | I15: =H15/$H$17 -> 0.24225466
A16: Solo periodo protetto | B16: 91 | C16: =B16/$B$17 -> 0.0039928042 | D16: 113 | E16: =D16/$D$17 -> 0.0055654058 | F16: 107 | G16: =F16/$F$17 -> 0.0049019608 | H16: 107 | I16: =H16/$H$17 -> 0.0047904728
A17: Cessazioni totali | B17: 22791 | C17: =B17/$B$17 -> 1 | D17: 20304 | E17: =D17/$D$17 -> 1 | F17: 21828 | G17: =F17/$F$17 -> 1 | H17: 22336 | I17: =H17/$H$17 -> 1
A18: Fonte: elaborazioni su dati APL
A20: Cessazioni per tipologia e genere - provincia di Biella (2022-2024)
B21: 2022 | F21: 2023 | J21: 2024
B22: Donne | D22: Uomini | F22: Donne | H22: Uomini | J22: Donne | L22: Uomini
B23: v.a. | C23: val. % | D23: v.a. | E23: val. % | F23: v.a. | G23: val. % | H23: v.a. | I23: val. % | J23: v.a. | K23: val. % | L23: v.a. | M23: val. %
A24: Cessazioni volontarie | B24: 3205 | C24: =B24/$B$17 -> 0.14062569 | D24: 3318 | E24: =D24/$B$17 -> 0.14558378 | F24: 2934 | G24: =F24/$D$17 -> 0.14450355 | H24: 2987 | I24: =H24/$D$17 -> 0.14711387 | J24: 2607 | K24: =J24/$F$17 -> 0.11943375 | L24: 2820 | M24: =L24/$F$17 -> 0.12919186
A25: Solo periodo protetto | B25: 87 | C25: =B25/$B$17 -> 0.0038172963 | D25: 4 | E25: =D25/$B$17 -> 0.00017550788 | F25: 106 | G25: =F25/$D$17 -> 0.0052206462 | H25: 7 | I25: =H25/$D$17 -> 0.00034475965 | J25: 89 | K25: =J25/$F$17 -> 0.0040773319 | L25: 18 | M25: =L25/$F$17 -> 0.00082462892
A26: Cessazioni totali | B26: 12616 | C26: =B26/$B$17 -> 0.55355184 | D26: 10175 | E26: =D26/$B$17 -> 0.44644816 | F26: 11123 | G26: =F26/$D$17 -> 0.54782309 | H26: 9181 | I26: =H26/$D$17 -> 0.45217691 | J26: 11853 | K26: =J26/$F$17 -> 0.54301814 | L26: 9975 | M26: =L26/$F$17 -> 0.45698186
A27: Fonte: elaborazioni su dati APL
A31: Cessazioni per classe di età - provincia di Biella (2023-2024)
B32: 2023 | G32: 2024
B33: Donne | D33: Uomini | F33: Totale complessivo | G33: Donne | I33: Uomini | K33: Totale complessivo
B34: v.a. | C34: val. % | D34: v.a. | E34: val. % | F34: v.a. | G34: v.a. | H34: val. % | I34: v.a. | J34: val. % | K34: v.a.
A35: Under 30 | B35: 3953 | C35: =B35/$D$17 -> 0.1946907 | D35: 3571 | E35: =D35/$D$17 -> 0.17587667 | F35: 7524 | G35: 4130 | H35: =G35/$F$17 -> 0.18920652 | I35: 3887 | J35: =I35/$F$17 -> 0.17807403 | K35: 8017
A36: 30-39 Anni | B36: 2478 | C36: =B36/$D$17 -> 0.12204492 | D36: 2145 | E36: =D36/$D$17 -> 0.10564421 | F36: 4623 | G36: 2619 | H36: =G36/$F$17 -> 0.11998351 | I36: 2262 | J36: =I36/$F$17 -> 0.10362837 | K36: 4881
A37: 40-49 Anni | B37: 2435 | C37: =B37/$D$17 -> 0.11992711 | D37: 1611 | E37: =D37/$D$17 -> 0.079343972 | F37: 4046 | G37: 2513 | H37: =G37/$F$17 -> 0.11512736 | I37: 1728 | J37: =I37/$F$17 -> 0.079164376 | K37: 4241
A38: 50 e oltre | B38: 2257 | C38: =B38/$D$17 -> 0.11116036 | D38: 1854 | E38: =D38/$D$17 -> 0.091312057 | F38: 4111 | G38: 2591 | H38: =G38/$F$17 -> 0.11870075 | I38: 2098 | J38: =I38/$F$17 -> 0.096115082 | K38: 4689
A39: Totale | B39: 11123 | C39: =B39/$D$17 -> 0.54782309 | D39: 9181 | E39: =D39/$D$17 -> 0.45217691 | F39: 20304 | G39: 11853 | H39: =G39/$F$17 -> 0.54301814 | I39: 9975 | J39: =I39/$F$17 -> 0.45698186 | K39: 21828
A40: Fonte: elaborazioni su dati APL
A43: Cessazioni per provenienza territoriale - provincia di Biella (2023-2024)
B44: 2023 | G44: 2024
B45: Donne | D45: Uomini | F45: Totale complessivo | G45: Donne | I45: Uomini | K45: Totale complessivo
B46: v.a. | C46: val. % | D46: v.a. | E46: val. % | G46: v.a. | H46: val. % | I46: v.a. | J46: val. % | K46: v.a.
A47: Italiana | B47: 9895 | C47: =B47/$D$17 -> 0.4873424 | D47: 7759 | E47: =D47/$D$17 -> 0.38214145 | F47: 17654 | G47: 10472 | H47: =G47/$F$17 -> 0.47975078 | I47: 8456 | J47: =I47/$F$17 -> 0.38739234 | K47: 18928
A48: Non-Ue | B48: 832 | C48: =B48/$D$17 -> 0.040977147 | D48: 1175 | E48: =D48/$D$17 -> 0.05787037 | F48: 2007 | G48: 947 | H48: =G48/$F$17 -> 0.043384644 | I48: 1268 | J48: =I48/$F$17 -> 0.058090526 | K48: 2215
...

Sheet Indicatore 15_Addetti per setto
A1: Addetti a livello provinciale, per settore - provincia di Biella (IV trimestre 2020-IV trimestre 2025)
B3: 2020 | D3: 2021 | F3: 2022 | H3: 2023 | J3: 2024 | M3: 2025
A4: Settore | B4: Numero di addetti per settore | C4: Incidenza (%) di addetti per settore | D4: Numero di addetti per settore | E4: Incidenza (%) di addetti per settore | F4: Numero di addetti per settore | G4: Incidenza (%) di addetti per settore | H4: Numero di addetti per settore | I4: Incidenza (%) di addetti per settore | J4: Numero di addetti per settore | K4: Incidenza (%) di addetti per settore | L4: var. % rispetto all'annualità precedente | M4: Numero di addetti per settore | N4: Incidenza (%) di addetti per settore | O4: var. % rispetto all'annualità precedente
A5: Agricoltura, silvicoltura pesca | B5: 1453 | C5: =B5/$B$24 -> 0.025657325 | D5: 1517 | E5: =D5/$D$24 -> 0.027330379 | F5: 1511 | G5: =F5/F$24 -> 0.026849812 | H5: 1512 | I5: =H5/$H$24 -> 0.026926913 | J5: 1466 | K5: =J5/$J$24 -> 0.03368721 | L5: =(J5-H5)/H5 -> -0.03042328 | M5: 1519 | N5: =M5/$M$24 -> 0.027127422 | O5: =(M5-J5)/J5 -> 0.036152797
A6: Estrazione di minerali da cave e miniere | B6: 32 | C6: =B6/$B$24 -> 0.00056506154 | D6: 43 | E6: =D6/$D$24 -> 0.00077469102 | F6: 43 | G6: =F6/F$24 -> 0.00076409126 | H6: 43 | I6: =H6/$H$24 -> 0.0007657786 | J6: 44 | K6: =J6/$J$24 -> 0.0010110759 | L6: =(J6-H6)/H6 -> 0.023255814 | M6: 54 | N6: =M6/$M$24 -> 0.00096437182 | O6: =(M6-J6)/J6 -> 0.22727273
A7: Attività manifatturiere | B7: 18020 | C7: =B7/$B$24 -> 0.31820028 | D7: 17710 | E7: =D7/$D$24 -> 0.31906461 | F7: 17789 | G7: =F7/F$24 -> 0.31610278 | H7: 18024 | I7: =H7/$H$24 -> 0.3209859 | J7: 14682 | K7: =J7/$J$24 -> 0.33737764 | L7: =(J7-H7)/H7 -> -0.18541944 | M7: 17419 | N7: =M7/$M$24 -> 0.31108135 | O7: =(M7-J7)/J7 -> 0.18641874
A8: Servizi di fornitura (acqua, gas, reti fognarie…) | B8: 705 | C8: =B8/$B$24 -> 0.012449012 | D8: 709 | E8: =D8/$D$24 -> 0.012773394 | F8: 716 | G8: =F8/F$24 -> 0.012723008 | H8: 716 | I8: =H8/$H$24 -> 0.012751104 | J8: 469 | K8: =J8/$J$24 -> 0.01077715 | L8: =(J8-H8)/H8 -> -0.34497207 | M8: 823 | N8: =M8/$M$24 -> 0.014697741 | O8: =(M8-J8)/J8 -> 0.75479744
A9: Costruzioni | B9: 4497 | C9: =B9/$B$24 -> 0.079408804 | D9: 4530 | E9: =D9/$D$24 -> 0.081612799 | F9: 4691 | G9: =F9/F$24 -> 0.083357026 | H9: 4643 | I9: =H9/$H$24 -> 0.08268628 | J9: 4367 | K9: =J9/$J$24 -> 0.10034928 | L9: =(J9-H9)/H9 -> -0.059444325 | M9: 4837 | N9: =M9/$M$24 -> 0.086382713 | O9: =(M9-J9)/J9 -> 0.10762537
A10: Commercio all'ingrosso e al dettaglio | B10: 10188 | C10: =B10/$B$24 -> 0.17990147 | D10: 10172 | E10: =D10/$D$24 -> 0.18325947 | F10: 10150 | G10: =F10/F$24 -> 0.18036108 | H10: 9961 | I10: =H10/$H$24 -> 0.1773935 | J10: 7082 | K10: =J10/$J$24 -> 0.16273726 | L10: =(J10-H10)/H10 -> -0.28902721 | M10: 8865 | N10: =M10/$M$24 -> 0.15831771 | O10: =(M10-J10)/J10 -> 0.25176504
A11: Trasporto e magazzinaggio | B11: 1831 | C11: =B11/$B$24 -> 0.032332115 | D11: 1820 | E11: =D11/$D$24 -> 0.032789248 | F11: 1778 | G11: =F11/F$24 -> 0.031594285 | H11: 1732 | I11: =H11/$H$24 -> 0.03084485 | J11: 1009 | K11: =J11/$J$24 -> 0.023185808 | L11: =(J11-H11)/H11 -> -0.41743649 | M11: 1916 | N11: =M11/$M$24 -> 0.034217341 | O11: =(M11-J11)/J11 -> 0.89890981
A12: Servizi di alloggio e di ristorazione | B12: 4010 | C12: =B12/$B$24 -> 0.070809274 | D12: 3795 | E12: =D12/$D$24 -> 0.068370987 | F12: 4223 | G12: =F12/F$24 -> 0.07504087 | H12: 4240 | I12: =H12/$H$24 -> 0.075509332 | J12: 3570 | K12: =J12/$J$24 -> 0.08203502 | L12: =(J12-H12)/H12 -> -0.15801887 | M12: 4629 | N12: =M12/$M$24 -> 0.082668095 | O12: =(M12-J12)/J12 -> 0.29663866
A13: Servizi di informazione e comunicazione | B13: 1052 | C13: =B13/$B$24 -> 0.018576398 | D13: 1061 | E13: =D13/$D$24 -> 0.019115051 | F13: 1082 | G13: =F13/F$24 -> 0.019226669 | H13: 1133 | I13: =H13/$H$24 -> 0.020177376 | J13: 1004 | K13: =J13/$J$24 -> 0.023070913 | L13: =(J13-H13)/H13 -> -0.11385702 | M13: 1183 | N13: =M13/$M$24 -> 0.021126886 | O13: =(M13-J13)/J13 -> 0.17828685
A14: Attività finanziarie e assicurative | B14: 3027 | C14: =B14/$B$24 -> 0.05345129 | D14: 2406 | E14: =D14/$D$24 -> 0.043346665 | F14: 2974 | G14: =F14/F$24 -> 0.052846684 | H14: 3049 | I14: =H14/$H$24 -> 0.054299045 | J14: 1950 | K14: =J14/$J$24 -> 0.044809045 | L14: =(J14-H14)/H14 -> -0.36044605 | M14: 3152 | N14: =M14/$M$24 -> 0.05629074 | O14: =(M14-J14)/J14 -> 0.61641026
A15: Attività immobiliari | B15: 631 | C15: =B15/$B$24 -> 0.011142307 | D15: 705 | E15: =D15/$D$24 -> 0.01270133 | F15: 744 | G15: =F15/F$24 -> 0.013220556 | H15: 777 | I15: =H15/$H$24 -> 0.013837441 | J15: 705 | K15: =J15/$J$24 -> 0.016200193 | L15: =(J15-H15)/H15 -> -0.092664093 | M15: 820 | N15: =M15/$M$24 -> 0.014644165 | O15: =(M15-J15)/J15 -> 0.16312057
A16: Attività professionali, scientifiche e tecniche | B16: 1054 | C16: =B16/$B$24 -> 0.018611714 | D16: 1073 | E16: =D16/$D$24 -> 0.019331243 | F16: 1107 | G16: =F16/F$24 -> 0.019670908 | H16: 1209 | I16: =H16/$H$24 -> 0.021530845 | J16: 983 | K16: =J16/$J$24 -> 0.022588354 | L16: =(J16-H16)/H16 -> -0.18693135 | M16: 1266 | N16: =M16/$M$24 -> 0.022609162 | O16: =(M16-J16)/J16 -> 0.2878942
... A23: Imprese non classificate | B23: 80 | C23: =B23/$B$24 -> 0.0014126538 | D23: 77 | E23: =D23/$D$24 -> 0.0013872374 | F23: 78 | G23: =F23/F$24 -> 0.001386026 | H23: 80 | I23: =H23/$H$24 -> 0.0014247044 | J23: 65 | K23: =J23/$J$24 -> 0.0014936348 | L23: =(J23-H23)/H23 -> -0.1875 | M23: 119 | N23: =M23/$M$24 -> 0.0021251897 | O23: =(M23-J23)/J23 -> 0.83076923
A24: Totale | B24: =SUM(B5:B23) -> 56631 | C24: =B24/$B$24 -> 1 | D24: =SUM(D5:D23) -> 55506 | E24: =D24/$D$24 -> 1 | F24: =SUM(F5:F23) -> 56276 | G24: =F24/F$24 -> 1 | H24: =SUM(H5:H23) -> 56152 | I24: =H24/$H$24 -> 1 | J24: =SUM(J5:J23) -> 43518 | K24: =J24/$J$24 -> 1 | L24: =(J24-H24)/H24 -> -0.22499644 | M24: =SUM(M5:M23) -> 55995 | N24: =M24/$M$24 -> 1 | O24: =(M24-J24)/J24 -> 0.28670895
A25: Fonte: elaborazioni Camera di Commercio Monte Rosa Laghi Alto Piemonte – Servizio Informazione Economica su dati InfoCamere
A26: Note: La categoria "servizi di fornitura" comprende energia elettrica, gas, vapore, aria condizionata, acqua, reti fognarie, ecc.

Sheet Indicatore 16_Naspi
A1: Percettori di Naspi per genere - Piemonte e provincia di Biella (2018-2024)
B3: Piemonte | G3: Biella
B4: Uomini | D4: Donne | F4: Totale | G4: Uomini | I4: Donne | K4: Totale
B5: v.a. | C5: % (su totale piemontese) | D5: v.a. | E5: % (su totale piemontese) | F5: v.a. | G5: v.a. | H5: % (su totale biellese) | I5: v.a. | J5: % (su totale biellese) | K5: v.a. | L5: % (su totale piemontese)
A6: 2018 | B6: 43794 | C6: =B6/F6 -> 0.42746288 | D6: 58657 | E6: =D6/F6 -> 0.57253712 | F6: =SUM(B6,D6) -> 102451 | G6: 1553 | H6: =G6/K6 -> 0.28711407 | I6: 3856 | J6: =I6/K6 -> 0.71288593 | K6: =SUM(G6,I6) -> 5409 | L6: =K6/F6 -> 0.052795971
A7: 2019 | B7: 46170 | C7: =B7/F7 -> 0.43143888 | D7: 60844 | E7: =D7/F7 -> 0.56856112 | F7: =SUM(B7,D7) -> 107014 | G7: 1729 | H7: =G7/K7 -> 0.29954955 | I7: 4043 | J7: =I7/K7 -> 0.70045045 | K7: =SUM(G7,I7) -> 5772 | L7: =K7/F7 -> 0.053936868
A8: 2020 | B8: 41914 | C8: =B8/F8 -> 0.41606941 | D8: 58824 | E8: =D8/F8 -> 0.58393059 | F8: 100738 | G8: 1510 | H8: =G8/K8 -> 0.3929222 | I8: 2333 | J8: =I8/K8 -> 0.6070778 | K8: 3843 | L8: =K8/F8 -> 0.038148464
A9: 2021 | B9: 38605 | C9: =B9/F9 -> 0.4022737 | D9: 57362 | E9: =D9/F9 -> 0.5977263 | F9: =SUM(B9,D9) -> 95967 | G9: 1382 | H9: =G9/K9 -> 0.36609272 | I9: 2393 | J9: =I9/K9 -> 0.63390728 | K9: =SUM(G9,I9) -> 3775 | L9: =K9/F9 -> 0.039336439
A10: 2022 | B10: 45919 | C10: =B10/F10 -> 0.40707972 | D10: 66882 | E10: =D10/F10 -> 0.59292028 | F10: =SUM(B10,D10) -> 112801 | G10: 1595 | H10: =G10/K10 -> 0.38295318 | I10: 2570 | J10: =I10/K10 -> 0.61704682 | K10: =SUM(G10,I10) -> 4165 | L10: =K10/F10 -> 0.036923432
A11: 2023 | B11: 46213 | C11: =B11/F11 -> 0.41779751 | D11: 64398 | E11: =D11/F11 -> 0.58220249 | F11: =SUM(B11,D11) -> 110611 | G11: 1556 | H11: =G11/K11 -> 0.40732984 | I11: 2264 | J11: =I11/K11 -> 0.59267016 | K11: =SUM(G11,I11) -> 3820 | L11: =K11/F11 -> 0.034535444
A12: 2024 | B12: 51595 | C12: =B12/F12 -> 0.43055753 | D12: 68238 | E12: =D12/F12 -> 0.56944247 | F12: 119833 | G12: 1726 | H12: =G12/K12 -> 0.4128199 | I12: 2455 | J12: =I12/K12 -> 0.5871801 | K12: 4181 | L12: =K12/F12 -> 0.034890222
A13: Fonte: Regione Piemonte, Settore Politiche del Lavoro su dati INPS, Sistema Informativo dei Percettori
A15: Percettori di Naspi per fascia di età - Piemonte e provincia di Biella (2018-2024)
B17: Piemonte | I17: Biella
B18: 16-39 | D18: 40-49 | F18: 50 e oltre | H18: Totale | I18: 16-39 | K18: 40-49 | M18: 50 e oltre | O18: Totale
B19: v.a. | C19: % (su totale piemontese) | D19: v.a. | E19: % (su totale piemontese) | F19: v.a. | G19: % (su totale piemontese) | H19: v.a. | I19: v.a. | J19: % (su totale piemontese) | K19: v.a. | L19: % (su totale piemontese) | M19: v.a. | N19: % (su totale piemontese) | O19: v.a. | P19: % (su totale piemontese)
A20: 2018 | B20: 51381 | C20: =B20/H20 -> 0.5015178 | D20: 26469 | E20: =D20/H20 -> 0.25835765 | F20: 24601 | G20: =F20/H20 -> 0.24012455 | H20: =SUM(B20,D20,F20) -> 102451 | I20: 1799 | J20: =I20/O20 -> 0.46654564 | K20: 985 | L20: =K20/O20 -> 0.25544606 | M20: 1072 | N20: =M20/O20 -> 0.2780083 | O20: =SUM(I20,K20,M20) -> 3856 | P20: =O20/H20 -> 0.037637505
A21: 2019 | B21: 52721 | C21: =B21/H21 -> 0.49265517 | D21: 26450 | E21: =D21/H21 -> 0.24716392 | F21: 27843 | G21: =F21/H21 -> 0.26018091 | H21: =SUM(B21,D21,F21) -> 107014 | I21: =943+977 -> 1920 | J21: =I21/O21 -> 0.47489488 | K21: 1007 | L21: =K21/O21 -> 0.24907247 | M21: 1116 | N21: =M21/O21 -> 0.27603265 | O21: =SUM(I21,K21,M21) -> 4043 | P21: =O21/H21 -> 0.037780104
A22: 2020 | B22: 51162 | C22: =B22/H22 -> 0.50787191 | D22: 23579 | E22: =D22/H22 -> 0.23406262 | F22: 25997 | G22: =F22/H22 -> 0.25806548 | H22: =SUM(B22,D22,F22) -> 100738 | I22: 1877 | J22: =I22/O22 -> 0.4884205 | K22: 885 | L22: =K22/O22 -> 0.23028884 | M22: 1081 | N22: =M22/O22 -> 0.28129066 | O22: =SUM(I22,K22,M22) -> 3843 | P22: =O22/H22 -> 0.038148464
A23: 2021 | B23: 45869 | C23: =B23/H23 -> 0.47796638 | D23: 22257 | E23: =D23/H23 -> 0.23192347 | F23: 27841 | G23: =F23/H23 -> 0.29011014 | H23: =SUM(B23,D23,F23) -> 95967 | I23: 1755 | J23: =I23/O23 -> 0.46490066 | K23: 834 | L23: =K23/O23 -> 0.22092715 | M23: 1186 | N23: =M23/O23 -> 0.31417219 | O23: =SUM(I23,K23,M23) -> 3775 | P23: =O23/H23 -> 0.039336439
A24: 2022 | B24: 55678 | C24: =B24/H24 -> 0.49359491 | D24: 25398 | E24: =D24/H24 -> 0.22515758 | F24: 31725 | G24: =F24/H24 -> 0.28124751 | H24: =SUM(B24,D24,F24) -> 112801 | I24: 2020 | J24: =I24/O24 -> 0.484994 | K24: 892 | L24: =K24/O24 -> 0.21416567 | M24: 1253 | N24: =M24/O24 -> 0.30084034 | O24: =SUM(I24,K24,M24) -> 4165 | P24: =O24/H24 -> 0.036923432
A25: 2023 | B25: 55306 | C25: =B25/H25 -> 0.50000452 | D25: 24199 | E25: =D25/H25 -> 0.21877571 | F25: 31106 | G25: =F25/H25 -> 0.28121977 | H25: =SUM(B25,D25,F25) -> 110611 | I25: 1854 | J25: =I25/O25 -> 0.48534031 | K25: 829 | L25: =K25/O25 -> 0.21701571 | M25: 1137 | N25: =M25/O25 -> 0.29764398 | O25: =SUM(I25,K25,M25) -> 3820 | P25: =O25/H25 -> 0.034535444
A26: 2024 | B26: 59869 | C26: =B26/H26 -> 0.49960362 | D26: 25588 | E26: =D26/H26 -> 0.2135305 | F26: 34376 | G26: =F26/H26 -> 0.28686589 | H26: =SUM(B26,D26,F26) -> 119833 | I26: 2048 | J26: =I26/O26 -> 0.48983497 | K26: 863 | L26: =K26/O26 -> 0.20640995 | M26: 1270 | N26: =M26/O26 -> 0.30375508 | O26: =SUM(I26,K26,M26) -> 4181 | P26: =O26/H26 -> 0.034890222
A27: Fonte: Regione Piemonte, Settore Politiche del Lavoro su dati INPS, Sistema Informativo dei Percettori
