Workbook

Sheet 00_Introduzione
A1: VI Rapporto Annuale 2026 - OsservaBiella
A2: Goal 9 | B2: Il Goal 9 intende: - costruire infrastrutture di qualità, affidabili, sostenibili e resilienti - promuovere una industrializzazione inclusiva e sostenibile - favorire maggiore efficienza delle risorse impiegate e maggior ricorso a tecnologie “pulite” e rispettose dell’ambiente - potenziare la ricerca scientifica - ridurre il numero di giovani NEET - aumentare significativamente l’accesso alle tecnologie dell’informazione e della comunicazione e fornire un accesso universale e a bassocosto a internet
A3: Elaborazione a cura del Laboratorio Percorsi di secondo welfare | B3: Celestina Valeria De Tommaso, valeria.detommaso@secondowelfare.it Franca Maino, franca.maino@secondowelfare.it Alice Fanelli, alice.fanelli@secondowelfare.it Simona Vinci, simona.vinci@secondowelfare.it
A4: Fondazione Cassa di Risparmio di Biella OsservaBiella – Osservatorio territoriale del Biellese) | B4: Cristina Garavoglia, cristina.garavoglia@fondazionecrbiella.it Sara Diritti, sara.diritti@fondazionecrbiella.it
A5: Come citare | B5: OsservaBiella – Osservatorio territoriale del Biellese (2026), VI Rapporto annuale 2026, Fondazione Cassa di Risparmio di Biella.
A7: Riepilogo degli indicatori del Capitolo 9
A8: Numero indicatore | B8: Gruppo/categoria | C8: Indicatore | D8: Annualità di riferimento | E8: Fonte
A9: 1 | B9: Imprese e territorio | C9: Imprese registrate | D9: 2020-2025 | E9: Camera di Commercio Monte Rosa Laghi Alto Piemonte
A10: 2 | C10: Imprese artigiane | D10: 2020-2025 | E10: Camera di Commercio Monte Rosa Laghi Alto Piemonte
A11: 3 | C11: CIG | D11: 2021-2025 | E11: INPS
A12: 4 | C12: Imprese giovanili | D12: 2020-2025 | E12: Camera di Commercio Monte Rosa Laghi Alto Piemonte
A13: 5 | C13: Imprese BIO | D13: 2021-2025 | E13: Regione Piemonte
A14: 6 | C14: Imprese straniere | D14: 2023-2025 | E14: Camera di Commercio Monte Rosa Laghi Alto Piemonte
A15: 7 | B15: Imprese e prossimità | C15: Servizi per la sanità e l'assistenza sociale | D15: 2020-2025 | E15: Camera di Commercio Monte Rosa Laghi Alto Piemonte
A16: 8 | C16: Istruzione e attività ricreative | D16: 2020-2025 | E16: Camera di Commercio Monte Rosa Laghi Alto Piemonte
A17: 9 | C17: Attività di vendita al dettaglio | D17: 2020-2025 | E17: Camera di Commercio Monte Rosa Laghi Alto Piemonte
A18: 10 | B18: Startup e innovazione | C18: Startup | D18: 2021-2026 | E18: Camera di Commercio Monte Rosa Laghi Alto Piemonte
A19: 11 | C19: Iscrizione e anzianità delle startup | D19: 2025-2026 | E19: Camera di Commercio Monte Rosa Laghi Alto Piemonte
A20: 12 | C20: Settori produttivi | D20: 2021-2025 | E20: Camera di Commercio Monte Rosa Laghi Alto Piemonte
A21: 13 | B21: Produzione industriale ed esportazioni | C21: Valore aggiunto | D21: 2018-2024 | E21: Camera di Commercio Monte Rosa Laghi Alto Piemonte
A22: 14 | C22: Produzione industriale | D22: 2020-2025 | E22: Camera di Commercio Monte Rosa Laghi Alto Piemonte
A23: 15 | C23: Esportazioni | D23: 2020-2025 | E23: Camera di Commercio Monte Rosa Laghi Alto Piemonte
A24: 16 | C24: Imprese associate per settore e dimensione | D24: 2023-2025 | E24: Unione Industriale Biellese
A25: 17 | B25: Turismo e territorio | C25: Numero esercizi ricettivi | D25: 2020-2025 | E25: Camera di Commercio Monte Rosa Laghi Alto Piemonte
A26: 18a | C26: Presenze turistiche dalle altre Regioni italiane | D26: 2018-2025 | E26: Camera di Commercio Monte Rosa Laghi Alto Piemonte
A27: 18b | C27: Presenze e arrivi di turisti dall'estero | D27: 2018-2025 | E27: Camera di Commercio Monte Rosa Laghi Alto Piemonte

Sheet Indicatore 1_Imprese registrate
B3: 2020 | D3: 2021 | F3: 2022 | H3: 2023 | J3: 2024 | L3: 2025
A4: Settore | B4: v.a. | C4: inc. % | D4: v.a. | E4: inc. % | F4: v.a. | G4: inc. % | H4: v.a. | I4: inc. % | J4: v.a. | K4: inc. % | L4: v.a. | M4: inc. %
A5: Agricoltura, silvicoltura e pesca | B5: 1454 | C5: =B5/$B$23 -> 0.083847529 | D5: 1447 | E5: =D5/$D$23 -> 0.085293251 | F5: 1401 | G5: =F5/$F$23 -> 0.084801162 | H5: 1374 | I5: =H5/$H$23 -> 0.085235732 | J5: 1370 | K5: =J5/$J$23 -> 0.085742896 | L5: 1337 | M5: =L5/$L$23 -> 0.084417224
A6: Estrazione di minerali da cave e miniere | B6: 5 | C6: =B6/$B$23 -> 0.00028833401 | D6: 5 | E6: =D6/$D$23 -> 0.00029472443 | F6: 5 | G6: =F6/$F$23 -> 0.00030264512 | H6: 5 | I6: =H6/$H$23 -> 0.0003101737 | J6: 5 | K6: =J6/$J$23 -> 0.00031293028 | L6: 5 | M6: =L6/$L$23 -> 0.00031569643
A7: Attività manifatturiere | B7: 2074 | C7: =B7/$B$23 -> 0.11960095 | D7: 1991 | E7: =D7/$D$23 -> 0.11735927 | F7: 1928 | G7: =F7/$F$23 -> 0.11669996 | H7: 1831 | I7: =H7/$H$23 -> 0.11358561 | J7: 1780 | K7: =J7/$J$23 -> 0.11140318 | L7: 1732 | M7: =L7/$L$23 -> 0.10935724
A8: Fornitura di servizi elettrici, gas, acqua, ecc. | B8: 89 | C8: =B8/$B$23 -> 0.0051323453 | D8: 93 | E8: =D8/$D$23 -> 0.0054818744 | F8: 95 | G8: =F8/$F$23 -> 0.0057502572 | H8: 89 | I8: =H8/$H$23 -> 0.0055210918 | J8: 87 | K8: =J8/$J$23 -> 0.0054449869 | L8: 89 | M8: =L8/$L$23 -> 0.0056193964
A9: Costruzioni | B9: 2628 | C9: =B9/$B$23 -> 0.15154835 | D9: 2544 | E9: =D9/$D$23 -> 0.14995579 | F9: 2378 | G9: =F9/$F$23 -> 0.14393802 | H9: 2345 | I9: =H9/$H$23 -> 0.14547146 | J9: 2337 | K9: =J9/$J$23 -> 0.14626361 | L9: 2276 | M9: =L9/$L$23 -> 0.14370501
A10: Commercio all'ingrosso e al dettaglio | B10: 3807 | C10: =B10/$B$23 -> 0.21953751 | D10: 3718 | E10: =D10/$D$23 -> 0.21915709 | F10: 3604 | G10: =F10/$F$23 -> 0.2181466 | H10: 3487 | I10: =H10/$H$23 -> 0.21631514 | J10: 3412 | K10: =J10/$J$23 -> 0.21354362 | L10: 2995 | M10: =L10/$L$23 -> 0.18910216
A11: Trasporto e magazzinaggio | B11: 217 | C11: =B11/$B$23 -> 0.012513696 | D11: 202 | E11: =D11/$D$23 -> 0.011906867 | F11: 201 | G11: =F11/$F$23 -> 0.012166334 | H11: 201 | I11: =H11/$H$23 -> 0.012468983 | J11: 196 | K11: =J11/$J$23 -> 0.012266867 | L11: 189 | M11: =L11/$L$23 -> 0.011933325
A12: Attività dei servizi di alloggio e di ristorazione | B12: 1216 | C12: =B12/$B$23 -> 0.07012283 | D12: 1167 | E12: =D12/$D$23 -> 0.068788683 | F12: 1127 | G12: =F12/$F$23 -> 0.06821621 | H12: 1089 | I12: =H12/$H$23 -> 0.067555831 | J12: 1075 | K12: =J12/$J$23 -> 0.06728001 | L12: 1081 | M12: =L12/$L$23 -> 0.068253567
A13: Servizi di informazione e comunicazione | B13: 297 | C13: =B13/$B$23 -> 0.01712704 | D13: 301 | E13: =D13/$D$23 -> 0.017742411 | F13: 303 | G13: =F13/$F$23 -> 0.018340294 | H13: 292 | I13: =H13/$H$23 -> 0.018114144 | J13: 298 | K13: =J13/$J$23 -> 0.018650645 | L13: 303 | M13: =L13/$L$23 -> 0.019131203
A14: Attività finanziarie e assicurative | B14: 575 | C14: =B14/$B$23 -> 0.033158411 | D14: 584 | E14: =D14/$D$23 -> 0.034423814 | F14: 575 | G14: =F14/$F$23 -> 0.034804189 | H14: 583 | I14: =H14/$H$23 -> 0.036166253 | J14: 588 | K14: =J14/$J$23 -> 0.036800601 | L14: 613 | M14: =L14/$L$23 -> 0.038704382
A15: Attività immobiliari | B15: 1821 | C15: =B15/$B$23 -> 0.10501125 | D15: 1786 | E15: =D15/$D$23 -> 0.10527557 | F15: 1784 | G15: =F15/$F$23 -> 0.10798378 | H15: 1731 | I15: =H15/$H$23 -> 0.10738213 | J15: 1722 | K15: =J15/$J$23 -> 0.10777319 | L15: 1754 | M15: =L15/$L$23 -> 0.11074631
A16: Attività professionali, scientifiche e tecniche | B16: 559 | C16: =B16/$B$23 -> 0.032235742 | D16: 561 | E16: =D16/$D$23 -> 0.033068081 | F16: 556 | G16: =F16/$F$23 -> 0.033654137 | H16: 578 | I16: =H16/$H$23 -> 0.035856079 | J16: 602 | K16: =J16/$J$23 -> 0.037676806 | L16: 559 | M16: =L16/$L$23 -> 0.03529486
... A22: Imprese non classificate | B22: 818 | C22: =B22/$B$23 -> 0.047171443 | D22: 781 | E22: =D22/$D$23 -> 0.046035956 | F22: 791 | G22: =F22/$F$23 -> 0.047878458 | H22: 741 | I22: =H22/$H$23 -> 0.045967742 | J22: 751 | K22: =J22/$J$23 -> 0.047002128 | L22: 756 | M22: =L22/$L$23 -> 0.0477333
A23: Totale | B23: =SUM(B5:B22) -> 17341 | C23: =SUM(C5:C22) -> 1 | D23: 16965 | E23: =D23/$D$23 -> 1 | F23: =SUM(F5:F22) -> 16521 | G23: =F23/$F$23 -> 1 | H23: 16120 | I23: =H23/$H$23 -> 1 | J23: 15978 | K23: =J23/$J$23 -> 1 | L23: =SUM(L5:L22) -> 15838 | M23: =L23/$L$23 -> 1
A24: Fonte: Elaborazioni Camera di Commercio Monte Rosa Laghi Alto Piemonte, Servizio Informazione Economica su dati InfoCamere
A25: Nota metodologica: eventuali differenze significative tra i dati 2024 e 2025 potrebbero essere riconducibili, almeno in parte, alla variazione dei codici ATECO intervenuta nel periodo considerato. Tale cambiamento può incidere sulla classificazione delle attività e, di conseguenza, sulla comparabilità diretta tra le due annualità.
A27: Imprese attive per settore - Provincia di Biella (2020-2025)
B28: 2020 | D28: 2021 | F28: 2022 | H28: 2023 | J28: 2024 | L28: 2025
A29: Settore | B29: v.a. | C29: % (sul totale delle imprese registrate) | D29: v.a. | E29: % (sul totale delle imprese registrate) | F29: v.a. | G29: % (sul totale delle imprese registrate) | H29: v.a. | I29: % (sul totale delle imprese registrate) | J29: v.a. | K29: % (sul totale delle imprese registrate) | L29: v.a. | M29: % (sul totale delle imprese registrate)
A30: Agricoltura, silvicoltura e pesca | B30: 1441 | C30: =B30/B5 -> 0.99105915 | D30: 1434 | E30: =D30/D5 -> 0.99101589 | F30: 1388 | G30: =F30/F5 -> 0.99072091 | H30: 1362 | I30: =H30/H5 -> 0.99126638 | J30: 1359 | K30: =J30/J5 -> 0.9919708 | L30: 1325 | M30: =L30/L5 -> 0.99102468
A31: Estrazione di minerali da cave e miniere | B31: 5 | C31: 1 | D31: 5 | E31: =D31/D6 -> 1 | F31: 5 | G31: =F31/F6 -> 1 | H31: 4 | I31: =H31/H6 -> 0.8 | J31: 4 | K31: =J31/J6 -> 0.8 | L31: 4 | M31: =L31/L6 -> 0.8
A32: Attività manifatturiere | B32: 1736 | C32: =B32/B7 -> 0.83702989 | D32: 1693 | E32: =D32/D7 -> 0.85032647 | F32: 1637 | G32: =F32/F7 -> 0.84906639 | H32: 1575 | I32: =H32/H7 -> 0.86018569 | J32: 1534 | K32: =J32/J7 -> 0.86179775 | L32: 1502 | M32: =L32/L7 -> 0.86720554
A33: Fornitura di servizi elettrici, gas, acqua, etc. | B33: 78 | C33: =B33/B8 -> 0.87640449 | D33: 82 | E33: =D33/D8 -> 0.88172043 | F33: 82 | G33: =F33/F8 -> 0.86315789 | H33: 78 | I33: =H33/H8 -> 0.87640449 | J33: 79 | K33: =J33/J8 -> 0.90804598 | L33: 81 | M33: =L33/L8 -> 0.91011236
A34: Costruzioni | B34: 2421 | C34: =B34/B9 -> 0.92123288 | D34: 2360 | E34: =D34/D9 -> 0.92767296 | F34: 2198 | G34: =F34/F9 -> 0.92430614 | H34: 2174 | I34: =H34/H9 -> 0.92707889 | J34: 2169 | K34: =J34/J9 -> 0.92811297 | L34: 2126 | M34: =L34/L9 -> 0.9340949
A35: Commercio all'ingrosso e al dettaglio | B35: 3462 | C35: =B35/B10 -> 0.90937746 | D35: 3400 | E35: =D35/D10 -> 0.91447015 | F35: 3289 | G35: =F35/F10 -> 0.91259711 | H35: 3149 | I35: =H35/H10 -> 0.90306854 | J35: 3095 | K35: =J35/J10 -> 0.90709261 | L35: 2721 | M35: =L35/L10 -> 0.90851419
A36: Trasporto e magazzinaggio | B36: 183 | C36: =B36/B11 -> 0.84331797 | D36: 172 | E36: =D36/D11 -> 0.85148515 | F36: 170 | G36: =F36/F11 -> 0.84577114 | H36: 167 | I36: =H36/H11 -> 0.83084577 | J36: 168 | K36: =J36/J11 -> 0.85714286 | L36: 161 | M36: =L36/L11 -> 0.85185185
A37: Attività dei servizi di alloggio e di ristorazione | B37: 973 | C37: =B37/B12 -> 0.80016447 | D37: 962 | E37: =D37/D12 -> 0.8243359 | F37: 921 | G37: =F37/F12 -> 0.81721384 | H37: 892 | I37: =H37/H12 -> 0.81910009 | J37: 882 | K37: =J37/J12 -> 0.82046512 | L37: 892 | M37: =L37/L12 -> 0.82516189
A38: Servizi di informazione e comunicazione | B38: 268 | C38: =B38/B13 -> 0.9023569 | D38: 277 | E38: =D38/D13 -> 0.92026578 | F38: 276 | G38: =F38/F13 -> 0.91089109 | H38: 273 | I38: =H38/H13 -> 0.93493151 | J38: 279 | K38: =J38/J13 -> 0.93624161 | L38: 283 | M38: =L38/L13 -> 0.9339934
A39: Attività finanziarie e assicurative | B39: 556 | C39: =B39/B14 -> 0.96695652 | D39: 569 | E39: =D39/D14 -> 0.97431507 | F39: 560 | G39: =F39/F14 -> 0.97391304 | H39: 567 | I39: =H39/H14 -> 0.97255575 | J39: 574 | K39: =J39/J14 -> 0.97619048 | L39: 597 | M39: =L39/L14 -> 0.97389886
A40: Attività immobiliari | B40: 1694 | C40: =B40/B15 -> 0.9302581 | D40: 1656 | E40: =D40/D15 -> 0.92721165 | F40: 1649 | G40: =F40/F15 -> 0.92432735 | H40: 1608 | I40: =H40/H15 -> 0.92894281 | J40: 1604 | K40: =J40/J15 -> 0.93147503 | L40: 1627 | M40: =L40/L15 -> 0.92759407
A41: Attività professionali, scientifiche e tecniche | B41: 495 | C41: =B41/B16 -> 0.88550984 | D41: 513 | E41: =D41/D16 -> 0.9144385 | F41: 504 | G41: =F41/F16 -> 0.90647482 | H41: 527 | I41: =H41/H16 -> 0.91176471 | J41: 554 | K41: =J41/J16 -> 0.92026578 | L41: 518 | M41: =L41/L16 -> 0.92665474
A42: Noleggio, agenzie di viaggio, servizi di supporto alle imprese | B42: 546 | C42: =B42/B17 -> 0.90397351 | D42: 548 | E42: =D42/D17 -> 0.90878939 | F42: 553 | G42: =F42/F17 -> 0.90655738 | H42: 542 | I42: =H42/H17 -> 0.90183028 | J42: 539 | K42: =J42/J17 -> 0.91822828 | L42: 597 | M42: =L42/L17 -> 0.92990654
A43: Istruzione | B43: 76 | C43: =B43/B18 -> 0.9047619 | D43: 78 | E43: =D43/D18 -> 0.90697674 | F43: 79 | G43: =F43/F18 -> 0.91860465 | H43: 84 | I43: =H43/H18 -> 0.93333333 | J43: 85 | K43: =J43/J18 -> 0.93406593 | L43: 80 | M43: =L43/L18 -> 0.8988764
... A47: Imprese non classificate | B47: 2 | C47: =B47/B22 -> 0.0024449878 | D47: 2 | E47: =D47/D22 -> 0.0025608195 | F47: 5 | G47: =F47/F22 -> 0.0063211125 | H47: 1 | I47: =H47/H22 -> 0.0013495277 | J47: 1 | K47: =J47/J22 -> 0.0013315579 | L47: 11 | M47: =L47/L22 -> 0.014550265
A48: Totale | B48: =SUM(B30:B47) -> 14968 | C48: =B48/B23 -> 0.86315668 | D48: =SUM(D30:D47) -> 14796 | E48: =D48/D23 -> 0.87214854 | F48: =SUM(F30:F47) -> 14338 | G48: =F48/F23 -> 0.86786514 | H48: =SUM(H30:H47) -> 14029 | I48: =H48/H23 -> 0.87028536 | J48: =SUM(J30:J47) -> 13953 | K48: =J48/J23 -> 0.87326324 | L48: =SUM(L30:L47) -> 13867 | M48: =L48/L23 -> 0.87555247
A50: Fonte: Elaborazioni Camera di Commercio Monte Rosa Laghi Alto Piemonte, Servizio Informazione Economica su dati InfoCamere
A51: Nota: le imprese registrate sono le imprese presenti nell’archivio Registro Imprese e non cessate, indipendentemente dallo stato effettivo di attività (attiva, inattiva, sospesa, in liquidazione, fallita). Le imprese attive sono invece le imprese presenti nel Registro che esercitano l’attività e non risultano avere procedure concorsuali in atto.
A52: Nota metodologica: eventuali differenze significative tra i dati 2024 e 2025 potrebbero essere riconducibili, almeno in parte, alla variazione dei codici ATECO intervenuta nel periodo considerato. Tale cambiamento può incidere sulla classificazione delle attività e, di conseguenza, sulla comparabilità diretta tra le due annualità.

Sheet Indicatore 2_Imprese artigiane
A1: Imprese artigiane, incidenza sul totale delle imprese registrate e distribuzione per settore - Provincia di Biella (2020-2025)
B3: 2020 | D3: 2021 | F3: 2022 | I3: 2023 | L3: 2024 | O3: 2025
A4: Settore | B4: v.a. | C4: % sul totale delle imprese registrate | D4: v.a. | E4: % sul totale delle imprese registrate | F4: v.a. | G4: % sul totale delle imprese registrate | H4: var. % rispetto all'annualità precedente | I4: v.a. | J4: % sul totale delle imprese registrate | K4: var. % rispetto all'annualità precedente | L4: v.a. | M4: % sul totale delle imprese registrate | N4: var. % rispetto all'annualità precedente | O4: v.a. | P4: % sul totale delle imprese registrate | Q4: var. % rispetto all'annualità precedente
A5: Agricoltura, silvicoltura e pesca | B5: 39 | C5: 0.026822558 | D5: 42 | E5: =D5/'Indicatore 1_Imprese registrate'!D5 -> 0.02902557 | F5: 40 | G5: =F5/'Indicatore 1_Imprese registrate'!F5 -> 0.028551035 | H5: =(F5-D5)/D5 -> -0.047619048 | I5: 43 | J5: =I5/'Indicatore 1_Imprese registrate'!H5 -> 0.031295488 | K5: =(I5-F5)/F5 -> 0.075 | L5: 46 | M5: =L5/'Indicatore 1_Imprese registrate'!J5 -> 0.033576642 | N5: =(L5-I5)/I5 -> 0.069767442 | O5: 45 | P5: =O5/'Indicatore 1_Imprese registrate'!L5 -> 0.033657442 | Q5: =(O5-L5)/L5 -> -0.02173913
A6: Estrazione di minerali da cave e miniere | B6: 2 | C6: 0.4 | D6: 2 | E6: =D6/'Indicatore 1_Imprese registrate'!D6 -> 0.4 | F6: 2 | G6: =F6/'Indicatore 1_Imprese registrate'!F6 -> 0.4 | H6: =(F6-D6)/D6 -> 0 | I6: 2 | J6: =I6/'Indicatore 1_Imprese registrate'!H6 -> 0.4 | K6: =(I6-F6)/F6 -> 0 | L6: 2 | M6: =L6/'Indicatore 1_Imprese registrate'!J6 -> 0.4 | N6: =(L6-I6)/I6 -> 0 | O6: 2 | P6: =O6/'Indicatore 1_Imprese registrate'!L6 -> 0.4 | Q6: =(O6-L6)/L6 -> 0
A7: Attività manifatturiere | B7: 1142 | C7: 0.55062681 | D7: 1103 | E7: =D7/'Indicatore 1_Imprese registrate'!D7 -> 0.55399297 | F7: 1055 | G7: =F7/'Indicatore 1_Imprese registrate'!F7 -> 0.54719917 | H7: =(F7-D7)/D7 -> -0.043517679 | I7: 1003 | J7: =I7/'Indicatore 1_Imprese registrate'!H7 -> 0.54778809 | K7: =(I7-F7)/F7 -> -0.0492891 | L7: 997 | M7: =L7/'Indicatore 1_Imprese registrate'!J7 -> 0.56011236 | N7: =(L7-I7)/I7 -> -0.0059820538 | O7: 980 | P7: =O7/'Indicatore 1_Imprese registrate'!L7 -> 0.56581986 | Q7: =(O7-L7)/L7 -> -0.017051153
A8: Fornitura di acqua, reti fognarie, attività di gestione | B8: 11 | C8: 0.12359551 | D8: 11 | E8: =D8/'Indicatore 1_Imprese registrate'!D8 -> 0.11827957 | F8: 9 | G8: =F8/'Indicatore 1_Imprese registrate'!F8 -> 0.094736842 | H8: =(F8-D8)/D8 -> -0.18181818 | I8: 10 | J8: =I8/'Indicatore 1_Imprese registrate'!H8 -> 0.11235955 | K8: =(I8-F8)/F8 -> 0.11111111 | L8: 9 | M8: =L8/'Indicatore 1_Imprese registrate'!J8 -> 0.10344828 | N8: =(L8-I8)/I8 -> -0.1 | O8: 9 | P8: =O8/'Indicatore 1_Imprese registrate'!L8 -> 0.1011236 | Q8: =(O8-L8)/L8 -> 0
A9: Costruzioni | B9: 2055 | C9: 0.78196347 | D9: 1991 | E9: =D9/'Indicatore 1_Imprese registrate'!D9 -> 0.78262579 | F9: 1839 | G9: =F9/'Indicatore 1_Imprese registrate'!F9 -> 0.77333894 | H9: =(F9-D9)/D9 -> -0.076343546 | I9: 1806 | J9: =I9/'Indicatore 1_Imprese registrate'!H9 -> 0.77014925 | K9: =(I9-F9)/F9 -> -0.017944535 | L9: 1800 | M9: =L9/'Indicatore 1_Imprese registrate'!J9 -> 0.77021823 | N9: =(L9-I9)/I9 -> -0.0033222591 | O9: 1792 | P9: =O9/'Indicatore 1_Imprese registrate'!L9 -> 0.78734622 | Q9: =(O9-L9)/L9 -> -0.0044444444
A10: Commercio all'ingrosso e al dettaglio | B10: 323 | C10: 0.084843709 | D10: 326 | E10: =D10/'Indicatore 1_Imprese registrate'!D10 -> 0.087681549 | F10: 322 | G10: =F10/'Indicatore 1_Imprese registrate'!F10 -> 0.089345172 | H10: =(F10-D10)/D10 -> -0.012269939 | I10: 311 | J10: =I10/'Indicatore 1_Imprese registrate'!H10 -> 0.089188414 | K10: =(I10-F10)/F10 -> -0.034161491 | L10: 304 | M10: =L10/'Indicatore 1_Imprese registrate'!J10 -> 0.089097304 | N10: =(L10-I10)/I10 -> -0.022508039 | O10: 13 | P10: =O10/'Indicatore 1_Imprese registrate'!L10 -> 0.0043405676 | Q10: =(O10-L10)/L10 -> -0.95723684
A11: Trasporto e magazzinaggio | B11: 117 | C11: 0.53917051 | D11: 113 | E11: =D11/'Indicatore 1_Imprese registrate'!D11 -> 0.55940594 | F11: 113 | G11: =F11/'Indicatore 1_Imprese registrate'!F11 -> 0.56218905 | H11: =(F11-D11)/D11 -> 0 | I11: 113 | J11: =I11/'Indicatore 1_Imprese registrate'!H11 -> 0.56218905 | K11: =(I11-F11)/F11 -> 0 | L11: 109 | M11: =L11/'Indicatore 1_Imprese registrate'!J11 -> 0.55612245 | N11: =(L11-I11)/I11 -> -0.03539823 | O11: 107 | P11: =O11/'Indicatore 1_Imprese registrate'!L11 -> 0.56613757 | Q11: =(O11-L11)/L11 -> -0.018348624
A12: Attività dei servizi di alloggio e di ristorazione | B12: 121 | C12: 0.099506579 | D12: 129 | E12: =D12/'Indicatore 1_Imprese registrate'!D12 -> 0.11053985 | F12: 123 | G12: =F12/'Indicatore 1_Imprese registrate'!F12 -> 0.10913931 | H12: =(F12-D12)/D12 -> -0.046511628 | I12: 118 | J12: =I12/'Indicatore 1_Imprese registrate'!H12 -> 0.10835629 | K12: =(I12-F12)/F12 -> -0.040650407 | L12: 119 | M12: =L12/'Indicatore 1_Imprese registrate'!J12 -> 0.11069767 | N12: =(L12-I12)/I12 -> 0.0084745763 | O12: 120 | P12: =O12/'Indicatore 1_Imprese registrate'!L12 -> 0.11100833 | Q12: =(O12-L12)/L12 -> 0.0084033613
A13: Servizi di informazione e comunicazione | B13: 45 | C13: 0.15151515 | D13: 52 | E13: =D13/'Indicatore 1_Imprese registrate'!D13 -> 0.17275748 | F13: 54 | G13: =F13/'Indicatore 1_Imprese registrate'!F13 -> 0.17821782 | H13: =(F13-D13)/D13 -> 0.038461538 | I13: 51 | J13: =I13/'Indicatore 1_Imprese registrate'!H13 -> 0.17465753 | K13: =(I13-F13)/F13 -> -0.055555556 | L13: 54 | M13: =L13/'Indicatore 1_Imprese registrate'!J13 -> 0.18120805 | N13: =(L13-I13)/I13 -> 0.058823529 | O13: 60 | P13: =O13/'Indicatore 1_Imprese registrate'!L13 -> 0.1980198 | Q13: =(O13-L13)/L13 -> 0.11111111
A14: Attività immobiliari | B14: 2 | C14: 0.0010982976 | D14: 2 | E14: =D14/'Indicatore 1_Imprese registrate'!D15 -> 0.0011198208 | F14: 2 | G14: =F14/'Indicatore 1_Imprese registrate'!F15 -> 0.0011210762 | H14: =(F14-D14)/D14 -> 0 | I14: 2 | J14: =I14/'Indicatore 1_Imprese registrate'!H15 -> 0.0011554015 | K14: =(I14-F14)/F14 -> 0 | L14: 2 | M14: =L14/'Indicatore 1_Imprese registrate'!J14 -> 0.0034013605 | N14: =(L14-I14)/I14 -> 0 | O14: 2 | P14: =O14/'Indicatore 1_Imprese registrate'!L15 -> 0.0011402509 | Q14: =(O14-L14)/L14 -> 0
A15: Attività professionali, scientifiche e tecniche | B15: 93 | C15: 0.16636852 | D15: 92 | E15: =D15/'Indicatore 1_Imprese registrate'!D16 -> 0.16399287 | F15: 84 | G15: =F15/'Indicatore 1_Imprese registrate'!F16 -> 0.15107914 | H15: =(F15-D15)/D15 -> -0.086956522 | I15: 78 | J15: =I15/'Indicatore 1_Imprese registrate'!H16 -> 0.1349481 | K15: =(I15-F15)/F15 -> -0.071428571 | L15: 80 | M15: =L15/'Indicatore 1_Imprese registrate'!J15 -> 0.046457607 | N15: =(L15-I15)/I15 -> 0.025641026 | O15: 77 | P15: =O15/'Indicatore 1_Imprese registrate'!L16 -> 0.13774597 | Q15: =(O15-L15)/L15 -> -0.0375
A16: Noleggio, agenzie di viaggio, servizi di supporto alle imprese | B16: 291 | C16: 0.48178808 | D16: 295 | E16: =D16/'Indicatore 1_Imprese registrate'!D17 -> 0.48922056 | F16: 303 | G16: =F16/'Indicatore 1_Imprese registrate'!F17 -> 0.49672131 | H16: =(F16-D16)/D16 -> 0.027118644 | I16: 292 | J16: =I16/'Indicatore 1_Imprese registrate'!H17 -> 0.48585691 | K16: =(I16-F16)/F16 -> -0.03630363 | L16: 278 | M16: =L16/'Indicatore 1_Imprese registrate'!J16 -> 0.46179402 | N16: =(L16-I16)/I16 -> -0.047945205 | O16: 292 | P16: =O16/'Indicatore 1_Imprese registrate'!L17 -> 0.45482866 | Q16: =(O16-L16)/L16 -> 0.050359712
A17: Istruzione | B17: 8 | C17: 0.095238095 | D17: 8 | E17: =D17/'Indicatore 1_Imprese registrate'!D18 -> 0.093023256 | F17: 8 | G17: =F17/'Indicatore 1_Imprese registrate'!F18 -> 0.093023256 | H17: =(F17-D17)/D17 -> 0 | I17: 8 | J17: =I17/'Indicatore 1_Imprese registrate'!H18 -> 0.088888889 | K17: =(I17-F17)/F17 -> 0 | L17: 8 | M17: =L17/'Indicatore 1_Imprese registrate'!J17 -> 0.01362862 | N17: =(L17-I17)/I17 -> 0 | O17: 8 | P17: =O17/'Indicatore 1_Imprese registrate'!L18 -> 0.08988764 | Q17: =(O17-L17)/L17 -> 0
A18: Sanità e assistenza sociale | B18: 3 | C18: 0.032258065 | D18: 3 | E18: =D18/'Indicatore 1_Imprese registrate'!D19 -> 0.031914894 | F18: 3 | G18: =F18/'Indicatore 1_Imprese registrate'!F19 -> 0.032258065 | H18: =(F18-D18)/D18 -> 0 | I18: 4 | J18: =I18/'Indicatore 1_Imprese registrate'!H19 -> 0.043010753 | K18: =(I18-F18)/F18 -> 0.33333333 | L18: 3 | M18: =L18/'Indicatore 1_Imprese registrate'!J18 -> 0.032967033 | N18: =(L18-I18)/I18 -> -0.25 | O18: 4 | P18: =O18/'Indicatore 1_Imprese registrate'!L19 -> 0.043956044 | Q18: =(O18-L18)/L18 -> 0.33333333
A19: Attività artistiche, sportive, di intrattenimento | B19: 9 | C19: 0.048387097 | D19: 12 | E19: =D19/'Indicatore 1_Imprese registrate'!D20 -> 0.063829787 | F19: 10 | G19: =F19/'Indicatore 1_Imprese registrate'!F20 -> 0.055248619 | H19: =(F19-D19)/D19 -> -0.16666667 | I19: 8 | J19: =I19/'Indicatore 1_Imprese registrate'!H20 -> 0.041237113 | K19: =(I19-F19)/F19 -> -0.2 | L19: 9 | M19: =L19/'Indicatore 1_Imprese registrate'!J19 -> 0.10465116 | N19: =(L19-I19)/I19 -> 0.125 | O19: 10 | P19: =O19/'Indicatore 1_Imprese registrate'!L20 -> 0.047393365 | Q19: =(O19-L19)/L19 -> 0.11111111
A20: Altre attività di servizi | B20: 674 | C20: 0.82800983 | D20: 678 | E20: =D20/'Indicatore 1_Imprese registrate'!D21 -> 0.83292383 | F20: 669 | G20: =F20/'Indicatore 1_Imprese registrate'!F21 -> 0.83312578 | H20: =(F20-D20)/D20 -> -0.013274336 | I20: 660 | J20: =I20/'Indicatore 1_Imprese registrate'!H21 -> 0.82914573 | K20: =(I20-F20)/F20 -> -0.013452915 | L20: 651 | M20: =L20/'Indicatore 1_Imprese registrate'!J21 -> 0.82824427 | N20: =(L20-I20)/I20 -> -0.013636364 | O20: 926 | P20: =O20/'Indicatore 1_Imprese registrate'!L21 -> 0.8297491 | Q20: =(O20-L20)/L20 -> 0.42242704
A21: Imprese non classificate | B21: 2 | C21: 0.0024449878 | D21: 3 | E21: =D21/'Indicatore 1_Imprese registrate'!D22 -> 0.0038412292 | F21: 2 | G21: =F21/'Indicatore 1_Imprese registrate'!F22 -> 0.002528445 | H21: =(F21-D21)/D21 -> -0.33333333 | I21: 1 | J21: =I21/'Indicatore 1_Imprese registrate'!H22 -> 0.0013495277 | K21: =(I21-F21)/F21 -> -0.5 | L21: 1 | M21: =L21/'Indicatore 1_Imprese registrate'!J21 -> 0.0012722646 | N21: =(L21-I21)/I21 -> 0 | O21: 4 | P21: =O21/'Indicatore 1_Imprese registrate'!L22 -> 0.0052910053 | Q21: =(O21-L21)/L21 -> 3
A22: Totale | B22: =SUM(B5:B21) -> 4937 | C22: 0.284701 | D22: 4862 | E22: =D22/'Indicatore 1_Imprese registrate'!D23 -> 0.28659004 | F22: =SUM(F5:F21) -> 4638 | G22: =F22/'Indicatore 1_Imprese registrate'!F23 -> 0.28073361 | H22: =(F22-D22)/D22 -> -0.046071575 | I22: 4510 | J22: =I22/'Indicatore 1_Imprese registrate'!H23 -> 0.27977667 | K22: =(I22-F22)/F22 -> -0.027598103 | L22: =SUM(L5:L21) -> 4472 | M22: =L22/'Indicatore 1_Imprese registrate'!J23 -> 0.27988484 | N22: =(L22-I22)/I22 -> -0.0084257206 | O22: 4451 | P22: =O22/'Indicatore 1_Imprese registrate'!L23 -> 0.28103296 | Q22: =(O22-L22)/L22 -> -0.0046958855
A23: Fonte: Elaborazioni Camera di Commercio Monte Rosa Laghi Alto Piemonte
A24: Nota metodologica: eventuali differenze significative tra i dati 2024 e 2025 potrebbero essere riconducibili, almeno in parte, alla variazione dei codici ATECO intervenuta nel periodo considerato. Tale cambiamento può incidere sulla classificazione delle attività e, di conseguenza, sulla comparabilità diretta tra le due annualità.
A27: Imprese artigiane per settore - Provincia di Biella (2020-2024)
B28: 2020 | D28: 2021 | F28: 2022 | H28: 2023 | J28: 2024 | L28: 2025
A29: Settore | B29: v.a. | C29: % sul totale delle artigiane | D29: v.a. | E29: % sul totale delle artigiane | F29: v.a. | G29: % sul totale delle artigiane | H29: v.a. | I29: % sul totale delle artigiane | J29: v.a. | K29: % sul totale delle artigiane | L29: v.a. | M29: % sul totale delle artigiane
A30: Agricoltura, silvicoltura pesca | B30: 39 | C30: =B30/$B$47 -> 0.0078995341 | D30: 42 | E30: =D30/$D$47 -> 0.0086384204 | F30: 40 | G30: =F30/$F$47 -> 0.0086244071 | H30: 43 | I30: =H30/$H$47 -> 0.0095343681 | J30: 46 | K30: =J30/$J$47 -> 0.010286225 | L30: 45 | M30: =L30/$L$47 -> 0.010110088
A31: Estrazione di minerali da cave e miniere | B31: 2 | C31: =B31/$B$47 -> 0.00040510431 | D31: 2 | E31: =D31/$D$47 -> 0.00041135335 | F31: 2 | G31: =F31/$F$47 -> 0.00043122035 | H31: 2 | I31: =H31/$H$47 -> 0.00044345898 | J31: 2 | K31: =J31/$J$47 -> 0.00044722719 | L31: 2 | M31: =L31/$L$47 -> 0.00044933723
A32: Attività manifatturiere | B32: 1142 | C32: =B32/$B$47 -> 0.23131456 | D32: 1103 | E32: =D32/$D$47 -> 0.22686137 | F32: 1055 | G32: =F32/$F$47 -> 0.22746874 | H32: 1003 | I32: =H32/$H$47 -> 0.22239468 | J32: 997 | K32: =J32/$J$47 -> 0.22294275 | L32: 980 | M32: =L32/$L$47 -> 0.22017524
A33: Fornitura di acqua, reti fognarie, attività di gestione | B33: 11 | C33: =B33/$B$47 -> 0.0022280737 | D33: 11 | E33: =D33/$D$47 -> 0.0022624434 | F33: 9 | G33: =F33/$F$47 -> 0.0019404916 | H33: 10 | I33: =H33/$H$47 -> 0.0022172949 | J33: 9 | K33: =J33/$J$47 -> 0.0020125224 | L33: 9 | M33: =L33/$L$47 -> 0.0020220175
A34: Costruzioni | B34: 2055 | C34: =B34/$B$47 -> 0.41624468 | D34: 1991 | E34: =D34/$D$47 -> 0.40950226 | F34: 1839 | G34: =F34/$F$47 -> 0.39650712 | H34: 1806 | I34: =H34/$H$47 -> 0.40044346 | J34: 1800 | K34: =J34/$J$47 -> 0.40250447 | L34: 1792 | M34: =L34/$L$47 -> 0.40260616
A35: Commercio all'ingrosso e al dettaglio | B35: 323 | C35: =B35/$B$47 -> 0.065424347 | D35: 326 | E35: =D35/$D$47 -> 0.067050596 | F35: 322 | G35: =F35/$F$47 -> 0.069426477 | H35: 311 | I35: =H35/$H$47 -> 0.068957871 | J35: 304 | K35: =J35/$J$47 -> 0.067978533 | L35: 13 | M35: =L35/$L$47 -> 0.002920692
A36: Trasporto e magazzinaggio | B36: 117 | C36: =B36/$B$47 -> 0.023698602 | D36: 113 | E36: =D36/$D$47 -> 0.023241464 | F36: 113 | G36: =F36/$F$47 -> 0.02436395 | H36: 113 | I36: =H36/$H$47 -> 0.025055432 | J36: 109 | K36: =J36/$J$47 -> 0.024373882 | L36: 107 | M36: =L36/$L$47 -> 0.024039542
A37: Attività dei servizi di alloggio e di ristorazione | B37: 121 | C37: =B37/$B$47 -> 0.024508811 | D37: 129 | E37: =D37/$D$47 -> 0.026532291 | F37: 123 | G37: =F37/$F$47 -> 0.026520052 | H37: 118 | I37: =H37/$H$47 -> 0.02616408 | J37: 119 | K37: =J37/$J$47 -> 0.026610018 | L37: 120 | M37: =L37/$L$47 -> 0.026960234
A38: Servizi di informazione e comunicazione | B38: 45 | C38: =B38/$B$47 -> 0.0091148471 | D38: 52 | E38: =D38/$D$47 -> 0.010695187 | F38: 54 | G38: =F38/$F$47 -> 0.01164295 | H38: 51 | I38: =H38/$H$47 -> 0.011308204 | J38: 54 | K38: =J38/$J$47 -> 0.012075134 | L38: 60 | M38: =L38/$L$47 -> 0.013480117
A39: Attività immobiliari | B39: 2 | C39: =B39/$B$47 -> 0.00040510431 | D39: 2 | E39: =D39/$D$47 -> 0.00041135335 | F39: 2 | G39: =F39/$F$47 -> 0.00043122035 | H39: 2 | I39: =H39/$H$47 -> 0.00044345898 | J39: 2 | K39: =J39/$J$47 -> 0.00044722719 | L39: 2 | M39: =L39/$L$47 -> 0.00044933723
A40: Attività professionali, scientifiche e tecniche | B40: 93 | C40: =B40/$B$47 -> 0.018837351 | D40: 92 | E40: =D40/$D$47 -> 0.018922254 | F40: 84 | G40: =F40/$F$47 -> 0.018111255 | H40: 78 | I40: =H40/$H$47 -> 0.0172949 | J40: 80 | K40: =J40/$J$47 -> 0.017889088 | L40: 77 | M40: =L40/$L$47 -> 0.017299483
A41: Noleggio, agenzie di viaggio, servizi di supporto alle imprese | B41: 291 | C41: =B41/$B$47 -> 0.058942678 | D41: 295 | E41: =D41/$D$47 -> 0.060674619 | F41: 303 | G41: =F41/$F$47 -> 0.065329884 | H41: 292 | I41: =H41/$H$47 -> 0.064745011 | J41: 278 | K41: =J41/$J$47 -> 0.06216458 | L41: 292 | M41: =L41/$L$47 -> 0.065603235
... A46: Imprese non classificate | B46: 2 | C46: =B46/$B$47 -> 0.00040510431 | D46: 3 | E46: =D46/$D$47 -> 0.00061703003 | F46: 2 | G46: =F46/$F$47 -> 0.00043122035 | H46: 1 | I46: =H46/$H$47 -> 0.00022172949 | J46: 1 | K46: =J46/$J$47 -> 0.0002236136 | L46: 4 | M46: =L46/$L$47 -> 0.00089867446
A47: Totale | B47: =SUM(B30:B46) -> 4937 | C47: =B47/$B$47 -> 1 | D47: 4862 | E47: =D47/$D$47 -> 1 | F47: =SUM(F30:F46) -> 4638 | G47: =F47/$F$47 -> 1 | H47: 4510 | I47: =H47/$H$47 -> 1 | J47: =SUM(J30:J46) -> 4472 | K47: =J47/$J$47 -> 1 | L47: 4451 | M47: =L47/$L$47 -> 1
...

Sheet Indicatore 3_CIG
A1: Ore autorizzate di Cassa Integrazione Guadagni - Italia, Piemonte e Provincia di Biella (2021-2025)
B3: Italia | L3: Biella | V3: Piemonte
B4: 2021 | D4: 2022 | F4: 2023 | H4: 2024 | J4: 2025 | L4: 2021 | N4: 2022 | P4: 2023 | R4: 2024 | T4: 2025 | V4: 2021 | X4: 2022 | Z4: 2023 | AB4: 2024 | AD4: 2025
B5: v.a. | C5: % | D5: v.a. | E5: % | F5: v.a. | G5: % | H5: v.a. | I5: % | J5: v.a. | K5: % | L5: v.a. | M5: % | N5: v.a. | O5: % | P5: v.a. | Q5: % | R5: v.a. | S5: % | T5: v.a. | U5: % | V5: v.a. | W5: % | X5: v.a. | Y5: % | Z5: v.a. | AA5: % | AB5: v.a. | AC5: % | AD5: v.a. | AE5: %
A6: Ordinaria | B6: 3213324 | C6: =B6/$B$9 -> 0.74891991 | D6: 1606640 | E6: =D6/$D$9 -> 0.58342378 | F6: 229557186 | G6: =F6/$F$9 -> 0.57226277 | H6: 328124656 | I6: =H6/$H$9 -> 0.65877298 | J6: 284946268 | K6: =J6/$J$9 -> 0.52397391 | L6: 41938952 | M6: =L6/$L$9 -> 0.53859008 | N6: 26190983 | O6: =N6/$N$9 -> 0.62231609 | P6: 1710678 | Q6: =P6/$P$9 -> 0.61397896 | R6: 4659406 | S6: =R6/$R$9 -> 0.94056221 | T6: 3108912 | U6: =T6/$T$9 -> 0.74708212 | V6: 447643761 | W6: =V6/$V$9 -> 0.50332087 | X6: 237935223 | Y6: =X6/$X$9 -> 0.50797541 | Z6: 20483744 | AA6: =Z6/$Z$9 -> 0.66016942 | AB6: 35726880 | AC6: =AB6/$AB$9 -> 0.6974626 | AD6: 35758704 | AE6: =AD6/$AD$9 -> 0.58296048
A7: Straordinaria | B7: 101042 | C7: =B7/$B$9 -> 0.02354956 | D7: 1113038 | E7: =D7/$D$9 -> 0.40418068 | F7: 169915996 | G7: =F7/$F$9 -> 0.42358333 | H7: 167743449 | I7: =H7/$H$9 -> 0.33677704 | J7: 249425183 | K7: =J7/$J$9 -> 0.4586559 | L7: 4516965 | M7: =L7/$L$9 -> 0.058007948 | N7: 14047292 | O7: =N7/$N$9 -> 0.33377349 | P7: 1075538 | Q7: =P7/$P$9 -> 0.38602104 | R7: 294446 | S7: =R7/$R$9 -> 0.059437787 | T7: 1052494 | U7: =T7/$T$9 -> 0.25291788 | V7: 71158019 | W7: =V7/$V$9 -> 0.080008523 | X7: 202280193 | Y7: =X7/$X$9 -> 0.43185437 | Z7: 10311007 | AA7: =Z7/$Z$9 -> 0.33231286 | AB7: 15464550 | AC7: =AB7/$AB$9 -> 0.3019 | AD7: 25580690 | AE7: =AD7/$AD$9 -> 0.41703221
A8: Deroga | B8: 976245 | C8: =B8/$B$9 -> 0.22753053 | D8: 34135 | E8: =D8/$D$9 -> 0.01239554 | F8: 1666292 | G8: =F8/$F$9 -> 0.0041538969 | H8: 2216464 | I8: =H8/$H$9 -> 0.0044499752 | J8: 446214 | K8: =J8/$J$9 -> 0.00082052134 | L8: 31412119 | M8: =L8/$L$9 -> 0.40340197 | N8: 1848027 | O8: =N8/$N$9 -> 0.043910415 | P8: 0 | Q8: =P8/$P$9 -> 0 | R8: 0 | S8: =R8/$R$9 -> 0 | T8: 0 | U8: =T8/$T$9 -> 0 | V8: 370578709 | W8: =V8/$V$9 -> 0.41667061 | X8: 28183676 | Y8: =X8/$X$9 -> 0.060170219 | Z8: 233260 | AA8: =Z8/$Z$9 -> 0.0075177233 | AB8: 32650 | AC8: =AB8/$AB$9 -> 0.00063739554 | AD8: 448 | AE8: =AD8/$AD$9 -> 7.3035728e-06
A9: Totale | B9: =SUM(B6:B8) -> 4290611 | C9: =B9/$B$9 -> 1 | D9: =SUM(D6:D8) -> 2753813 | E9: =D9/D9 -> 1 | F9: =SUM(F6:F8) -> 401139474 | G9: =F9/$F$9 -> 1 | H9: 498084569 | I9: =H9/$H$9 -> 1 | J9: 543817665 | K9: =J9/$J$9 -> 1 | L9: =SUM(L6:L8) -> 77868036 | M9: =L9/$L$9 -> 1 | N9: =SUM(N6:N8) -> 42086302 | O9: =N9/$N$9 -> 1 | P9: =SUM(P6:P8) -> 2786216 | Q9: =P9/$P$9 -> 1 | R9: 4953852 | S9: =R9/$R$9 -> 1 | T9: 4161406 | U9: =T9/$T$9 -> 1 | V9: =SUM(V6:V8) -> 889380489 | W9: =V9/$V$9 -> 1 | X9: =SUM(X6:X8) -> 468399092 | Y9: =X9/$X$9 -> 1 | Z9: =SUM(Z6:Z8) -> 31028011 | AA9: =Z9/$Z$9 -> 1 | AB9: 51224080 | AC9: =AB9/$AB$9 -> 1 | AD9: 61339842 | AE9: =AD9/$AD$9 -> 1
A10: Fonte: elaborazione su dati INPS
A12: Ore autorizzate di Cassa Integrazione Guadagni - Italia, Piemonte e Provincia di Biella (2021-2025)
B14: 2021 | F14: 2022 | J14: 2023 | N14: 2024 | R14: 2025
B15: v.a. Italia | C15: % Biella su totale Piemonte | D15: % Piemonte su totale Italia | E15: % Biella su totale italiano | F15: v.a. Italia | G15: % Biella su totale Piemonte | H15: % Piemonte su totale Italia | I15: % Biella su totale italiano) | J15: v.a. Italia | K15: % Biella su totale Piemonte | L15: % Piemonte su totale Italia | M15: % Biella su totale italiano) | N15: v.a. Italia | O15: % Biella su totale Piemonte | P15: % Piemonte su totale Italia | Q15: % Biella su totale italiano) | R15: v.a. Italia | S15: % Biella su totale Piemonte | T15: % Piemonte su totale Italia | U15: % Biella su totale italiano)
A16: Ordinaria | B16: 3213324 | C16: =B16/L6 -> 0.076619082 | D16: =L6/V6 -> 0.093688231 | E16: =B16/V6 -> 0.0071783062 | F16: 1606640 | G16: =F16/L6 -> 0.038309016 | H16: =L6/X6 -> 0.17626206 | I16: =F16/X6 -> 0.0067524261 | J16: 229557186 | K16: =P6/$Z$9 -> 0.055133344 | L16: =Z6/$F$9 -> 0.051063895 | M16: =P6/$F$9 -> 0.0042645466 | N16: 328124656 | O16: =R6/$AB$9 -> 0.090961243 | P16: =AB6/$H$9 -> 0.071728542 | Q16: =R6/$H$9 -> 0.0093546484 | R16: 284946268 | S16: =T6/$AD$9 -> 0.050683404 | T16: =AD6/$J$9 -> 0.065754951 | U16: =T6/$J$9 -> 0.0057168279
A17: Straordinaria | B17: 101042 | C17: =B17/L7 -> 0.022369445 | D17: =L7/V7 -> 0.063477948 | E17: =B17/V7 -> 0.0014199665 | F17: 1113038 | G17: =F17/L7 -> 0.2464128 | H17: =L7/X7 -> 0.022330239 | I17: - | J17: 169915996 | K17: =P7/$Z$9 -> 0.034663453 | L17: =Z7/$F$9 -> 0.025704294 | M17: =P7/$F$9 -> 0.0026812071 | N17: 167743449 | O17: =R7/$AB$9 -> 0.005748195 | P17: =AB7/$H$9 -> 0.031048041 | Q17: =R7/$H$9 -> 0.00059115664 | R17: 249425183 | S17: =T7/$AD$9 -> 0.017158407 | T17: =AD7/$J$9 -> 0.047039094 | U17: =T7/$J$9 -> 0.0019353803
A18: Deroga | B18: 976245 | C18: =B18/L8 -> 0.03107861 | D18: =L8/V8 -> 0.08476504 | E18: =B18/V8 -> 0.0026343796 | F18: 34135 | G18: =F18/L8 -> 0.0010866825 | H18: =L8/X8 -> 1.1145501 | I18: =F18/X8 -> 0.0012111621 | J18: 1666292 | K18: =P8/$Z$9 -> 0 | L18: =Z8/$F$9 -> 0.00058149351 | M18: =P8/$F$9 -> 0 | N18: 2216464 | O18: =R8/$AB$9 -> 0 | P18: =AB8/$H$9 -> 6.5551117e-05 | Q18: =R8/$H$9 -> 0 | R18: 446214 | S18: =T8/$AD$9 -> 0 | T18: =AD8/$J$9 -> 8.2380553e-07 | U18: =T8/$J$9 -> 0
A19: Totale | B19: =SUM(B16:B18) -> 4290611 | C19: =B19/L9 -> 0.055101056 | D19: =L9/V9 -> 0.087553119 | E19: =B19/V9 -> 0.0048242693 | F19: =SUM(F16:F18) -> 2753813 | G19: =F19/L9 -> 0.035365127 | H19: =L9/X9 -> 0.16624293 | I19: =F19/X9 -> 0.0058792023 | J19: =SUM(J16:J18) -> 401139474 | K19: =P9/$Z$9 -> 0.089796797 | L19: =Z9/$F$9 -> 0.077349683 | M19: =P9/$F$9 -> 0.0069457537 | N19: 498084569 | O19: =R9/$AB$9 -> 0.096709438 | P19: =AB9/$H$9 -> 0.10284213 | Q19: =R9/$H$9 -> 0.009945805 | R19: 543817665 | S19: =T9/$AD$9 -> 0.067841812 | T19: =AD9/$J$9 -> 0.11279487 | U19: =T9/$J$9 -> 0.0076522082
A20: Fonte: elaborazione su dati INPS
A21: Note: La cassa integrazione guadagni ordinaria è una misura di sostegno al reddito rivolta ai lavoratori dipendenti dell'industria, in caso di transitorie sospensioni o riduzioni delle attività produttive non imputabili al datore di lavoro o al lavoratore; ha una durata massima di 13 settimane prorogabili fino a un massimo di 12 mesi e un importo pari all'80% della retribuzione. La cassa integrazione guadagni a gestione straordinaria è rivolta ai lavoratori delle imprese industriali con più di 15 dipendenti in occasione di processi di ristrutturazione, riorganizzazione o riconversione produttiva; ha un importo pari all'80% della retribuzione e una durata massima di 3 mesi con possibilità di richiedere proroghe (senza limitazione). La cassa integrazione in deroga è un intervento di integrazione salariale a sostegno di imprese che non possono ricorrere agli strumenti ordinari perché esclusi all'origine da questa tutela o perché hanno già esaurito il periodo di fruizione delle tutele ordinarie. Il 2020 è un anno atipico per le conseguenze determinate dalla pandemia sul lavoro, sulla produzione e sul commercio: le rilevanti differenze riportate nel grafico vanno interpretate di conseguenza.

Sheet Indicatore 4_Imprese giovanili
A1: Imprese giovanili registrate, incidenza sul totale delle imprese registrate e distribuzione per settore - Provincia di Biella (2020-2025)
B3: 2020 | D3: 2021 | F3: 2022 | I3: 2023 | L3: 2024 | O3: 2025
A4: Settore | B4: v.a. | C4: % sul totale delle imprese registrate | D4: v.a. | E4: % sul totale delle imprese registrate | F4: v.a. | G4: % sul totale delle imprese registrate | H4: var. % rispetto all'annualità precedente | I4: v.a. | J4: % sul totale delle imprese registrate | K4: var. % rispetto all'annualità precedente | L4: v.a. | M4: % sul totale delle imprese registrate | N4: var. % rispetto all'annualità precedente | O4: v.a. | P4: % sul totale delle imprese registrate | Q4: var. % rispetto all'annualità precedente
A5: Agricoltura, silvicoltura pesca | B5: 145 | C5: 0.099724897 | D5: 133 | E5: =D5/'Indicatore 1_Imprese registrate'!D5 -> 0.091914305 | F5: 132 | G5: =F5/'Indicatore 1_Imprese registrate'!F5 -> 0.094218415 | H5: =(F5-D5)/D5 -> -0.007518797 | I5: 130 | J5: =I5/'Indicatore 1_Imprese registrate'!H5 -> 0.094614265 | K5: =(I5-F5)/F5 -> -0.015151515 | L5: 141 | M5: =L5/'Indicatore 1_Imprese registrate'!J5 -> 0.10291971 | N5: =(L5-I5)/I5 -> 0.084615385 | O5: 138 | P5: =O5/'Indicatore 1_Imprese registrate'!L5 -> 0.10321616 | Q5: =(O5-L5)/L5 -> -0.021276596
A6: Attività manifatturiere | B6: 66 | C6: 0.031822565 | D6: 69 | E6: =D6/'Indicatore 1_Imprese registrate'!D7 -> 0.034655952 | F6: 65 | G6: =F6/'Indicatore 1_Imprese registrate'!F7 -> 0.033713693 | H6: =(F6-D6)/D6 -> -0.057971014 | I6: 63 | J6: =I6/'Indicatore 1_Imprese registrate'!H7 -> 0.034407428 | K6: =(I6-F6)/F6 -> -0.030769231 | L6: 68 | M6: =L6/'Indicatore 1_Imprese registrate'!J7 -> 0.038202247 | N6: =(L6-I6)/I6 -> 0.079365079 | O6: 66 | P6: =O6/'Indicatore 1_Imprese registrate'!L7 -> 0.038106236 | Q6: =(O6-L6)/L6 -> -0.029411765
A7: Fornitura di servizi elettrici, gas, acqua, etc. | B7: 3 | C7: 0.033707865 | D7: 3 | E7: =D7/'Indicatore 1_Imprese registrate'!D8 -> 0.032258065 | F7: 4 | G7: =F7/'Indicatore 1_Imprese registrate'!F8 -> 0.042105263 | H7: =(F7-D7)/D7 -> 0.33333333 | I7: 4 | J7: =I7/'Indicatore 1_Imprese registrate'!H8 -> 0.04494382 | K7: =(I7-F7)/F7 -> 0 | L7: 4 | M7: =L7/'Indicatore 1_Imprese registrate'!J8 -> 0.045977011 | N7: =(L7-I7)/I7 -> 0 | O7: 6 | P7: =O7/'Indicatore 1_Imprese registrate'!L8 -> 0.06741573 | Q7: =(O7-L7)/L7 -> 0.5
A8: Costruzioni | B8: 143 | C8: 0.054414003 | D8: 135 | E8: =D8/'Indicatore 1_Imprese registrate'!D9 -> 0.053066038 | F8: 134 | G8: =F8/'Indicatore 1_Imprese registrate'!F9 -> 0.056349874 | H8: =(F8-D8)/D8 -> -0.0074074074 | I8: 140 | J8: =I8/'Indicatore 1_Imprese registrate'!H9 -> 0.059701493 | K8: =(I8-F8)/F8 -> 0.044776119 | L8: 148 | M8: =L8/'Indicatore 1_Imprese registrate'!J9 -> 0.063329054 | N8: =(L8-I8)/I8 -> 0.057142857 | O8: 140 | P8: =O8/'Indicatore 1_Imprese registrate'!L9 -> 0.061511424 | Q8: =(O8-L8)/L8 -> -0.054054054
A9: Commercio all'ingrosso e al dettaglio | B9: 251 | C9: 0.065931179 | D9: 260 | E9: =D9/'Indicatore 1_Imprese registrate'!D10 -> 0.06993007 | F9: 268 | G9: =F9/'Indicatore 1_Imprese registrate'!F10 -> 0.07436182 | H9: =(F9-D9)/D9 -> 0.030769231 | I9: 241 | J9: =I9/('Indicatore 1_Imprese registrate'!H10) -> 0.069113851 | K9: =(I9-F9)/F9 -> -0.10074627 | L9: 222 | M9: =L9/'Indicatore 1_Imprese registrate'!J10 -> 0.065064478 | N9: =(L9-I9)/I9 -> -0.078838174 | O9: 194 | P9: =O9/'Indicatore 1_Imprese registrate'!L10 -> 0.064774624 | Q9: =(O9-L9)/L9 -> -0.12612613
A10: Trasporto e magazzinaggio | B10: 8 | C10: 0.036866359 | D10: 6 | E10: =D10/'Indicatore 1_Imprese registrate'!D11 -> 0.02970297 | F10: 7 | G10: =F10/'Indicatore 1_Imprese registrate'!F11 -> 0.034825871 | H10: =(F10-D10)/D10 -> 0.16666667 | I10: 7 | J10: =I10/('Indicatore 1_Imprese registrate'!H11) -> 0.034825871 | K10: =(I10-F10)/F10 -> 0 | L10: 7 | M10: =L10/'Indicatore 1_Imprese registrate'!J11 -> 0.035714286 | N10: =(L10-I10)/I10 -> 0 | O10: 7 | P10: =O10/'Indicatore 1_Imprese registrate'!L11 -> 0.037037037 | Q10: =(O10-L10)/L10 -> 0
A11: Attività dei servizi di alloggio e di ristorazione | B11: 129 | C11: 0.10608553 | D11: 126 | E11: =D11/'Indicatore 1_Imprese registrate'!D12 -> 0.10796915 | F11: 123 | G11: =F11/'Indicatore 1_Imprese registrate'!F12 -> 0.10913931 | H11: =(F11-D11)/D11 -> -0.023809524 | I11: 118 | J11: =I11/('Indicatore 1_Imprese registrate'!H12) -> 0.10835629 | K11: =(I11-F11)/F11 -> -0.040650407 | L11: 120 | M11: =L11/'Indicatore 1_Imprese registrate'!J12 -> 0.11162791 | N11: =(L11-I11)/I11 -> 0.016949153 | O11: 117 | P11: =O11/'Indicatore 1_Imprese registrate'!L12 -> 0.10823312 | Q11: =(O11-L11)/L11 -> -0.025
A12: Servizi di informazione e comunicazione | B12: 26 | C12: 0.087542088 | D12: 28 | E12: =D12/'Indicatore 1_Imprese registrate'!D13 -> 0.093023256 | F12: 27 | G12: =F12/'Indicatore 1_Imprese registrate'!F13 -> 0.089108911 | H12: =(F12-D12)/D12 -> -0.035714286 | I12: 28 | J12: =I12/('Indicatore 1_Imprese registrate'!H13) -> 0.095890411 | K12: =(I12-F12)/F12 -> 0.037037037 | L12: 35 | M12: =L12/'Indicatore 1_Imprese registrate'!J13 -> 0.11744966 | N12: =(L12-I12)/I12 -> 0.25 | O12: 40 | P12: =O12/'Indicatore 1_Imprese registrate'!L13 -> 0.1320132 | Q12: =(O12-L12)/L12 -> 0.14285714
A13: Attività finanziarie e assicurative | B13: 58 | C13: 0.10086957 | D13: 55 | E13: =D13/'Indicatore 1_Imprese registrate'!D14 -> 0.094178082 | F13: 49 | G13: =F13/'Indicatore 1_Imprese registrate'!F14 -> 0.085217391 | H13: =(F13-D13)/D13 -> -0.10909091 | I13: 55 | J13: =I13/('Indicatore 1_Imprese registrate'!H14) -> 0.094339623 | K13: =(I13-F13)/F13 -> 0.12244898 | L13: 61 | M13: =L13/'Indicatore 1_Imprese registrate'!J14 -> 0.1037415 | N13: =(L13-I13)/I13 -> 0.10909091 | O13: 67 | P13: =O13/'Indicatore 1_Imprese registrate'!L14 -> 0.10929853 | Q13: =(O13-L13)/L13 -> 0.098360656
A14: Attività immobiliari | B14: 44 | C14: 0.024162548 | D14: 40 | E14: =D14/'Indicatore 1_Imprese registrate'!D15 -> 0.022396417 | F14: 46 | G14: =F14/'Indicatore 1_Imprese registrate'!F15 -> 0.025784753 | H14: =(F14-D14)/D14 -> 0.15 | I14: 40 | J14: =I14/('Indicatore 1_Imprese registrate'!H15) -> 0.02310803 | K14: =(I14-F14)/F14 -> -0.13043478 | L14: 42 | M14: =L14/'Indicatore 1_Imprese registrate'!J15 -> 0.024390244 | N14: =(L14-I14)/I14 -> 0.05 | O14: 40 | P14: =O14/'Indicatore 1_Imprese registrate'!L15 -> 0.022805017 | Q14: =(O14-L14)/L14 -> -0.047619048
A15: Attività professionali, scientifiche e tecniche | B15: 32 | C15: 0.057245081 | D15: 43 | E15: =D15/'Indicatore 1_Imprese registrate'!D16 -> 0.076648841 | F15: 40 | G15: =F15/'Indicatore 1_Imprese registrate'!F16 -> 0.071942446 | H15: =(F15-D15)/D15 -> -0.069767442 | I15: 45 | J15: =I15/('Indicatore 1_Imprese registrate'!H16) -> 0.077854671 | K15: =(I15-F15)/F15 -> 0.125 | L15: 54 | M15: =L15/'Indicatore 1_Imprese registrate'!J16 -> 0.089700997 | N15: =(L15-I15)/I15 -> 0.2 | O15: 55 | P15: =O15/'Indicatore 1_Imprese registrate'!L16 -> 0.098389982 | Q15: =(O15-L15)/L15 -> 0.018518519
A16: Noleggio, agenzie di viaggio, servizi di supporto alle imprese | B16: 105 | C16: 0.17384106 | D16: 104 | E16: =D16/'Indicatore 1_Imprese registrate'!D17 -> 0.17247098 | F16: 112 | G16: =F16/'Indicatore 1_Imprese registrate'!F17 -> 0.18360656 | H16: =(F16-D16)/D16 -> 0.076923077 | I16: 97 | J16: =I16/('Indicatore 1_Imprese registrate'!H17) -> 0.16139767 | K16: =(I16-F16)/F16 -> -0.13392857 | L16: 95 | M16: =L16/'Indicatore 1_Imprese registrate'!J17 -> 0.16183986 | N16: =(L16-I16)/I16 -> -0.020618557 | O16: 114 | P16: =O16/'Indicatore 1_Imprese registrate'!L17 -> 0.17757009 | Q16: =(O16-L16)/L16 -> 0.2
A17: Istruzione | B17: 1 | C17: 0.011904762 | D17: 2 | E17: =D17/'Indicatore 1_Imprese registrate'!D18 -> 0.023255814 | F17: 3 | G17: =F17/'Indicatore 1_Imprese registrate'!F18 -> 0.034883721 | H17: =(F17-D17)/D17 -> 0.5 | I17: 3 | J17: =I17/('Indicatore 1_Imprese registrate'!H18) -> 0.033333333 | K17: =(I17-F17)/F17 -> 0 | L17: 3 | M17: =L17/'Indicatore 1_Imprese registrate'!J18 -> 0.032967033 | N17: =(L17-I17)/I17 -> 0 | O17: 1 | P17: =O17/'Indicatore 1_Imprese registrate'!L18 -> 0.011235955 | Q17: =(O17-L17)/L17 -> -0.66666667
A18: Sanità e assistenza sociale | B18: 1 | C18: 0.010752688 | D18: 1 | E18: =D18/'Indicatore 1_Imprese registrate'!D19 -> 0.010638298 | F18: 2 | G18: =F18/'Indicatore 1_Imprese registrate'!F19 -> 0.021505376 | H18: =(F18-D18)/D18 -> 1 | I18: 3 | J18: =I18/('Indicatore 1_Imprese registrate'!H19) -> 0.032258065 | K18: =(I18-F18)/F18 -> 0.5 | L18: 2 | M18: =L18/'Indicatore 1_Imprese registrate'!J19 -> 0.023255814 | N18: =(L18-I18)/I18 -> -0.33333333 | O18: 2 | P18: =O18/'Indicatore 1_Imprese registrate'!L19 -> 0.021978022 | Q18: =(O18-L18)/L18 -> 0
A19: Attività artistiche, sportive, di intrattenimento e divertimento | B19: 16 | C19: 0.086021505 | D19: 16 | E19: =D19/'Indicatore 1_Imprese registrate'!D20 -> 0.085106383 | F19: 11 | G19: =F19/'Indicatore 1_Imprese registrate'!F20 -> 0.060773481 | H19: =(F19-D19)/D19 -> -0.3125 | I19: 14 | J19: =I19/('Indicatore 1_Imprese registrate'!H20) -> 0.072164948 | K19: =(I19-F19)/F19 -> 0.27272727 | L19: 14 | M19: =L19/'Indicatore 1_Imprese registrate'!J20 -> 0.068292683 | N19: =(L19-I19)/I19 -> 0 | O19: 13 | P19: =O19/'Indicatore 1_Imprese registrate'!L20 -> 0.061611374 | Q19: =(O19-L19)/L19 -> -0.071428571
A20: Altre attività di servizi | B20: 84 | C20: 0.1031941 | D20: 89 | E20: =D20/'Indicatore 1_Imprese registrate'!D21 -> 0.10933661 | F20: 87 | G20: =F20/'Indicatore 1_Imprese registrate'!F21 -> 0.10834371 | H20: =(F20-D20)/D20 -> -0.02247191 | I20: 88 | J20: =I20/('Indicatore 1_Imprese registrate'!H21) -> 0.11055276 | K20: =(I20-F20)/F20 -> 0.011494253 | L20: 83 | M20: =L20/'Indicatore 1_Imprese registrate'!J21 -> 0.10559796 | N20: =(L20-I20)/I20 -> -0.056818182 | O20: 111 | P20: =O20/'Indicatore 1_Imprese registrate'!L21 -> 0.099462366 | Q20: =(O20-L20)/L20 -> 0.3373494
A21: Imprese non classificate | B21: 50 | C21: 0.061124694 | D21: 52 | E21: =D21/'Indicatore 1_Imprese registrate'!D22 -> 0.066581306 | F21: 49 | G21: =F21/'Indicatore 1_Imprese registrate'!F22 -> 0.061946903 | H21: =(F21-D21)/D21 -> -0.057692308 | I21: 45 | J21: =I21/('Indicatore 1_Imprese registrate'!H22) -> 0.060728745 | K21: =(I21-F21)/F21 -> -0.081632653 | L21: 46 | M21: =L21/'Indicatore 1_Imprese registrate'!J22 -> 0.061251664 | N21: =(L21-I21)/I21 -> 0.022222222 | O21: 44 | P21: =O21/'Indicatore 1_Imprese registrate'!L22 -> 0.058201058 | Q21: =(O21-L21)/L21 -> -0.043478261
A22: Totale | B22: =SUM(B5:B21) -> 1162 | C22: 0.067008823 | D22: 1162 | E22: =D22/'Indicatore 1_Imprese registrate'!D23 -> 0.068493958 | F22: =SUM(F5:F21) -> 1159 | G22: =F22/'Indicatore 1_Imprese registrate'!F23 -> 0.070153138 | H22: =(F22-D22)/D22 -> -0.0025817556 | I22: 1121 | J22: =I22/('Indicatore 1_Imprese registrate'!H23) -> 0.069540943 | K22: =(I22-F22)/F22 -> -0.032786885 | L22: 1145 | M22: =L22/'Indicatore 1_Imprese registrate'!J23 -> 0.071661034 | N22: =(L22-I22)/I22 -> 0.021409456 | O22: =SUM(O5:O21) -> 1155 | P22: =O22/'Indicatore 1_Imprese registrate'!L23 -> 0.072925874 | Q22: =(O22-L22)/L22 -> 0.0087336245
A23: Fonte: Elaborazioni Camera di Commercio Monte Rosa Laghi Alto Piemonte
A24: Nota: Si considerano “imprese giovanili” le imprese la cui partecipazione del controllo e della proprietà è detenuta in prevalenza da persone di età inferiore ai 35 anni.
A25: Nota metodologica: eventuali differenze significative tra i dati 2024 e 2025 potrebbero essere riconducibili, almeno in parte, alla variazione dei codici ATECO intervenuta nel periodo considerato. Tale cambiamento può incidere sulla classificazione delle attività e, di conseguenza, sulla comparabilità diretta tra le due annualità.
A27: Imprese giovanili registrate per settore - Provincia di Biella (2020-2025)
B29: 2020 | D29: 2021 | F29: 2022 | H29: 2023 | J29: 2024 | L29: 2025
A30: Settore | B30: v.a. | C30: % sul totale delle giovanili | D30: v.a. | E30: % sul totale delle giovanili | F30: v.a. | G30: % sul totale delle giovanili | H30: v.a. | I30: % sul totale delle giovanili | J30: v.a. | K30: % sul totale delle giovanili | L30: v.a. | M30: % sul totale delle giovanili
A31: Agricoltura, silvicoltura pesca | B31: 145 | C31: =B31/$B$48 -> 0.12478485 | D31: 133 | E31: =D31/$D$48 -> 0.11445783 | F31: 132 | G31: =F31/$F$48 -> 0.11389129 | H31: 130 | I31: =H31/$H$48 -> 0.11596789 | J31: 141 | K31: =J31/$J$48 -> 0.1231441 | L31: 138 | M31: =L31/$L$48 -> 0.11948052
A32: Attività manifatturiere | B32: 66 | C32: =B32/$B$48 -> 0.056798623 | D32: 69 | E32: =D32/$D$48 -> 0.059380379 | F32: 65 | G32: =F32/$F$48 -> 0.05608283 | H32: 63 | I32: =H32/$H$48 -> 0.056199822 | J32: 68 | K32: =J32/$J$48 -> 0.059388646 | L32: 66 | M32: =L32/$L$48 -> 0.057142857
A33: Fornitura di servizi elettrici, gas, acqua, etc. | B33: 3 | C33: =B33/$B$48 -> 0.0025817556 | D33: 3 | E33: =D33/$D$48 -> 0.0025817556 | F33: 4 | G33: =F33/$F$48 -> 0.0034512511 | H33: 4 | I33: =H33/$H$48 -> 0.0035682426 | J33: 4 | K33: =J33/$J$48 -> 0.0034934498 | L33: 6 | M33: =L33/$L$48 -> 0.0051948052
A34: Costruzioni | B34: 143 | C34: =B34/$B$48 -> 0.12306368 | D34: 135 | E34: =D34/$D$48 -> 0.116179 | F34: 134 | G34: =F34/$F$48 -> 0.11561691 | H34: 140 | I34: =H34/$H$48 -> 0.12488849 | J34: 148 | K34: =J34/$J$48 -> 0.12925764 | L34: 140 | M34: =L34/$L$48 -> 0.12121212
A35: Commercio all'ingrosso e al dettaglio | B35: 251 | C35: =B35/$B$48 -> 0.21600688 | D35: 260 | E35: =D35/$D$48 -> 0.22375215 | F35: 268 | G35: =F35/$F$48 -> 0.23123382 | H35: 241 | I35: =H35/$H$48 -> 0.21498662 | J35: 222 | K35: =J35/$J$48 -> 0.19388646 | L35: 194 | M35: =L35/$L$48 -> 0.16796537
A36: Trasporto e magazzinaggio | B36: 8 | C36: =B36/$B$48 -> 0.0068846816 | D36: 6 | E36: =D36/$D$48 -> 0.0051635112 | F36: 7 | G36: =F36/$F$48 -> 0.0060396894 | H36: 7 | I36: =H36/$H$48 -> 0.0062444246 | J36: 7 | K36: =J36/$J$48 -> 0.0061135371 | L36: 7 | M36: =L36/$L$48 -> 0.0060606061
A37: Attività dei servizi di alloggio e di ristorazione | B37: 129 | C37: =B37/$B$48 -> 0.11101549 | D37: 126 | E37: =D37/$D$48 -> 0.10843373 | F37: 123 | G37: =F37/$F$48 -> 0.10612597 | H37: 118 | I37: =H37/$H$48 -> 0.10526316 | J37: 120 | K37: =J37/$J$48 -> 0.10480349 | L37: 117 | M37: =L37/$L$48 -> 0.1012987
A38: Servizi di informazione e comunicazione | B38: 26 | C38: =B38/$B$48 -> 0.022375215 | D38: 28 | E38: =D38/$D$48 -> 0.024096386 | F38: 27 | G38: =F38/$F$48 -> 0.023295945 | H38: 28 | I38: =H38/$H$48 -> 0.024977698 | J38: 35 | K38: =J38/$J$48 -> 0.030567686 | L38: 40 | M38: =L38/$L$48 -> 0.034632035
A39: Attività finanziarie e assicurative | B39: 58 | C39: =B39/$B$48 -> 0.049913941 | D39: 55 | E39: =D39/$D$48 -> 0.047332186 | F39: 49 | G39: =F39/$F$48 -> 0.042277826 | H39: 55 | I39: =H39/$H$48 -> 0.049063336 | J39: 61 | K39: =J39/$J$48 -> 0.053275109 | L39: 67 | M39: =L39/$L$48 -> 0.058008658
A40: Attività immobiliari | B40: 44 | C40: =B40/$B$48 -> 0.037865749 | D40: 40 | E40: =D40/$D$48 -> 0.034423408 | F40: 46 | G40: =F40/$F$48 -> 0.039689387 | H40: 40 | I40: =H40/$H$48 -> 0.035682426 | J40: 42 | K40: =J40/$J$48 -> 0.036681223 | L40: 40 | M40: =L40/$L$48 -> 0.034632035
A41: Attività professionali, scientifiche e tecniche | B41: 32 | C41: =B41/$B$48 -> 0.027538726 | D41: 43 | E41: =D41/$D$48 -> 0.037005164 | F41: 40 | G41: =F41/$F$48 -> 0.034512511 | H41: 45 | I41: =H41/$H$48 -> 0.04014273 | J41: 54 | K41: =J41/$J$48 -> 0.047161572 | L41: 55 | M41: =L41/$L$48 -> 0.047619048
A42: Noleggio, agenzie di viaggio, servizi di supporto alle imprese | B42: 105 | C42: =B42/$B$48 -> 0.090361446 | D42: 104 | E42: =D42/$D$48 -> 0.089500861 | F42: 112 | G42: =F42/$F$48 -> 0.09663503 | H42: 97 | I42: =H42/$H$48 -> 0.086529884 | J42: 95 | K42: =J42/$J$48 -> 0.082969432 | L42: 114 | M42: =L42/$L$48 -> 0.098701299
... A47: Imprese non classificate | B47: 50 | C47: =B47/$B$48 -> 0.04302926 | D47: 52 | E47: =D47/$D$48 -> 0.04475043 | F47: 49 | G47: =F47/$F$48 -> 0.042277826 | H47: 45 | I47: =H47/$H$48 -> 0.04014273 | J47: 46 | K47: =J47/$J$48 -> 0.040174672 | L47: 44 | M47: =L47/$L$48 -> 0.038095238
...

Sheet Indicatore 5_Imprese BIO
A1: Numero e incidenza di aziende agricole e zootecniche con certificazione bio - Piemonte e Provincia di Biella (2021-2025)
B3: 2021 | D3: 2022 | F3: 2023 | H3: 2024 | J3: 2025
B4: v.a. | C4: % sul totale delle aziende bio in Piemonte | D4: v.a. | E4: % sul totale delle aziende bio in Piemonte | F4: v.a. | G4: % sul totale delle aziende bio in Piemonte | H4: v.a. | I4: % sul totale delle aziende bio in Piemonte | J4: v.a. | K4: % sul totale delle aziende bio in Piemonte
A5: Biella | B5: 113 | C5: 0.035 | D5: 111 | E5: 0.0325 | F5: 108 | G5: 0.0325 | H5: 100 | I5: =H5/H6 -> 0.029985007 | J5: 101 | K5: =J5/J6 -> 0.032340698
A6: Piemonte | B6: 3245 | C6: 1 | D6: 3416 | E6: 1 | F6: 3441 | G6: 1 | H6: 3335 | I6: 1 | J6: 3123 | K6: 1
A7: Valore medio delle province piemontesi | B7: 405,6 | C7: -% | D7: 427 | F7: 430,12 | H7: 416.87 | J7: 390
A8: Fonte: Regione Piemonte

Sheet Indicatore 6_Imprese straniere
A1: Imprese straniere per settore - Provincia di Biella (2023-2025)
B3: 2023 | F3: 2024 | J3: 2025
B4: Registrate | D4: Cessazioni | F4: Registrate | H4: Cessazioni | J4: Registrate | L4: Cessazioni
B5: v.a. | C5: % sul totale delle registrate | D5: v.a. | E5: % sul totale delle registrate | F5: v.a. | G5: % sul totale delle registrate | H5: v.a. | I5: % sul totale delle registrate | J5: v.a. | K5: % sul totale delle registrate | L5: v.a. | M5: % sul totale delle registrate
A6: Agricoltura, silvicoltura pesca | B6: 21 | C6: =B6/'Indicatore 1_Imprese registrate'!H5 -> 0.015283843 | D6: 3 | E6: =D6/B6 -> 0.14285714 | F6: 20 | G6: =F6/'Indicatore 1_Imprese registrate'!J5 -> 0.01459854 | H6: 3 | I6: =H6/F6 -> 0.15 | J6: 22 | K6: =J6/'Indicatore 1_Imprese registrate'!L5 -> 0.016454749 | L6: 1 | M6: =L6/J6 -> 0.045454545
A7: Attività manifatturiere | B7: 69 | C7: - | D7: 4 | E7: =D7/B7 -> 0.057971014 | F7: 69 | G7: =F7/'Indicatore 1_Imprese registrate'!J7 -> 0.038764045 | H7: 2 | I7: =H7/F7 -> 0.028985507 | J7: 68 | K7: =J7/'Indicatore 1_Imprese registrate'!L7 -> 0.03926097 | L7: 3 | M7: =L7/J7 -> 0.044117647
A8: Fornitura di acqua; reti fognarie, attività di gestione dei rifiuti | B8: 3 | C8: =B8/'Indicatore 1_Imprese registrate'!H7:H23 -> 0.033707865 | D8: 0 | E8: =D8/B8 -> 0 | F8: 3 | G8: =F8/'Indicatore 1_Imprese registrate'!J8 -> 0.034482759 | H8: 0 | I8: =H8/F8 -> 0 | J8: 3 | K8: =J8/'Indicatore 1_Imprese registrate'!L8 -> 0.033707865 | L8: 1 | M8: =L8/J8 -> 0.33333333
A9: Costruzioni | B9: 271 | C9: =B9/'Indicatore 1_Imprese registrate'!H9 -> 0.11556503 | D9: 31 | E9: =D9/B9 -> 0.11439114 | F9: 293 | G9: =F9/'Indicatore 1_Imprese registrate'!J9 -> 0.12537441 | H9: 21 | I9: =H9/F9 -> 0.071672355 | J9: 307 | K9: =J9/'Indicatore 1_Imprese registrate'!L9 -> 0.13488576 | L9: 21 | M9: =L9/J9 -> 0.068403909
A10: Commercio all'ingrosso e al dettaglio; riparazione di auto | B10: 305 | C10: =B10/'Indicatore 1_Imprese registrate'!H10 -> 0.087467737 | D10: 25 | E10: =D10/B10 -> 0.081967213 | F10: 315 | G10: =F10/'Indicatore 1_Imprese registrate'!J10 -> 0.092321219 | H10: 14 | I10: =H10/F10 -> 0.044444444 | J10: 302 | K10: =J10/'Indicatore 1_Imprese registrate'!L10 -> 0.10083472 | L10: 19 | M10: =L10/J10 -> 0.062913907
A11: Trasporto e magazzinaggio | B11: 10 | C11: =B11/'Indicatore 1_Imprese registrate'!H11 -> 0.049751244 | D11: 0 | E11: =D11/B11 -> 0 | F11: 10 | G11: =F11/'Indicatore 1_Imprese registrate'!J11 -> 0.051020408 | H11: 2 | I11: =H11/F11 -> 0.2 | J11: 11 | K11: =J11/'Indicatore 1_Imprese registrate'!L11 -> 0.058201058 | L11: 0 | M11: =L11/J11 -> 0
A12: Attività dei servizi di alloggio e di ristorazione | B12: 122 | C12: =B12/'Indicatore 1_Imprese registrate'!H12 -> 0.11202938 | D12: 12 | E12: =D12/B12 -> 0.098360656 | F12: 123 | G12: =F12/'Indicatore 1_Imprese registrate'!J12 -> 0.1144186 | H12: 13 | I12: =H12/F12 -> 0.10569106 | J12: 130 | K12: =J12/'Indicatore 1_Imprese registrate'!L12 -> 0.12025902 | L12: 4 | M12: =L12/J12 -> 0.030769231
A13: Servizi di informazione e comunicazione | B13: 18 | C13: =B13/'Indicatore 1_Imprese registrate'!H13 -> 0.061643836 | D13: 0 | E13: =D13/B13 -> 0 | F13: 19 | G13: =F13/'Indicatore 1_Imprese registrate'!J13 -> 0.063758389 | H13: 0 | I13: =H13/F13 -> 0 | J13: 18 | K13: =J13/'Indicatore 1_Imprese registrate'!L13 -> 0.059405941 | L13: 6 | M13: =L13/J13 -> 0.33333333
A14: Attività finanziarie e assicurative | B14: 18 | C14: =B14/'Indicatore 1_Imprese registrate'!H14 -> 0.030874786 | D14: 0 | E14: =D14/B14 -> 0 | F14: 19 | G14: =F14/'Indicatore 1_Imprese registrate'!J14 -> 0.032312925 | H14: 0 | I14: =H14/F14 -> 0 | J14: 18 | K14: =J14/'Indicatore 1_Imprese registrate'!L14 -> 0.029363785 | L14: 1 | M14: =L14/J14 -> 0.055555556
A15: Attività immobiliari | B15: 20 | C15: =B15/'Indicatore 1_Imprese registrate'!H15 -> 0.011554015 | D15: 2 | E15: =D15/B15 -> 0.1 | F15: 21 | G15: =F15/'Indicatore 1_Imprese registrate'!J15 -> 0.012195122 | H15: 1 | I15: =H15/F15 -> 0.047619048 | J15: 22 | K15: =J14/'Indicatore 1_Imprese registrate'!L15 -> 0.010262258 | L15: 2 | M15: =L15/J15 -> 0.090909091
A16: Attività professionali, scientifiche e tecniche | B16: 24 | C16: =B16/'Indicatore 1_Imprese registrate'!H16 -> 0.041522491 | D16: 2 | E16: =D16/B16 -> 0.083333333 | F16: 25 | G16: =F16/'Indicatore 1_Imprese registrate'!J16 -> 0.041528239 | H16: 4 | I16: =H16/F16 -> 0.16 | J16: 31 | K16: =J15/'Indicatore 1_Imprese registrate'!L16 -> 0.039355993 | L16: 0 | M16: =L16/J16 -> 0
A17: Noleggio, agenzie di viaggio, servizi di supporto alle imprese | B17: 49 | C17: =B17/'Indicatore 1_Imprese registrate'!H17 -> 0.081530782 | D17: 4 | E17: =D17/B17 -> 0.081632653 | F17: 52 | G17: =F17/'Indicatore 1_Imprese registrate'!J17 -> 0.088586031 | H17: 5 | I17: =H17/F17 -> 0.096153846 | J17: 56 | K17: =J16/'Indicatore 1_Imprese registrate'!L17 -> 0.048286604 | L17: 6 | M17: =L17/J17 -> 0.10714286
